Workbook

Sheet microprogram
C1: 是公式！不要改！ | E1: (≧▽≦*) | F1: (≧▽≦*) | G1: (≧▽≦*) | H1: (≧▽≦*) | I1: 运算选择 | J1: MDR_MEM/BUS | K1: A寄存器选择 | L1: B寄存器选择 | M1: \WR | N1: \RD | O1: ALU寄存器选择（CP） | P1: PC+1 | Q1: CP选择 | R1: (≧▽≦*) | S1: 后继微地址形成 | U1: 是公式！不要改！O(>﹏<)o
A2: 指令块 | B2: 微指令文字描述 | C2: 地址 | D2: 控存内容 | E2: 23 | F2: 22 | G2: 21 | H2: 20 | I2: 19 | 18 | 17 | J2: 16 | K2: 15 | 14 | L2: 13 | 12 | M2: 11 | N2: 10 | O2: 9 | 8 | P2: 7 | Q2: 6 | 5 | 4 | R2: 3 | S2: 2 | 1 | 0 | U2: 23 | 22 | 21 | 30 | V2: 19 | 18 | 17 | 16 | W2: 15 | 14 | 13 | 12 | X2: 11 | 10 | 9 | 8 | Y2: 7 | 6 | 5 | 4 | Z2: 3 | 2 | 1 | 0
A3: 取指令 | B3: PC->B | C3: =DEC2HEX(ROW(A3)-3, 2) -> 00 | D3: =_xlfn.CONCAT(BIN2HEX(U3), BIN2HEX(V3), " ", BIN2HEX(W3), BIN2HEX(X3), " ", BIN2HEX(Y3), BIN2HEX(Z3)) -> 00 12 01 | K3: A置0 | L3: B选PC | O3: 存入B寄存器 | S3: μPC加一 | U3: =_xlfn.CONCAT(DEC2BIN(E3), DEC2BIN(F3), DEC2BIN(G3), DEC2BIN(H3)) -> 0000 | V3: =_xlfn.CONCAT(DEC2BIN(IF(ISBLANK(I3), 0, MATCH(I3, 运算选择!E2:E9, 0) - 1), 3), DEC2BIN(IF(ISBLANK(J3), 0, MATCH(J3, 单列下拉值!$A$2:$A$3, 0) - 1), 1)) -> 0000 | W3: =_xlfn.CONCAT(DEC2BIN(IF(ISBLANK(K3), 0, MATCH(K3, A寄存器选择!$D$2:$D$5, 0) - 1), 2), DEC2BIN(IF(ISBLANK(L3), 0, MATCH(L3, B寄存器选择!$D$2:$D$5, 0) - 1), 2)) -> 0001 | X3: =_xlfn.CONCAT(DEC2BIN(IF(ISBLANK(M3), 0, MATCH(M3, 单列下拉值!$B$2:$B$3, 0) - 1)), DEC2BIN(IF(ISBLANK(N3), 0, MATCH(N3, 单列下拉值!$C$2:$C$3, 0) - 1)), DEC2BIN(IF(ISBLANK(O3), 0, MATCH(O3, ALU寄存器选择!D2:D5, 0) - 1), 2)) -> 0010 | Y3: =_xlfn.CONCAT(DEC2BIN(IF(ISBLANK(P3),0,MATCH(P3,单列下拉值!$D$2:$D$3,0)-1)), DEC2BIN(IF(ISBLANK(Q3), 0, MATCH(Q3, CP选择!$E$2:$E$9, 0) - 1), 3)) -> 0000 | Z3: =_xlfn.CONCAT(DEC2BIN(R3), DEC2BIN(IF(ISBLANK(S3), 0, MATCH(S3, 后继微地址形成!$E$2:$E$9, 0) - 1), 3)) -> 0001
B4: B->Z | C4: =DEC2HEX(ROW(A4)-3, 2) -> 01 | D4: =_xlfn.CONCAT(BIN2HEX(U4), BIN2HEX(V4), " ", BIN2HEX(W4), BIN2HEX(X4), " ", BIN2HEX(Y4), BIN2HEX(Z4)) -> 00 00 00 | I4: 加法 | O4: 存入Z和PSW | P4: 加一 | S4: μPC加一
B5: Z->MAR | C5: =DEC2HEX(ROW(A5)-3, 2) -> 02 | D5: =_xlfn.CONCAT(BIN2HEX(U5), BIN2HEX(V5), " ", BIN2HEX(W5), BIN2HEX(X5), " ", BIN2HEX(Y5), BIN2HEX(Z5)) -> 00 00 00 | Q5: CPMAR | S5: μPC加一
B6: 1->R, MEM->MDR | C6: =DEC2HEX(ROW(A6)-3, 2) -> 03 | D6: =_xlfn.CONCAT(BIN2HEX(U6), BIN2HEX(V6), " ", BIN2HEX(W6), BIN2HEX(X6), " ", BIN2HEX(Y6), BIN2HEX(Z6)) -> 00 00 00 | J6: 总线(Z)->MDR | N6: 读 | Q6: CPMDR | S6: μPC加一
B7: MDR->A | C7: =DEC2HEX(ROW(A7)-3, 2) -> 04 | D7: =_xlfn.CONCAT(BIN2HEX(U7), BIN2HEX(V7), " ", BIN2HEX(W7), BIN2HEX(X7), " ", BIN2HEX(Y7), BIN2HEX(Z7)) -> 00 00 00 | K7: A选MDR | L7: B置0 | O7: 存入A寄存器 | S7: μPC加一
B8: A->Z | C8: =DEC2HEX(ROW(A8)-3, 2) -> 05 | D8: =_xlfn.CONCAT(BIN2HEX(U8), BIN2HEX(V8), " ", BIN2HEX(W8), BIN2HEX(X8), " ", BIN2HEX(Y8), BIN2HEX(Z8)) -> 00 00 00 | I8: 加法 | O8: 存入Z和PSW | S8: μPC加一
B9: Z->IR | C9: =DEC2HEX(ROW(A9)-3, 2) -> 06 | D9: =_xlfn.CONCAT(BIN2HEX(U9), BIN2HEX(V9), " ", BIN2HEX(W9), BIN2HEX(X9), " ", BIN2HEX(Y9), BIN2HEX(Z9)) -> 00 00 00 | Q9: CPIR | S9: μPC加一
B10: END | C10: =DEC2HEX(ROW(A10)-3, 2) -> 07 | D10: =_xlfn.CONCAT(BIN2HEX(U10), BIN2HEX(V10), " ", BIN2HEX(W10), BIN2HEX(X10), " ", BIN2HEX(Y10), BIN2HEX(Z10)) -> 00 00 00 | S10: 无条件跳转至IR7-4
C11: =DEC2HEX(ROW(A11)-3, 2) -> 08 | D11: =_xlfn.CONCAT(BIN2HEX(U11), BIN2HEX(V11), " ", BIN2HEX(W11), BIN2HEX(X11), " ", BIN2HEX(Y11), BIN2HEX(Z11)) -> 00 00 00
C12: =DEC2HEX(ROW(A12)-3, 2) -> 09 | D12: =_xlfn.CONCAT(BIN2HEX(U12), BIN2HEX(V12), " ", BIN2HEX(W12), BIN2HEX(X12), " ", BIN2HEX(Y12), BIN2HEX(Z12)) -> 00 00 00
A13: LD Rx, AD | B13: PC->B | C13: =DEC2HEX(ROW(A13)-3, 2) -> 0A | D13: =_xlfn.CONCAT(BIN2HEX(U13), BIN2HEX(V13), " ", BIN2HEX(W13), BIN2HEX(X13), " ", BIN2HEX(Y13), BIN2HEX(Z13)) -> 00 00 00 | K13: A置0 | L13: B选PC | O13: 存入B寄存器 | S13: μPC加一
B14: B->Z | C14: =DEC2HEX(ROW(A14)-3, 2) -> 0B | D14: =_xlfn.CONCAT(BIN2HEX(U14), BIN2HEX(V14), " ", BIN2HEX(W14), BIN2HEX(X14), " ", BIN2HEX(Y14), BIN2HEX(Z14)) -> 00 00 00 | I14: 加法 | O14: 存入Z和PSW | P14: 加一 | S14: μPC加一
B15: Z->MAR | C15: =DEC2HEX(ROW(A15)-3, 2) -> 0C | D15: =_xlfn.CONCAT(BIN2HEX(U15), BIN2HEX(V15), " ", BIN2HEX(W15), BIN2HEX(X15), " ", BIN2HEX(Y15), BIN2HEX(Z15)) -> 00 00 00 | Q15: CPMAR | S15: μPC加一
B16: 1->R, MEM->MDR | C16: =DEC2HEX(ROW(A16)-3, 2) -> 0D | D16: =_xlfn.CONCAT(BIN2HEX(U16), BIN2HEX(V16), " ", BIN2HEX(W16), BIN2HEX(X16), " ", BIN2HEX(Y16), BIN2HEX(Z16)) -> 00 00 00 | J16: 总线(Z)->MDR | N16: 读 | Q16: CPMDR | S16: μPC加一
B17: MDR->A | C17: =DEC2HEX(ROW(A17)-3, 2) -> 0E | D17: =_xlfn.CONCAT(BIN2HEX(U17), BIN2HEX(V17), " ", BIN2HEX(W17), BIN2HEX(X17), " ", BIN2HEX(Y17), BIN2HEX(Z17)) -> 00 00 00 | K17: A选MDR | O17: 存入A寄存器 | S17: μPC加一
B18: A->Z | C18: =DEC2HEX(ROW(A18)-3, 2) -> 0F | D18: =_xlfn.CONCAT(BIN2HEX(U18), BIN2HEX(V18), " ", BIN2HEX(W18), BIN2HEX(X18), " ", BIN2HEX(Y18), BIN2HEX(Z18)) -> 00 00 00 | I18: 加法 | O18: 存入Z和PSW | S18: μPC加一
B19: Z->Rx | C19: =DEC2HEX(ROW(A19)-3, 2) -> 10 | D19: =_xlfn.CONCAT(BIN2HEX(U19), BIN2HEX(V19), " ", BIN2HEX(W19), BIN2HEX(X19), " ", BIN2HEX(Y19), BIN2HEX(Z19)) -> 00 00 00 | Q19: CP4Reg | S19: μPC加一
B20: END | C20: =DEC2HEX(ROW(A20)-3, 2) -> 11 | D20: =_xlfn.CONCAT(BIN2HEX(U20), BIN2HEX(V20), " ", BIN2HEX(W20), BIN2HEX(X20), " ", BIN2HEX(Y20), BIN2HEX(Z20)) -> 00 00 00 | S20: 无条件跳转至00H
A21: STA Rx, AD | B21: PC->B | C21: =DEC2HEX(ROW(A21)-3, 2) -> 12 | D21: =_xlfn.CONCAT(BIN2HEX(U21), BIN2HEX(V21), " ", BIN2HEX(W21), BIN2HEX(X21), " ", BIN2HEX(Y21), BIN2HEX(Z21)) -> 00 00 00 | K21: A置0 | L21: B选PC | O21: 存入B寄存器 | S21: μPC加一
B22: B->Z | C22: =DEC2HEX(ROW(A22)-3, 2) -> 13 | D22: =_xlfn.CONCAT(BIN2HEX(U22), BIN2HEX(V22), " ", BIN2HEX(W22), BIN2HEX(X22), " ", BIN2HEX(Y22), BIN2HEX(Z22)) -> 00 00 00 | I22: 加法 | O22: 存入Z和PSW | P22: 加一 | S22: μPC加一
B23: Z->MAR | C23: =DEC2HEX(ROW(A23)-3, 2) -> 14 | D23: =_xlfn.CONCAT(BIN2HEX(U23), BIN2HEX(V23), " ", BIN2HEX(W23), BIN2HEX(X23), " ", BIN2HEX(Y23), BIN2HEX(Z23)) -> 00 00 00 | Q23: CPMAR | S23: μPC加一
B24: Rx->B | C24: =DEC2HEX(ROW(A24)-3, 2) -> 15 | D24: =_xlfn.CONCAT(BIN2HEX(U24), BIN2HEX(V24), " ", BIN2HEX(W24), BIN2HEX(X24), " ", BIN2HEX(Y24), BIN2HEX(Z24)) -> 00 00 00 | L24: B选通用寄存器 | O24: 存入B寄存器
B25: B->Z | C25: =DEC2HEX(ROW(A25)-3, 2) -> 16 | D25: =_xlfn.CONCAT(BIN2HEX(U25), BIN2HEX(V25), " ", BIN2HEX(W25), BIN2HEX(X25), " ", BIN2HEX(Y25), BIN2HEX(Z25)) -> 00 00 00
B26: Z->MDR | C26: =DEC2HEX(ROW(A26)-3, 2) -> 17 | D26: =_xlfn.CONCAT(BIN2HEX(U26), BIN2HEX(V26), " ", BIN2HEX(W26), BIN2HEX(X26), " ", BIN2HEX(Y26), BIN2HEX(Z26)) -> 00 00 00
B27: 1->W, MDR->MEM | C27: =DEC2HEX(ROW(A27)-3, 2) -> 18 | D27: =_xlfn.CONCAT(BIN2HEX(U27), BIN2HEX(V27), " ", BIN2HEX(W27), BIN2HEX(X27), " ", BIN2HEX(Y27), BIN2HEX(Z27)) -> 00 00 00
B28: END | C28: =DEC2HEX(ROW(A28)-3, 2) -> 19 | D28: =_xlfn.CONCAT(BIN2HEX(U28), BIN2HEX(V28), " ", BIN2HEX(W28), BIN2HEX(X28), " ", BIN2HEX(Y28), BIN2HEX(Z28)) -> 00 00 00
C29: =DEC2HEX(ROW(A29)-3, 2) -> 1A | D29: =_xlfn.CONCAT(BIN2HEX(U29), BIN2HEX(V29), " ", BIN2HEX(W29), BIN2HEX(X29), " ", BIN2HEX(Y29), BIN2HEX(Z29)) -> 00 00 00
C30: =DEC2HEX(ROW(A30)-3, 2) -> 1B | D30: =_xlfn.CONCAT(BIN2HEX(U30), BIN2HEX(V30), " ", BIN2HEX(W30), BIN2HEX(X30), " ", BIN2HEX(Y30), BIN2HEX(Z30)) -> 00 00 00
C31: =DEC2HEX(ROW(A31)-3, 2) -> 1C | D31: =_xlfn.CONCAT(BIN2HEX(U31), BIN2HEX(V31), " ", BIN2HEX(W31), BIN2HEX(X31), " ", BIN2HEX(Y31), BIN2HEX(Z31)) -> 00 00 00
C32: =DEC2HEX(ROW(A32)-3, 2) -> 1D | D32: =_xlfn.CONCAT(BIN2HEX(U32), BIN2HEX(V32), " ", BIN2HEX(W32), BIN2HEX(X32), " ", BIN2HEX(Y32), BIN2HEX(Z32)) -> 00 00 00
C33: =DEC2HEX(ROW(A33)-3, 2) -> 1E | D33: =_xlfn.CONCAT(BIN2HEX(U33), BIN2HEX(V33), " ", BIN2HEX(W33), BIN2HEX(X33), " ", BIN2HEX(Y33), BIN2HEX(Z33)) -> 00 00 00
C34: =DEC2HEX(ROW(A34)-3, 2) -> 1F | D34: =_xlfn.CONCAT(BIN2HEX(U34), BIN2HEX(V34), " ", BIN2HEX(W34), BIN2HEX(X34), " ", BIN2HEX(Y34), BIN2HEX(Z34)) -> 00 00 00
C35: =DEC2HEX(ROW(A35)-3, 2) -> 20 | D35: =_xlfn.CONCAT(BIN2HEX(U35), BIN2HEX(V35), " ", BIN2HEX(W35), BIN2HEX(X35), " ", BIN2HEX(Y35), BIN2HEX(Z35)) -> 00 00 00
C36: =DEC2HEX(ROW(A36)-3, 2) -> 21 | D36: =_xlfn.CONCAT(BIN2HEX(U36), BIN2HEX(V36), " ", BIN2HEX(W36), BIN2HEX(X36), " ", BIN2HEX(Y36), BIN2HEX(Z36)) -> 00 00 00
C37: =DEC2HEX(ROW(A37)-3, 2) -> 22 | D37: =_xlfn.CONCAT(BIN2HEX(U37), BIN2HEX(V37), " ", BIN2HEX(W37), BIN2HEX(X37), " ", BIN2HEX(Y37), BIN2HEX(Z37)) -> 00 00 00
C38: =DEC2HEX(ROW(A38)-3, 2) -> 23 | D38: =_xlfn.CONCAT(BIN2HEX(U38), BIN2HEX(V38), " ", BIN2HEX(W38), BIN2HEX(X38), " ", BIN2HEX(Y38), BIN2HEX(Z38)) -> 00 00 00
C39: =DEC2HEX(ROW(A39)-3, 2) -> 24 | D39: =_xlfn.CONCAT(BIN2HEX(U39), BIN2HEX(V39), " ", BIN2HEX(W39), BIN2HEX(X39), " ", BIN2HEX(Y39), BIN2HEX(Z39)) -> 00 00 00
C40: =DEC2HEX(ROW(A40)-3, 2) -> 25 | D40: =_xlfn.CONCAT(BIN2HEX(U40), BIN2HEX(V40), " ", BIN2HEX(W40), BIN2HEX(X40), " ", BIN2HEX(Y40), BIN2HEX(Z40)) -> 00 00 00
... C55: =DEC2HEX(ROW(A55)-3, 2) -> 34 | D55: =_xlfn.CONCAT(BIN2HEX(U55), BIN2HEX(V55), " ", BIN2HEX(W55), BIN2HEX(X55), " ", BIN2HEX(Y55), BIN2HEX(Z55)) -> 00 00 00

Sheet 单列下拉值
A1: MDR_MEM/BUS | B1: \WR | C1: \RD | D1: PC+1
A2: MDR->内存 | B2: 不写 | C2: 不读 | D2: 不加一
A3: 总线(Z)->MDR | B3: 写 | C3: 读 | D3: 加一

Sheet ALU寄存器选择
A1: μIR9 | B1: μIR8 | C1: 引脚 | D1: 描述
A2: 0 | B2: 0 | C2: Y0 | D2: 什么都不存
A3: 0 | B3: 1 | C3: Y1 | D3: 存入A寄存器
A4: 1 | B4: 0 | C4: Y2 | D4: 存入B寄存器
A5: 1 | B5: 1 | C5: Y3 | D5: 存入Z和PSW
A12: 返回主表

Sheet 运算选择
A1: μIR19 | B1: μIR18 | C1: μIR17 | D1: 引脚 | E1: 描述
A2: 0 | B2: 0 | C2: 0 | D2: Y0 | E2: 什么都不做
A3: 0 | B3: 0 | C3: 1 | D3: Y1 | E3: 加法
A4: 0 | B4: 1 | C4: 0 | D4: Y2 | E4: 左移一位
A5: 0 | B5: 1 | C5: 1 | D5: Y3 | E5: 右移一位
A6: 1 | B6: 0 | C6: 0 | D6: Y4
A7: 1 | B7: 0 | C7: 1 | D7: Y5
A8: 1 | B8: 1 | C8: 0 | D8: Y6
A9: 1 | B9: 1 | C9: 1 | D9: Y7
A12: 返回主表

Sheet CP选择
A1: μIR6 | B1: μIR5 | C1: μIR4 | D1: 引脚 | E1: 描述
A2: 0 | B2: 0 | C2: 0 | D2: Y0 | E2: 无CP
A3: 0 | B3: 0 | C3: 1 | D3: Y1 | E3: CP4Reg
A4: 0 | B4: 1 | C4: 0 | D4: Y2 | E4: CPPC
A5: 0 | B5: 1 | C5: 1 | D5: Y3 | E5: CPIR
A6: 1 | B6: 0 | C6: 0 | D6: Y4 | E6: CPMAR
A7: 1 | B7: 0 | C7: 1 | D7: Y5 | E7: CPMDR
A8: 1 | B8: 1 | C8: 0 | D8: Y6 | E8: 备用
A9: 1 | B9: 1 | C9: 1 | D9: Y7 | E9: 备用
A12: 返回主表

Sheet 后继微地址形成
A1: μIR2 | B1: μIR1 | C1: μIR0 | D1: 引脚 | E1: 描述 | F1: 备注
A2: 0 | B2: 0 | C2: 0 | D2: Y0 | E2: 备用
A3: 0 | B3: 0 | C3: 1 | D3: Y1 | E3: μPC加一
A4: 0 | B4: 1 | C4: 0 | D4: Y2 | E4: 无条件跳转至00H
A5: 0 | B5: 1 | C5: 1 | D5: Y3 | E5: 无条件跳转至IR7-4 | F5: 高四位IR7-IR4，低四位为0
A6: 1 | B6: 0 | C6: 0 | D6: Y4 | E6: 程序状态字条件跳转
A7: 1 | B7: 0 | C7: 1 | D7: Y5 | E7: 发生什么事了？
A8: 1 | B8: 1 | C8: 0 | D8: Y6 | E8: 发生什么事了？
A9: 1 | B9: 1 | C9: 1 | D9: Y7 | E9: 发生什么事了？
E10: 変身
E11: 发生什么事了？
A12: 返回主表 | E12: 发生什么事了？
E13: 释放自我
E14: 哼啊啊啊啊啊——
E15: 走→我→的↗路，假↓面↑骑↑士↓
E16: 贞→贞→贞→贞↗德↘↗

Sheet A寄存器选择
A1: μIR15 | B1: μIR14 | C1: 引脚 | D1: 描述
A2: 0 | B2: 0 | C2: Y0 | D2: A置0
A3: 0 | B3: 1 | C3: Y1 | D3: A选MDR
A4: 1 | B4: 0 | C4: Y2 | D4: A选通用寄存器
A5: 1 | B5: 1 | C5: Y3 | D5: 无效
A12: 返回主表

Sheet B寄存器选择
A1: μIR13 | B1: μIR12 | C1: 引脚 | D1: 描述 | E1: 备注
A2: 0 | B2: 0 | C2: Y0 | D2: B置0
A3: 0 | B3: 1 | C3: Y1 | D3: B选PC
A4: 1 | B4: 0 | C4: Y2 | D4: B选通用寄存器
A5: 1 | B5: 1 | C5: Y3 | D5: 无效
A12: 返回主表
