Workbook

Sheet microprogram
D1: 是公式！不要改！ | F1: (≧▽≦*) | J1: 运算选择 | K1: MDR_MEM/BUS | L1: A寄存器选择 | M1: B寄存器选择 | N1: \WR | O1: \RD | P1: ALU寄存器选择（CP） | Q1: PC+1 | R1: CP选择 | S1: (≧▽≦*) | T1: 后继微地址形成 | V1: 是公式！不要改！O(>﹏<)o
A2: 指令块 | B2: 合并的微指令 | C2: 微指令文字描述 | D2: 地址 | E2: 控存内容 | F2: 23 | G2: 22 | H2: 21 | I2: 20 | J2: 19 | 18 | 17 | K2: 16 | L2: 15 | 14 | M2: 13 | 12 | N2: 11 | O2: 10 | P2: 9 | 8 | Q2: 7 | R2: 6 | 5 | 4 | S2: 3 | T2: 2 | 1 | 0 | V2: 23 | 22 | 21 | 30 | W2: 19 | 18 | 17 | 16 | X2: 15 | 14 | 13 | 12 | Y2: 11 | 10 | 9 | 8 | Z2: 7 | 6 | 5 | 4 | AA2: 3 | 2 | 1 | 0
A3: 取指令 | B3: PC->MAR, PC+1->PC | C3: PC->B | D3: =DEC2HEX(ROW(D3)-3, 2) -> 00 | E3: =_xlfn.CONCAT(BIN2HEX(V3), BIN2HEX(W3), " ", BIN2HEX(X3), BIN2HEX(Y3), " ", BIN2HEX(Z3), BIN2HEX(AA3)) -> 00 12 01 | M3: B选PC | P3: 存入B寄存器 | T3: μPC加一 | V3: =_xlfn.CONCAT(DEC2BIN(F3), DEC2BIN(G3), DEC2BIN(H3), DEC2BIN(I3)) -> 0000 | W3: =_xlfn.CONCAT(DEC2BIN(IF(ISBLANK(J3), 0, MATCH(J3, 运算选择!$E$2:$E$9, 0) - 1), 3), DEC2BIN(IF(ISBLANK(K3), 0, MATCH(K3, 单列下拉值!$A$2:$A$3, 0) - 1), 1)) -> 0000 | X3: =_xlfn.CONCAT(DEC2BIN(IF(ISBLANK(L3), 0, MATCH(L3, A寄存器选择!$D$2:$D$5, 0) - 1), 2), DEC2BIN(IF(ISBLANK(M3), 0, MATCH(M3, B寄存器选择!$D$2:$D$5, 0) - 1), 2)) -> 0001 | Y3: =_xlfn.CONCAT(DEC2BIN(IF(ISBLANK(N3), 0, MATCH(N3, 单列下拉值!$B$2:$B$3, 0) - 1)), DEC2BIN(IF(ISBLANK(O3), 0, MATCH(O3, 单列下拉值!$C$2:$C$3, 0) - 1)), DEC2BIN(IF(ISBLANK(P3), 0, MATCH(P3, ALU寄存器选择!$D$2:$D$5, 0) - 1), 2)) -> 0010 | Z3: =_xlfn.CONCAT(DEC2BIN(IF(ISBLANK(Q3),0,MATCH(Q3,单列下拉值!$D$2:$D$3,0)-1)), DEC2BIN(IF(ISBLANK(R3), 0, MATCH(R3, CP选择!$E$2:$E$9, 0) - 1), 3)) -> 0000 | AA3: =_xlfn.CONCAT(DEC2BIN(S3), DEC2BIN(IF(ISBLANK(T3), 0, MATCH(T3, 后继微地址形成!$E$2:$E$9, 0) - 1), 3)) -> 0001
C4: 0->A, PC+1->PC | D4: =DEC2HEX(ROW(D4)-3, 2) -> 01 | E4: =_xlfn.CONCAT(BIN2HEX(V4), BIN2HEX(W4), " ", BIN2HEX(X4), BIN2HEX(Y4), " ", BIN2HEX(Z4), BIN2HEX(AA4)) -> 00 01 A1 | L4: A置0 | P4: 存入A寄存器 | Q4: 加一 | R4: CPPC | T4: μPC加一 | V4: =_xlfn.CONCAT(DEC2BIN(F4), DEC2BIN(G4), DEC2BIN(H4), DEC2BIN(I4)) -> 0000 | W4: =_xlfn.CONCAT(DEC2BIN(IF(ISBLANK(J4), 0, MATCH(J4, 运算选择!$E$2:$E$9, 0) - 1), 3), DEC2BIN(IF(ISBLANK(K4), 0, MATCH(K4, 单列下拉值!$A$2:$A$3, 0) - 1), 1)) -> 0000 | X4: =_xlfn.CONCAT(DEC2BIN(IF(ISBLANK(L4), 0, MATCH(L4, A寄存器选择!$D$2:$D$5, 0) - 1), 2), DEC2BIN(IF(ISBLANK(M4), 0, MATCH(M4, B寄存器选择!$D$2:$D$5, 0) - 1), 2)) -> 0000 | Y4: =_xlfn.CONCAT(DEC2BIN(IF(ISBLANK(N4), 0, MATCH(N4, 单列下拉值!$B$2:$B$3, 0) - 1)), DEC2BIN(IF(ISBLANK(O4), 0, MATCH(O4, 单列下拉值!$C$2:$C$3, 0) - 1)), DEC2BIN(IF(ISBLANK(P4), 0, MATCH(P4, ALU寄存器选择!$D$2:$D$5, 0) - 1), 2)) -> 0001 | Z4: =_xlfn.CONCAT(DEC2BIN(IF(ISBLANK(Q4),0,MATCH(Q4,单列下拉值!$D$2:$D$3,0)-1)), DEC2BIN(IF(ISBLANK(R4), 0, MATCH(R4, CP选择!$E$2:$E$9, 0) - 1), 3)) -> 1010 | AA4: =_xlfn.CONCAT(DEC2BIN(S4), DEC2BIN(IF(ISBLANK(T4), 0, MATCH(T4, 后继微地址形成!$E$2:$E$9, 0) - 1), 3)) -> 0001
C5: 0+B->Z | D5: =DEC2HEX(ROW(D5)-3, 2) -> 02 | E5: =_xlfn.CONCAT(BIN2HEX(V5), BIN2HEX(W5), " ", BIN2HEX(X5), BIN2HEX(Y5), " ", BIN2HEX(Z5), BIN2HEX(AA5)) -> 04 03 01 | J5: 无符号加 | P5: 存入Z和PSW | T5: μPC加一 | V5: =_xlfn.CONCAT(DEC2BIN(F5), DEC2BIN(G5), DEC2BIN(H5), DEC2BIN(I5)) -> 0000 | W5: =_xlfn.CONCAT(DEC2BIN(IF(ISBLANK(J5), 0, MATCH(J5, 运算选择!$E$2:$E$9, 0) - 1), 3), DEC2BIN(IF(ISBLANK(K5), 0, MATCH(K5, 单列下拉值!$A$2:$A$3, 0) - 1), 1)) -> 0100 | X5: =_xlfn.CONCAT(DEC2BIN(IF(ISBLANK(L5), 0, MATCH(L5, A寄存器选择!$D$2:$D$5, 0) - 1), 2), DEC2BIN(IF(ISBLANK(M5), 0, MATCH(M5, B寄存器选择!$D$2:$D$5, 0) - 1), 2)) -> 0000 | Y5: =_xlfn.CONCAT(DEC2BIN(IF(ISBLANK(N5), 0, MATCH(N5, 单列下拉值!$B$2:$B$3, 0) - 1)), DEC2BIN(IF(ISBLANK(O5), 0, MATCH(O5, 单列下拉值!$C$2:$C$3, 0) - 1)), DEC2BIN(IF(ISBLANK(P5), 0, MATCH(P5, ALU寄存器选择!$D$2:$D$5, 0) - 1), 2)) -> 0011 | Z5: =_xlfn.CONCAT(DEC2BIN(IF(ISBLANK(Q5),0,MATCH(Q5,单列下拉值!$D$2:$D$3,0)-1)), DEC2BIN(IF(ISBLANK(R5), 0, MATCH(R5, CP选择!$E$2:$E$9, 0) - 1), 3)) -> 0000 | AA5: =_xlfn.CONCAT(DEC2BIN(S5), DEC2BIN(IF(ISBLANK(T5), 0, MATCH(T5, 后继微地址形成!$E$2:$E$9, 0) - 1), 3)) -> 0001
C6: Z->MAR | D6: =DEC2HEX(ROW(D6)-3, 2) -> 03 | E6: =_xlfn.CONCAT(BIN2HEX(V6), BIN2HEX(W6), " ", BIN2HEX(X6), BIN2HEX(Y6), " ", BIN2HEX(Z6), BIN2HEX(AA6)) -> 00 00 41 | R6: CPMAR | T6: μPC加一 | V6: =_xlfn.CONCAT(DEC2BIN(F6), DEC2BIN(G6), DEC2BIN(H6), DEC2BIN(I6)) -> 0000 | W6: =_xlfn.CONCAT(DEC2BIN(IF(ISBLANK(J6), 0, MATCH(J6, 运算选择!$E$2:$E$9, 0) - 1), 3), DEC2BIN(IF(ISBLANK(K6), 0, MATCH(K6, 单列下拉值!$A$2:$A$3, 0) - 1), 1)) -> 0000 | X6: =_xlfn.CONCAT(DEC2BIN(IF(ISBLANK(L6), 0, MATCH(L6, A寄存器选择!$D$2:$D$5, 0) - 1), 2), DEC2BIN(IF(ISBLANK(M6), 0, MATCH(M6, B寄存器选择!$D$2:$D$5, 0) - 1), 2)) -> 0000 | Y6: =_xlfn.CONCAT(DEC2BIN(IF(ISBLANK(N6), 0, MATCH(N6, 单列下拉值!$B$2:$B$3, 0) - 1)), DEC2BIN(IF(ISBLANK(O6), 0, MATCH(O6, 单列下拉值!$C$2:$C$3, 0) - 1)), DEC2BIN(IF(ISBLANK(P6), 0, MATCH(P6, ALU寄存器选择!$D$2:$D$5, 0) - 1), 2)) -> 0000 | Z6: =_xlfn.CONCAT(DEC2BIN(IF(ISBLANK(Q6),0,MATCH(Q6,单列下拉值!$D$2:$D$3,0)-1)), DEC2BIN(IF(ISBLANK(R6), 0, MATCH(R6, CP选择!$E$2:$E$9, 0) - 1), 3)) -> 0100 | AA6: =_xlfn.CONCAT(DEC2BIN(S6), DEC2BIN(IF(ISBLANK(T6), 0, MATCH(T6, 后继微地址形成!$E$2:$E$9, 0) - 1), 3)) -> 0001
C7: 1->R, M(MAR)->MDR | D7: =DEC2HEX(ROW(D7)-3, 2) -> 04 | E7: =_xlfn.CONCAT(BIN2HEX(V7), BIN2HEX(W7), " ", BIN2HEX(X7), BIN2HEX(Y7), " ", BIN2HEX(Z7), BIN2HEX(AA7)) -> 00 04 51 | K7: 内存→MDR | O7: 读 | R7: CPMDR | T7: μPC加一 | V7: =_xlfn.CONCAT(DEC2BIN(F7), DEC2BIN(G7), DEC2BIN(H7), DEC2BIN(I7)) -> 0000 | W7: =_xlfn.CONCAT(DEC2BIN(IF(ISBLANK(J7), 0, MATCH(J7, 运算选择!$E$2:$E$9, 0) - 1), 3), DEC2BIN(IF(ISBLANK(K7), 0, MATCH(K7, 单列下拉值!$A$2:$A$3, 0) - 1), 1)) -> 0000 | X7: =_xlfn.CONCAT(DEC2BIN(IF(ISBLANK(L7), 0, MATCH(L7, A寄存器选择!$D$2:$D$5, 0) - 1), 2), DEC2BIN(IF(ISBLANK(M7), 0, MATCH(M7, B寄存器选择!$D$2:$D$5, 0) - 1), 2)) -> 0000 | Y7: =_xlfn.CONCAT(DEC2BIN(IF(ISBLANK(N7), 0, MATCH(N7, 单列下拉值!$B$2:$B$3, 0) - 1)), DEC2BIN(IF(ISBLANK(O7), 0, MATCH(O7, 单列下拉值!$C$2:$C$3, 0) - 1)), DEC2BIN(IF(ISBLANK(P7), 0, MATCH(P7, ALU寄存器选择!$D$2:$D$5, 0) - 1), 2)) -> 0100 | Z7: =_xlfn.CONCAT(DEC2BIN(IF(ISBLANK(Q7),0,MATCH(Q7,单列下拉值!$D$2:$D$3,0)-1)), DEC2BIN(IF(ISBLANK(R7), 0, MATCH(R7, CP选择!$E$2:$E$9, 0) - 1), 3)) -> 0101 | AA7: =_xlfn.CONCAT(DEC2BIN(S7), DEC2BIN(IF(ISBLANK(T7), 0, MATCH(T7, 后继微地址形成!$E$2:$E$9, 0) - 1), 3)) -> 0001
B8: MDR->IR | C8: MDR->A | D8: =DEC2HEX(ROW(D8)-3, 2) -> 05 | E8: =_xlfn.CONCAT(BIN2HEX(V8), BIN2HEX(W8), " ", BIN2HEX(X8), BIN2HEX(Y8), " ", BIN2HEX(Z8), BIN2HEX(AA8)) -> 00 41 01 | L8: A选MDR | P8: 存入A寄存器 | T8: μPC加一 | V8: =_xlfn.CONCAT(DEC2BIN(F8), DEC2BIN(G8), DEC2BIN(H8), DEC2BIN(I8)) -> 0000 | W8: =_xlfn.CONCAT(DEC2BIN(IF(ISBLANK(J8), 0, MATCH(J8, 运算选择!$E$2:$E$9, 0) - 1), 3), DEC2BIN(IF(ISBLANK(K8), 0, MATCH(K8, 单列下拉值!$A$2:$A$3, 0) - 1), 1)) -> 0000 | X8: =_xlfn.CONCAT(DEC2BIN(IF(ISBLANK(L8), 0, MATCH(L8, A寄存器选择!$D$2:$D$5, 0) - 1), 2), DEC2BIN(IF(ISBLANK(M8), 0, MATCH(M8, B寄存器选择!$D$2:$D$5, 0) - 1), 2)) -> 0100 | Y8: =_xlfn.CONCAT(DEC2BIN(IF(ISBLANK(N8), 0, MATCH(N8, 单列下拉值!$B$2:$B$3, 0) - 1)), DEC2BIN(IF(ISBLANK(O8), 0, MATCH(O8, 单列下拉值!$C$2:$C$3, 0) - 1)), DEC2BIN(IF(ISBLANK(P8), 0, MATCH(P8, ALU寄存器选择!$D$2:$D$5, 0) - 1), 2)) -> 0001 | Z8: =_xlfn.CONCAT(DEC2BIN(IF(ISBLANK(Q8),0,MATCH(Q8,单列下拉值!$D$2:$D$3,0)-1)), DEC2BIN(IF(ISBLANK(R8), 0, MATCH(R8, CP选择!$E$2:$E$9, 0) - 1), 3)) -> 0000 | AA8: =_xlfn.CONCAT(DEC2BIN(S8), DEC2BIN(IF(ISBLANK(T8), 0, MATCH(T8, 后继微地址形成!$E$2:$E$9, 0) - 1), 3)) -> 0001
C9: 0->B | D9: =DEC2HEX(ROW(D9)-3, 2) -> 06 | E9: =_xlfn.CONCAT(BIN2HEX(V9), BIN2HEX(W9), " ", BIN2HEX(X9), BIN2HEX(Y9), " ", BIN2HEX(Z9), BIN2HEX(AA9)) -> 00 02 01 | M9: B置0 | P9: 存入B寄存器 | T9: μPC加一 | V9: =_xlfn.CONCAT(DEC2BIN(F9), DEC2BIN(G9), DEC2BIN(H9), DEC2BIN(I9)) -> 0000 | W9: =_xlfn.CONCAT(DEC2BIN(IF(ISBLANK(J9), 0, MATCH(J9, 运算选择!$E$2:$E$9, 0) - 1), 3), DEC2BIN(IF(ISBLANK(K9), 0, MATCH(K9, 单列下拉值!$A$2:$A$3, 0) - 1), 1)) -> 0000 | X9: =_xlfn.CONCAT(DEC2BIN(IF(ISBLANK(L9), 0, MATCH(L9, A寄存器选择!$D$2:$D$5, 0) - 1), 2), DEC2BIN(IF(ISBLANK(M9), 0, MATCH(M9, B寄存器选择!$D$2:$D$5, 0) - 1), 2)) -> 0000 | Y9: =_xlfn.CONCAT(DEC2BIN(IF(ISBLANK(N9), 0, MATCH(N9, 单列下拉值!$B$2:$B$3, 0) - 1)), DEC2BIN(IF(ISBLANK(O9), 0, MATCH(O9, 单列下拉值!$C$2:$C$3, 0) - 1)), DEC2BIN(IF(ISBLANK(P9), 0, MATCH(P9, ALU寄存器选择!$D$2:$D$5, 0) - 1), 2)) -> 0010 | Z9: =_xlfn.CONCAT(DEC2BIN(IF(ISBLANK(Q9),0,MATCH(Q9,单列下拉值!$D$2:$D$3,0)-1)), DEC2BIN(IF(ISBLANK(R9), 0, MATCH(R9, CP选择!$E$2:$E$9, 0) - 1), 3)) -> 0000 | AA9: =_xlfn.CONCAT(DEC2BIN(S9), DEC2BIN(IF(ISBLANK(T9), 0, MATCH(T9, 后继微地址形成!$E$2:$E$9, 0) - 1), 3)) -> 0001
C10: A+0->Z | D10: =DEC2HEX(ROW(D10)-3, 2) -> 07 | E10: =_xlfn.CONCAT(BIN2HEX(V10), BIN2HEX(W10), " ", BIN2HEX(X10), BIN2HEX(Y10), " ", BIN2HEX(Z10), BIN2HEX(AA10)) -> 04 03 01 | J10: 无符号加 | P10: 存入Z和PSW | T10: μPC加一 | V10: =_xlfn.CONCAT(DEC2BIN(F10), DEC2BIN(G10), DEC2BIN(H10), DEC2BIN(I10)) -> 0000 | W10: =_xlfn.CONCAT(DEC2BIN(IF(ISBLANK(J10), 0, MATCH(J10, 运算选择!$E$2:$E$9, 0) - 1), 3), DEC2BIN(IF(ISBLANK(K10), 0, MATCH(K10, 单列下拉值!$A$2:$A$3, 0) - 1), 1)) -> 0100 | X10: =_xlfn.CONCAT(DEC2BIN(IF(ISBLANK(L10), 0, MATCH(L10, A寄存器选择!$D$2:$D$5, 0) - 1), 2), DEC2BIN(IF(ISBLANK(M10), 0, MATCH(M10, B寄存器选择!$D$2:$D$5, 0) - 1), 2)) -> 0000 | Y10: =_xlfn.CONCAT(DEC2BIN(IF(ISBLANK(N10), 0, MATCH(N10, 单列下拉值!$B$2:$B$3, 0) - 1)), DEC2BIN(IF(ISBLANK(O10), 0, MATCH(O10, 单列下拉值!$C$2:$C$3, 0) - 1)), DEC2BIN(IF(ISBLANK(P10), 0, MATCH(P10, ALU寄存器选择!$D$2:$D$5, 0) - 1), 2)) -> 0011 | Z10: =_xlfn.CONCAT(DEC2BIN(IF(ISBLANK(Q10),0,MATCH(Q10,单列下拉值!$D$2:$D$3,0)-1)), DEC2BIN(IF(ISBLANK(R10), 0, MATCH(R10, CP选择!$E$2:$E$9, 0) - 1), 3)) -> 0000 | AA10: =_xlfn.CONCAT(DEC2BIN(S10), DEC2BIN(IF(ISBLANK(T10), 0, MATCH(T10, 后继微地址形成!$E$2:$E$9, 0) - 1), 3)) -> 0001
C11: Z->IR | D11: =DEC2HEX(ROW(D11)-3, 2) -> 08 | E11: =_xlfn.CONCAT(BIN2HEX(V11), BIN2HEX(W11), " ", BIN2HEX(X11), BIN2HEX(Y11), " ", BIN2HEX(Z11), BIN2HEX(AA11)) -> 00 00 31 | R11: CPIR | T11: μPC加一 | V11: =_xlfn.CONCAT(DEC2BIN(F11), DEC2BIN(G11), DEC2BIN(H11), DEC2BIN(I11)) -> 0000 | W11: =_xlfn.CONCAT(DEC2BIN(IF(ISBLANK(J11), 0, MATCH(J11, 运算选择!$E$2:$E$9, 0) - 1), 3), DEC2BIN(IF(ISBLANK(K11), 0, MATCH(K11, 单列下拉值!$A$2:$A$3, 0) - 1), 1)) -> 0000 | X11: =_xlfn.CONCAT(DEC2BIN(IF(ISBLANK(L11), 0, MATCH(L11, A寄存器选择!$D$2:$D$5, 0) - 1), 2), DEC2BIN(IF(ISBLANK(M11), 0, MATCH(M11, B寄存器选择!$D$2:$D$5, 0) - 1), 2)) -> 0000 | Y11: =_xlfn.CONCAT(DEC2BIN(IF(ISBLANK(N11), 0, MATCH(N11, 单列下拉值!$B$2:$B$3, 0) - 1)), DEC2BIN(IF(ISBLANK(O11), 0, MATCH(O11, 单列下拉值!$C$2:$C$3, 0) - 1)), DEC2BIN(IF(ISBLANK(P11), 0, MATCH(P11, ALU寄存器选择!$D$2:$D$5, 0) - 1), 2)) -> 0000 | Z11: =_xlfn.CONCAT(DEC2BIN(IF(ISBLANK(Q11),0,MATCH(Q11,单列下拉值!$D$2:$D$3,0)-1)), DEC2BIN(IF(ISBLANK(R11), 0, MATCH(R11, CP选择!$E$2:$E$9, 0) - 1), 3)) -> 0011 | AA11: =_xlfn.CONCAT(DEC2BIN(S11), DEC2BIN(IF(ISBLANK(T11), 0, MATCH(T11, 后继微地址形成!$E$2:$E$9, 0) - 1), 3)) -> 0001
C12: END(QJP) | D12: =DEC2HEX(ROW(D12)-3, 2) -> 09 | E12: =_xlfn.CONCAT(BIN2HEX(V12), BIN2HEX(W12), " ", BIN2HEX(X12), BIN2HEX(Y12), " ", BIN2HEX(Z12), BIN2HEX(AA12)) -> 00 00 03 | T12: 无条件跳转至IR7-4 | V12: =_xlfn.CONCAT(DEC2BIN(F12), DEC2BIN(G12), DEC2BIN(H12), DEC2BIN(I12)) -> 0000 | W12: =_xlfn.CONCAT(DEC2BIN(IF(ISBLANK(J12), 0, MATCH(J12, 运算选择!$E$2:$E$9, 0) - 1), 3), DEC2BIN(IF(ISBLANK(K12), 0, MATCH(K12, 单列下拉值!$A$2:$A$3, 0) - 1), 1)) -> 0000 | X12: =_xlfn.CONCAT(DEC2BIN(IF(ISBLANK(L12), 0, MATCH(L12, A寄存器选择!$D$2:$D$5, 0) - 1), 2), DEC2BIN(IF(ISBLANK(M12), 0, MATCH(M12, B寄存器选择!$D$2:$D$5, 0) - 1), 2)) -> 0000 | Y12: =_xlfn.CONCAT(DEC2BIN(IF(ISBLANK(N12), 0, MATCH(N12, 单列下拉值!$B$2:$B$3, 0) - 1)), DEC2BIN(IF(ISBLANK(O12), 0, MATCH(O12, 单列下拉值!$C$2:$C$3, 0) - 1)), DEC2BIN(IF(ISBLANK(P12), 0, MATCH(P12, ALU寄存器选择!$D$2:$D$5, 0) - 1), 2)) -> 0000 | Z12: =_xlfn.CONCAT(DEC2BIN(IF(ISBLANK(Q12),0,MATCH(Q12,单列下拉值!$D$2:$D$3,0)-1)), DEC2BIN(IF(ISBLANK(R12), 0, MATCH(R12, CP选择!$E$2:$E$9, 0) - 1), 3)) -> 0000 | AA12: =_xlfn.CONCAT(DEC2BIN(S12), DEC2BIN(IF(ISBLANK(T12), 0, MATCH(T12, 后继微地址形成!$E$2:$E$9, 0) - 1), 3)) -> 0011
D13: =DEC2HEX(ROW(D13)-3, 2) -> 0A | E13: =_xlfn.CONCAT(BIN2HEX(V13), BIN2HEX(W13), " ", BIN2HEX(X13), BIN2HEX(Y13), " ", BIN2HEX(Z13), BIN2HEX(AA13)) -> 00 00 00 | V13: =_xlfn.CONCAT(DEC2BIN(F13), DEC2BIN(G13), DEC2BIN(H13), DEC2BIN(I13)) -> 0000 | W13: =_xlfn.CONCAT(DEC2BIN(IF(ISBLANK(J13), 0, MATCH(J13, 运算选择!$E$2:$E$9, 0) - 1), 3), DEC2BIN(IF(ISBLANK(K13), 0, MATCH(K13, 单列下拉值!$A$2:$A$3, 0) - 1), 1)) -> 0000 | X13: =_xlfn.CONCAT(DEC2BIN(IF(ISBLANK(L13), 0, MATCH(L13, A寄存器选择!$D$2:$D$5, 0) - 1), 2), DEC2BIN(IF(ISBLANK(M13), 0, MATCH(M13, B寄存器选择!$D$2:$D$5, 0) - 1), 2)) -> 0000 | Y13: =_xlfn.CONCAT(DEC2BIN(IF(ISBLANK(N13), 0, MATCH(N13, 单列下拉值!$B$2:$B$3, 0) - 1)), DEC2BIN(IF(ISBLANK(O13), 0, MATCH(O13, 单列下拉值!$C$2:$C$3, 0) - 1)), DEC2BIN(IF(ISBLANK(P13), 0, MATCH(P13, ALU寄存器选择!$D$2:$D$5, 0) - 1), 2)) -> 0000 | Z13: =_xlfn.CONCAT(DEC2BIN(IF(ISBLANK(Q13),0,MATCH(Q13,单列下拉值!$D$2:$D$3,0)-1)), DEC2BIN(IF(ISBLANK(R13), 0, MATCH(R13, CP选择!$E$2:$E$9, 0) - 1), 3)) -> 0000 | AA13: =_xlfn.CONCAT(DEC2BIN(S13), DEC2BIN(IF(ISBLANK(T13), 0, MATCH(T13, 后继微地址形成!$E$2:$E$9, 0) - 1), 3)) -> 0000
D14: =DEC2HEX(ROW(D14)-3, 2) -> 0B | E14: =_xlfn.CONCAT(BIN2HEX(V14), BIN2HEX(W14), " ", BIN2HEX(X14), BIN2HEX(Y14), " ", BIN2HEX(Z14), BIN2HEX(AA14)) -> 00 00 00 | V14: =_xlfn.CONCAT(DEC2BIN(F14), DEC2BIN(G14), DEC2BIN(H14), DEC2BIN(I14)) -> 0000 | W14: =_xlfn.CONCAT(DEC2BIN(IF(ISBLANK(J14), 0, MATCH(J14, 运算选择!$E$2:$E$9, 0) - 1), 3), DEC2BIN(IF(ISBLANK(K14), 0, MATCH(K14, 单列下拉值!$A$2:$A$3, 0) - 1), 1)) -> 0000 | X14: =_xlfn.CONCAT(DEC2BIN(IF(ISBLANK(L14), 0, MATCH(L14, A寄存器选择!$D$2:$D$5, 0) - 1), 2), DEC2BIN(IF(ISBLANK(M14), 0, MATCH(M14, B寄存器选择!$D$2:$D$5, 0) - 1), 2)) -> 0000 | Y14: =_xlfn.CONCAT(DEC2BIN(IF(ISBLANK(N14), 0, MATCH(N14, 单列下拉值!$B$2:$B$3, 0) - 1)), DEC2BIN(IF(ISBLANK(O14), 0, MATCH(O14, 单列下拉值!$C$2:$C$3, 0) - 1)), DEC2BIN(IF(ISBLANK(P14), 0, MATCH(P14, ALU寄存器选择!$D$2:$D$5, 0) - 1), 2)) -> 0000 | Z14: =_xlfn.CONCAT(DEC2BIN(IF(ISBLANK(Q14),0,MATCH(Q14,单列下拉值!$D$2:$D$3,0)-1)), DEC2BIN(IF(ISBLANK(R14), 0, MATCH(R14, CP选择!$E$2:$E$9, 0) - 1), 3)) -> 0000 | AA14: =_xlfn.CONCAT(DEC2BIN(S14), DEC2BIN(IF(ISBLANK(T14), 0, MATCH(T14, 后继微地址形成!$E$2:$E$9, 0) - 1), 3)) -> 0000
D15: =DEC2HEX(ROW(D15)-3, 2) -> 0C | E15: =_xlfn.CONCAT(BIN2HEX(V15), BIN2HEX(W15), " ", BIN2HEX(X15), BIN2HEX(Y15), " ", BIN2HEX(Z15), BIN2HEX(AA15)) -> 00 00 00 | V15: =_xlfn.CONCAT(DEC2BIN(F15), DEC2BIN(G15), DEC2BIN(H15), DEC2BIN(I15)) -> 0000 | W15: =_xlfn.CONCAT(DEC2BIN(IF(ISBLANK(J15), 0, MATCH(J15, 运算选择!$E$2:$E$9, 0) - 1), 3), DEC2BIN(IF(ISBLANK(K15), 0, MATCH(K15, 单列下拉值!$A$2:$A$3, 0) - 1), 1)) -> 0000 | X15: =_xlfn.CONCAT(DEC2BIN(IF(ISBLANK(L15), 0, MATCH(L15, A寄存器选择!$D$2:$D$5, 0) - 1), 2), DEC2BIN(IF(ISBLANK(M15), 0, MATCH(M15, B寄存器选择!$D$2:$D$5, 0) - 1), 2)) -> 0000 | Y15: =_xlfn.CONCAT(DEC2BIN(IF(ISBLANK(N15), 0, MATCH(N15, 单列下拉值!$B$2:$B$3, 0) - 1)), DEC2BIN(IF(ISBLANK(O15), 0, MATCH(O15, 单列下拉值!$C$2:$C$3, 0) - 1)), DEC2BIN(IF(ISBLANK(P15), 0, MATCH(P15, ALU寄存器选择!$D$2:$D$5, 0) - 1), 2)) -> 0000 | Z15: =_xlfn.CONCAT(DEC2BIN(IF(ISBLANK(Q15),0,MATCH(Q15,单列下拉值!$D$2:$D$3,0)-1)), DEC2BIN(IF(ISBLANK(R15), 0, MATCH(R15, CP选择!$E$2:$E$9, 0) - 1), 3)) -> 0000 | AA15: =_xlfn.CONCAT(DEC2BIN(S15), DEC2BIN(IF(ISBLANK(T15), 0, MATCH(T15, 后继微地址形成!$E$2:$E$9, 0) - 1), 3)) -> 0000
D16: =DEC2HEX(ROW(D16)-3, 2) -> 0D | E16: =_xlfn.CONCAT(BIN2HEX(V16), BIN2HEX(W16), " ", BIN2HEX(X16), BIN2HEX(Y16), " ", BIN2HEX(Z16), BIN2HEX(AA16)) -> 00 00 00 | V16: =_xlfn.CONCAT(DEC2BIN(F16), DEC2BIN(G16), DEC2BIN(H16), DEC2BIN(I16)) -> 0000 | W16: =_xlfn.CONCAT(DEC2BIN(IF(ISBLANK(J16), 0, MATCH(J16, 运算选择!$E$2:$E$9, 0) - 1), 3), DEC2BIN(IF(ISBLANK(K16), 0, MATCH(K16, 单列下拉值!$A$2:$A$3, 0) - 1), 1)) -> 0000 | X16: =_xlfn.CONCAT(DEC2BIN(IF(ISBLANK(L16), 0, MATCH(L16, A寄存器选择!$D$2:$D$5, 0) - 1), 2), DEC2BIN(IF(ISBLANK(M16), 0, MATCH(M16, B寄存器选择!$D$2:$D$5, 0) - 1), 2)) -> 0000 | Y16: =_xlfn.CONCAT(DEC2BIN(IF(ISBLANK(N16), 0, MATCH(N16, 单列下拉值!$B$2:$B$3, 0) - 1)), DEC2BIN(IF(ISBLANK(O16), 0, MATCH(O16, 单列下拉值!$C$2:$C$3, 0) - 1)), DEC2BIN(IF(ISBLANK(P16), 0, MATCH(P16, ALU寄存器选择!$D$2:$D$5, 0) - 1), 2)) -> 0000 | Z16: =_xlfn.CONCAT(DEC2BIN(IF(ISBLANK(Q16),0,MATCH(Q16,单列下拉值!$D$2:$D$3,0)-1)), DEC2BIN(IF(ISBLANK(R16), 0, MATCH(R16, CP选择!$E$2:$E$9, 0) - 1), 3)) -> 0000 | AA16: =_xlfn.CONCAT(DEC2BIN(S16), DEC2BIN(IF(ISBLANK(T16), 0, MATCH(T16, 后继微地址形成!$E$2:$E$9, 0) - 1), 3)) -> 0000
D17: =DEC2HEX(ROW(D17)-3, 2) -> 0E | E17: =_xlfn.CONCAT(BIN2HEX(V17), BIN2HEX(W17), " ", BIN2HEX(X17), BIN2HEX(Y17), " ", BIN2HEX(Z17), BIN2HEX(AA17)) -> 00 00 00 | V17: =_xlfn.CONCAT(DEC2BIN(F17), DEC2BIN(G17), DEC2BIN(H17), DEC2BIN(I17)) -> 0000 | W17: =_xlfn.CONCAT(DEC2BIN(IF(ISBLANK(J17), 0, MATCH(J17, 运算选择!$E$2:$E$9, 0) - 1), 3), DEC2BIN(IF(ISBLANK(K17), 0, MATCH(K17, 单列下拉值!$A$2:$A$3, 0) - 1), 1)) -> 0000 | X17: =_xlfn.CONCAT(DEC2BIN(IF(ISBLANK(L17), 0, MATCH(L17, A寄存器选择!$D$2:$D$5, 0) - 1), 2), DEC2BIN(IF(ISBLANK(M17), 0, MATCH(M17, B寄存器选择!$D$2:$D$5, 0) - 1), 2)) -> 0000 | Y17: =_xlfn.CONCAT(DEC2BIN(IF(ISBLANK(N17), 0, MATCH(N17, 单列下拉值!$B$2:$B$3, 0) - 1)), DEC2BIN(IF(ISBLANK(O17), 0, MATCH(O17, 单列下拉值!$C$2:$C$3, 0) - 1)), DEC2BIN(IF(ISBLANK(P17), 0, MATCH(P17, ALU寄存器选择!$D$2:$D$5, 0) - 1), 2)) -> 0000 | Z17: =_xlfn.CONCAT(DEC2BIN(IF(ISBLANK(Q17),0,MATCH(Q17,单列下拉值!$D$2:$D$3,0)-1)), DEC2BIN(IF(ISBLANK(R17), 0, MATCH(R17, CP选择!$E$2:$E$9, 0) - 1), 3)) -> 0000 | AA17: =_xlfn.CONCAT(DEC2BIN(S17), DEC2BIN(IF(ISBLANK(T17), 0, MATCH(T17, 后继微地址形成!$E$2:$E$9, 0) - 1), 3)) -> 0000
D18: =DEC2HEX(ROW(D18)-3, 2) -> 0F | E18: =_xlfn.CONCAT(BIN2HEX(V18), BIN2HEX(W18), " ", BIN2HEX(X18), BIN2HEX(Y18), " ", BIN2HEX(Z18), BIN2HEX(AA18)) -> 00 00 00 | V18: =_xlfn.CONCAT(DEC2BIN(F18), DEC2BIN(G18), DEC2BIN(H18), DEC2BIN(I18)) -> 0000 | W18: =_xlfn.CONCAT(DEC2BIN(IF(ISBLANK(J18), 0, MATCH(J18, 运算选择!$E$2:$E$9, 0) - 1), 3), DEC2BIN(IF(ISBLANK(K18), 0, MATCH(K18, 单列下拉值!$A$2:$A$3, 0) - 1), 1)) -> 0000 | X18: =_xlfn.CONCAT(DEC2BIN(IF(ISBLANK(L18), 0, MATCH(L18, A寄存器选择!$D$2:$D$5, 0) - 1), 2), DEC2BIN(IF(ISBLANK(M18), 0, MATCH(M18, B寄存器选择!$D$2:$D$5, 0) - 1), 2)) -> 0000 | Y18: =_xlfn.CONCAT(DEC2BIN(IF(ISBLANK(N18), 0, MATCH(N18, 单列下拉值!$B$2:$B$3, 0) - 1)), DEC2BIN(IF(ISBLANK(O18), 0, MATCH(O18, 单列下拉值!$C$2:$C$3, 0) - 1)), DEC2BIN(IF(ISBLANK(P18), 0, MATCH(P18, ALU寄存器选择!$D$2:$D$5, 0) - 1), 2)) -> 0000 | Z18: =_xlfn.CONCAT(DEC2BIN(IF(ISBLANK(Q18),0,MATCH(Q18,单列下拉值!$D$2:$D$3,0)-1)), DEC2BIN(IF(ISBLANK(R18), 0, MATCH(R18, CP选择!$E$2:$E$9, 0) - 1), 3)) -> 0000 | AA18: =_xlfn.CONCAT(DEC2BIN(S18), DEC2BIN(IF(ISBLANK(T18), 0, MATCH(T18, 后继微地址形成!$E$2:$E$9, 0) - 1), 3)) -> 0000
A19: STA * Rj, AD | B19: PC->MAR, PC+1->PC | C19: PC->B | D19: =DEC2HEX(ROW(D19)-3, 2) -> 10 | E19: =_xlfn.CONCAT(BIN2HEX(V19), BIN2HEX(W19), " ", BIN2HEX(X19), BIN2HEX(Y19), " ", BIN2HEX(Z19), BIN2HEX(AA19)) -> 00 12 01 | M19: B选PC | P19: 存入B寄存器 | T19: μPC加一 | V19: =_xlfn.CONCAT(DEC2BIN(F19), DEC2BIN(G19), DEC2BIN(H19), DEC2BIN(I19)) -> 0000 | W19: =_xlfn.CONCAT(DEC2BIN(IF(ISBLANK(J19), 0, MATCH(J19, 运算选择!$E$2:$E$9, 0) - 1), 3), DEC2BIN(IF(ISBLANK(K19), 0, MATCH(K19, 单列下拉值!$A$2:$A$3, 0) - 1), 1)) -> 0000 | X19: =_xlfn.CONCAT(DEC2BIN(IF(ISBLANK(L19), 0, MATCH(L19, A寄存器选择!$D$2:$D$5, 0) - 1), 2), DEC2BIN(IF(ISBLANK(M19), 0, MATCH(M19, B寄存器选择!$D$2:$D$5, 0) - 1), 2)) -> 0001 | Y19: =_xlfn.CONCAT(DEC2BIN(IF(ISBLANK(N19), 0, MATCH(N19, 单列下拉值!$B$2:$B$3, 0) - 1)), DEC2BIN(IF(ISBLANK(O19), 0, MATCH(O19, 单列下拉值!$C$2:$C$3, 0) - 1)), DEC2BIN(IF(ISBLANK(P19), 0, MATCH(P19, ALU寄存器选择!$D$2:$D$5, 0) - 1), 2)) -> 0010 | Z19: =_xlfn.CONCAT(DEC2BIN(IF(ISBLANK(Q19),0,MATCH(Q19,单列下拉值!$D$2:$D$3,0)-1)), DEC2BIN(IF(ISBLANK(R19), 0, MATCH(R19, CP选择!$E$2:$E$9, 0) - 1), 3)) -> 0000 | AA19: =_xlfn.CONCAT(DEC2BIN(S19), DEC2BIN(IF(ISBLANK(T19), 0, MATCH(T19, 后继微地址形成!$E$2:$E$9, 0) - 1), 3)) -> 0001
C20: 0->A, PC+1->PC | D20: =DEC2HEX(ROW(D20)-3, 2) -> 11 | E20: =_xlfn.CONCAT(BIN2HEX(V20), BIN2HEX(W20), " ", BIN2HEX(X20), BIN2HEX(Y20), " ", BIN2HEX(Z20), BIN2HEX(AA20)) -> 00 01 A1 | L20: A置0 | P20: 存入A寄存器 | Q20: 加一 | R20: CPPC | T20: μPC加一 | V20: =_xlfn.CONCAT(DEC2BIN(F20), DEC2BIN(G20), DEC2BIN(H20), DEC2BIN(I20)) -> 0000 | W20: =_xlfn.CONCAT(DEC2BIN(IF(ISBLANK(J20), 0, MATCH(J20, 运算选择!$E$2:$E$9, 0) - 1), 3), DEC2BIN(IF(ISBLANK(K20), 0, MATCH(K20, 单列下拉值!$A$2:$A$3, 0) - 1), 1)) -> 0000 | X20: =_xlfn.CONCAT(DEC2BIN(IF(ISBLANK(L20), 0, MATCH(L20, A寄存器选择!$D$2:$D$5, 0) - 1), 2), DEC2BIN(IF(ISBLANK(M20), 0, MATCH(M20, B寄存器选择!$D$2:$D$5, 0) - 1), 2)) -> 0000 | Y20: =_xlfn.CONCAT(DEC2BIN(IF(ISBLANK(N20), 0, MATCH(N20, 单列下拉值!$B$2:$B$3, 0) - 1)), DEC2BIN(IF(ISBLANK(O20), 0, MATCH(O20, 单列下拉值!$C$2:$C$3, 0) - 1)), DEC2BIN(IF(ISBLANK(P20), 0, MATCH(P20, ALU寄存器选择!$D$2:$D$5, 0) - 1), 2)) -> 0001 | Z20: =_xlfn.CONCAT(DEC2BIN(IF(ISBLANK(Q20),0,MATCH(Q20,单列下拉值!$D$2:$D$3,0)-1)), DEC2BIN(IF(ISBLANK(R20), 0, MATCH(R20, CP选择!$E$2:$E$9, 0) - 1), 3)) -> 1010 | AA20: =_xlfn.CONCAT(DEC2BIN(S20), DEC2BIN(IF(ISBLANK(T20), 0, MATCH(T20, 后继微地址形成!$E$2:$E$9, 0) - 1), 3)) -> 0001
C21: 0+B->Z | D21: =DEC2HEX(ROW(D21)-3, 2) -> 12 | E21: =_xlfn.CONCAT(BIN2HEX(V21), BIN2HEX(W21), " ", BIN2HEX(X21), BIN2HEX(Y21), " ", BIN2HEX(Z21), BIN2HEX(AA21)) -> 04 03 01 | J21: 无符号加 | P21: 存入Z和PSW | T21: μPC加一 | V21: =_xlfn.CONCAT(DEC2BIN(F21), DEC2BIN(G21), DEC2BIN(H21), DEC2BIN(I21)) -> 0000 | W21: =_xlfn.CONCAT(DEC2BIN(IF(ISBLANK(J21), 0, MATCH(J21, 运算选择!$E$2:$E$9, 0) - 1), 3), DEC2BIN(IF(ISBLANK(K21), 0, MATCH(K21, 单列下拉值!$A$2:$A$3, 0) - 1), 1)) -> 0100 | X21: =_xlfn.CONCAT(DEC2BIN(IF(ISBLANK(L21), 0, MATCH(L21, A寄存器选择!$D$2:$D$5, 0) - 1), 2), DEC2BIN(IF(ISBLANK(M21), 0, MATCH(M21, B寄存器选择!$D$2:$D$5, 0) - 1), 2)) -> 0000 | Y21: =_xlfn.CONCAT(DEC2BIN(IF(ISBLANK(N21), 0, MATCH(N21, 单列下拉值!$B$2:$B$3, 0) - 1)), DEC2BIN(IF(ISBLANK(O21), 0, MATCH(O21, 单列下拉值!$C$2:$C$3, 0) - 1)), DEC2BIN(IF(ISBLANK(P21), 0, MATCH(P21, ALU寄存器选择!$D$2:$D$5, 0) - 1), 2)) -> 0011 | Z21: =_xlfn.CONCAT(DEC2BIN(IF(ISBLANK(Q21),0,MATCH(Q21,单列下拉值!$D$2:$D$3,0)-1)), DEC2BIN(IF(ISBLANK(R21), 0, MATCH(R21, CP选择!$E$2:$E$9, 0) - 1), 3)) -> 0000 | AA21: =_xlfn.CONCAT(DEC2BIN(S21), DEC2BIN(IF(ISBLANK(T21), 0, MATCH(T21, 后继微地址形成!$E$2:$E$9, 0) - 1), 3)) -> 0001
C22: Z->MAR | D22: =DEC2HEX(ROW(D22)-3, 2) -> 13 | E22: =_xlfn.CONCAT(BIN2HEX(V22), BIN2HEX(W22), " ", BIN2HEX(X22), BIN2HEX(Y22), " ", BIN2HEX(Z22), BIN2HEX(AA22)) -> 00 00 41 | R22: CPMAR | T22: μPC加一 | V22: =_xlfn.CONCAT(DEC2BIN(F22), DEC2BIN(G22), DEC2BIN(H22), DEC2BIN(I22)) -> 0000 | W22: =_xlfn.CONCAT(DEC2BIN(IF(ISBLANK(J22), 0, MATCH(J22, 运算选择!$E$2:$E$9, 0) - 1), 3), DEC2BIN(IF(ISBLANK(K22), 0, MATCH(K22, 单列下拉值!$A$2:$A$3, 0) - 1), 1)) -> 0000 | X22: =_xlfn.CONCAT(DEC2BIN(IF(ISBLANK(L22), 0, MATCH(L22, A寄存器选择!$D$2:$D$5, 0) - 1), 2), DEC2BIN(IF(ISBLANK(M22), 0, MATCH(M22, B寄存器选择!$D$2:$D$5, 0) - 1), 2)) -> 0000 | Y22: =_xlfn.CONCAT(DEC2BIN(IF(ISBLANK(N22), 0, MATCH(N22, 单列下拉值!$B$2:$B$3, 0) - 1)), DEC2BIN(IF(ISBLANK(O22), 0, MATCH(O22, 单列下拉值!$C$2:$C$3, 0) - 1)), DEC2BIN(IF(ISBLANK(P22), 0, MATCH(P22, ALU寄存器选择!$D$2:$D$5, 0) - 1), 2)) -> 0000 | Z22: =_xlfn.CONCAT(DEC2BIN(IF(ISBLANK(Q22),0,MATCH(Q22,单列下拉值!$D$2:$D$3,0)-1)), DEC2BIN(IF(ISBLANK(R22), 0, MATCH(R22, CP选择!$E$2:$E$9, 0) - 1), 3)) -> 0100 | AA22: =_xlfn.CONCAT(DEC2BIN(S22), DEC2BIN(IF(ISBLANK(T22), 0, MATCH(T22, 后继微地址形成!$E$2:$E$9, 0) - 1), 3)) -> 0001
C23: 1->R, M(MAR)->MDR | D23: =DEC2HEX(ROW(D23)-3, 2) -> 14 | E23: =_xlfn.CONCAT(BIN2HEX(V23), BIN2HEX(W23), " ", BIN2HEX(X23), BIN2HEX(Y23), " ", BIN2HEX(Z23), BIN2HEX(AA23)) -> 00 00 51 | K23: 内存→MDR | R23: CPMDR | T23: μPC加一 | V23: =_xlfn.CONCAT(DEC2BIN(F23), DEC2BIN(G23), DEC2BIN(H23), DEC2BIN(I23)) -> 0000 | W23: =_xlfn.CONCAT(DEC2BIN(IF(ISBLANK(J23), 0, MATCH(J23, 运算选择!$E$2:$E$9, 0) - 1), 3), DEC2BIN(IF(ISBLANK(K23), 0, MATCH(K23, 单列下拉值!$A$2:$A$3, 0) - 1), 1)) -> 0000 | X23: =_xlfn.CONCAT(DEC2BIN(IF(ISBLANK(L23), 0, MATCH(L23, A寄存器选择!$D$2:$D$5, 0) - 1), 2), DEC2BIN(IF(ISBLANK(M23), 0, MATCH(M23, B寄存器选择!$D$2:$D$5, 0) - 1), 2)) -> 0000 | Y23: =_xlfn.CONCAT(DEC2BIN(IF(ISBLANK(N23), 0, MATCH(N23, 单列下拉值!$B$2:$B$3, 0) - 1)), DEC2BIN(IF(ISBLANK(O23), 0, MATCH(O23, 单列下拉值!$C$2:$C$3, 0) - 1)), DEC2BIN(IF(ISBLANK(P23), 0, MATCH(P23, ALU寄存器选择!$D$2:$D$5, 0) - 1), 2)) -> 0000 | Z23: =_xlfn.CONCAT(DEC2BIN(IF(ISBLANK(Q23),0,MATCH(Q23,单列下拉值!$D$2:$D$3,0)-1)), DEC2BIN(IF(ISBLANK(R23), 0, MATCH(R23, CP选择!$E$2:$E$9, 0) - 1), 3)) -> 0101 | AA23: =_xlfn.CONCAT(DEC2BIN(S23), DEC2BIN(IF(ISBLANK(T23), 0, MATCH(T23, 后继微地址形成!$E$2:$E$9, 0) - 1), 3)) -> 0001
B24: MDR->MAR | C24: MDR->A | D24: =DEC2HEX(ROW(D24)-3, 2) -> 15 | E24: =_xlfn.CONCAT(BIN2HEX(V24), BIN2HEX(W24), " ", BIN2HEX(X24), BIN2HEX(Y24), " ", BIN2HEX(Z24), BIN2HEX(AA24)) -> 00 41 01 | L24: A选MDR | P24: 存入A寄存器 | T24: μPC加一 | V24: =_xlfn.CONCAT(DEC2BIN(F24), DEC2BIN(G24), DEC2BIN(H24), DEC2BIN(I24)) -> 0000 | W24: =_xlfn.CONCAT(DEC2BIN(IF(ISBLANK(J24), 0, MATCH(J24, 运算选择!$E$2:$E$9, 0) - 1), 3), DEC2BIN(IF(ISBLANK(K24), 0, MATCH(K24, 单列下拉值!$A$2:$A$3, 0) - 1), 1)) -> 0000 | X24: =_xlfn.CONCAT(DEC2BIN(IF(ISBLANK(L24), 0, MATCH(L24, A寄存器选择!$D$2:$D$5, 0) - 1), 2), DEC2BIN(IF(ISBLANK(M24), 0, MATCH(M24, B寄存器选择!$D$2:$D$5, 0) - 1), 2)) -> 0100 | Y24: =_xlfn.CONCAT(DEC2BIN(IF(ISBLANK(N24), 0, MATCH(N24, 单列下拉值!$B$2:$B$3, 0) - 1)), DEC2BIN(IF(ISBLANK(O24), 0, MATCH(O24, 单列下拉值!$C$2:$C$3, 0) - 1)), DEC2BIN(IF(ISBLANK(P24), 0, MATCH(P24, ALU寄存器选择!$D$2:$D$5, 0) - 1), 2)) -> 0001 | Z24: =_xlfn.CONCAT(DEC2BIN(IF(ISBLANK(Q24),0,MATCH(Q24,单列下拉值!$D$2:$D$3,0)-1)), DEC2BIN(IF(ISBLANK(R24), 0, MATCH(R24, CP选择!$E$2:$E$9, 0) - 1), 3)) -> 0000 | AA24: =_xlfn.CONCAT(DEC2BIN(S24), DEC2BIN(IF(ISBLANK(T24), 0, MATCH(T24, 后继微地址形成!$E$2:$E$9, 0) - 1), 3)) -> 0001
C25: 0->B | D25: =DEC2HEX(ROW(D25)-3, 2) -> 16 | E25: =_xlfn.CONCAT(BIN2HEX(V25), BIN2HEX(W25), " ", BIN2HEX(X25), BIN2HEX(Y25), " ", BIN2HEX(Z25), BIN2HEX(AA25)) -> 00 02 01 | M25: B置0 | P25: 存入B寄存器 | T25: μPC加一 | V25: =_xlfn.CONCAT(DEC2BIN(F25), DEC2BIN(G25), DEC2BIN(H25), DEC2BIN(I25)) -> 0000 | W25: =_xlfn.CONCAT(DEC2BIN(IF(ISBLANK(J25), 0, MATCH(J25, 运算选择!$E$2:$E$9, 0) - 1), 3), DEC2BIN(IF(ISBLANK(K25), 0, MATCH(K25, 单列下拉值!$A$2:$A$3, 0) - 1), 1)) -> 0000 | X25: =_xlfn.CONCAT(DEC2BIN(IF(ISBLANK(L25), 0, MATCH(L25, A寄存器选择!$D$2:$D$5, 0) - 1), 2), DEC2BIN(IF(ISBLANK(M25), 0, MATCH(M25, B寄存器选择!$D$2:$D$5, 0) - 1), 2)) -> 0000 | Y25: =_xlfn.CONCAT(DEC2BIN(IF(ISBLANK(N25), 0, MATCH(N25, 单列下拉值!$B$2:$B$3, 0) - 1)), DEC2BIN(IF(ISBLANK(O25), 0, MATCH(O25, 单列下拉值!$C$2:$C$3, 0) - 1)), DEC2BIN(IF(ISBLANK(P25), 0, MATCH(P25, ALU寄存器选择!$D$2:$D$5, 0) - 1), 2)) -> 0010 | Z25: =_xlfn.CONCAT(DEC2BIN(IF(ISBLANK(Q25),0,MATCH(Q25,单列下拉值!$D$2:$D$3,0)-1)), DEC2BIN(IF(ISBLANK(R25), 0, MATCH(R25, CP选择!$E$2:$E$9, 0) - 1), 3)) -> 0000 | AA25: =_xlfn.CONCAT(DEC2BIN(S25), DEC2BIN(IF(ISBLANK(T25), 0, MATCH(T25, 后继微地址形成!$E$2:$E$9, 0) - 1), 3)) -> 0001
C26: A+0->Z | D26: =DEC2HEX(ROW(D26)-3, 2) -> 17 | E26: =_xlfn.CONCAT(BIN2HEX(V26), BIN2HEX(W26), " ", BIN2HEX(X26), BIN2HEX(Y26), " ", BIN2HEX(Z26), BIN2HEX(AA26)) -> 04 03 01 | J26: 无符号加 | P26: 存入Z和PSW | T26: μPC加一 | V26: =_xlfn.CONCAT(DEC2BIN(F26), DEC2BIN(G26), DEC2BIN(H26), DEC2BIN(I26)) -> 0000 | W26: =_xlfn.CONCAT(DEC2BIN(IF(ISBLANK(J26), 0, MATCH(J26, 运算选择!$E$2:$E$9, 0) - 1), 3), DEC2BIN(IF(ISBLANK(K26), 0, MATCH(K26, 单列下拉值!$A$2:$A$3, 0) - 1), 1)) -> 0100 | X26: =_xlfn.CONCAT(DEC2BIN(IF(ISBLANK(L26), 0, MATCH(L26, A寄存器选择!$D$2:$D$5, 0) - 1), 2), DEC2BIN(IF(ISBLANK(M26), 0, MATCH(M26, B寄存器选择!$D$2:$D$5, 0) - 1), 2)) -> 0000 | Y26: =_xlfn.CONCAT(DEC2BIN(IF(ISBLANK(N26), 0, MATCH(N26, 单列下拉值!$B$2:$B$3, 0) - 1)), DEC2BIN(IF(ISBLANK(O26), 0, MATCH(O26, 单列下拉值!$C$2:$C$3, 0) - 1)), DEC2BIN(IF(ISBLANK(P26), 0, MATCH(P26, ALU寄存器选择!$D$2:$D$5, 0) - 1), 2)) -> 0011 | Z26: =_xlfn.CONCAT(DEC2BIN(IF(ISBLANK(Q26),0,MATCH(Q26,单列下拉值!$D$2:$D$3,0)-1)), DEC2BIN(IF(ISBLANK(R26), 0, MATCH(R26, CP选择!$E$2:$E$9, 0) - 1), 3)) -> 0000 | AA26: =_xlfn.CONCAT(DEC2BIN(S26), DEC2BIN(IF(ISBLANK(T26), 0, MATCH(T26, 后继微地址形成!$E$2:$E$9, 0) - 1), 3)) -> 0001
C27: Z->MAR | D27: =DEC2HEX(ROW(D27)-3, 2) -> 18 | E27: =_xlfn.CONCAT(BIN2HEX(V27), BIN2HEX(W27), " ", BIN2HEX(X27), BIN2HEX(Y27), " ", BIN2HEX(Z27), BIN2HEX(AA27)) -> 00 00 41 | R27: CPMAR | T27: μPC加一 | V27: =_xlfn.CONCAT(DEC2BIN(F27), DEC2BIN(G27), DEC2BIN(H27), DEC2BIN(I27)) -> 0000 | W27: =_xlfn.CONCAT(DEC2BIN(IF(ISBLANK(J27), 0, MATCH(J27, 运算选择!$E$2:$E$9, 0) - 1), 3), DEC2BIN(IF(ISBLANK(K27), 0, MATCH(K27, 单列下拉值!$A$2:$A$3, 0) - 1), 1)) -> 0000 | X27: =_xlfn.CONCAT(DEC2BIN(IF(ISBLANK(L27), 0, MATCH(L27, A寄存器选择!$D$2:$D$5, 0) - 1), 2), DEC2BIN(IF(ISBLANK(M27), 0, MATCH(M27, B寄存器选择!$D$2:$D$5, 0) - 1), 2)) -> 0000 | Y27: =_xlfn.CONCAT(DEC2BIN(IF(ISBLANK(N27), 0, MATCH(N27, 单列下拉值!$B$2:$B$3, 0) - 1)), DEC2BIN(IF(ISBLANK(O27), 0, MATCH(O27, 单列下拉值!$C$2:$C$3, 0) - 1)), DEC2BIN(IF(ISBLANK(P27), 0, MATCH(P27, ALU寄存器选择!$D$2:$D$5, 0) - 1), 2)) -> 0000 | Z27: =_xlfn.CONCAT(DEC2BIN(IF(ISBLANK(Q27),0,MATCH(Q27,单列下拉值!$D$2:$D$3,0)-1)), DEC2BIN(IF(ISBLANK(R27), 0, MATCH(R27, CP选择!$E$2:$E$9, 0) - 1), 3)) -> 0100 | AA27: =_xlfn.CONCAT(DEC2BIN(S27), DEC2BIN(IF(ISBLANK(T27), 0, MATCH(T27, 后继微地址形成!$E$2:$E$9, 0) - 1), 3)) -> 0001
B28: Rj->MDR | C28: Rj->B | D28: =DEC2HEX(ROW(D28)-3, 2) -> 19 | E28: =_xlfn.CONCAT(BIN2HEX(V28), BIN2HEX(W28), " ", BIN2HEX(X28), BIN2HEX(Y28), " ", BIN2HEX(Z28), BIN2HEX(AA28)) -> 00 22 01 | M28: B选通用寄存器 | P28: 存入B寄存器 | T28: μPC加一 | V28: =_xlfn.CONCAT(DEC2BIN(F28), DEC2BIN(G28), DEC2BIN(H28), DEC2BIN(I28)) -> 0000 | W28: =_xlfn.CONCAT(DEC2BIN(IF(ISBLANK(J28), 0, MATCH(J28, 运算选择!$E$2:$E$9, 0) - 1), 3), DEC2BIN(IF(ISBLANK(K28), 0, MATCH(K28, 单列下拉值!$A$2:$A$3, 0) - 1), 1)) -> 0000 | X28: =_xlfn.CONCAT(DEC2BIN(IF(ISBLANK(L28), 0, MATCH(L28, A寄存器选择!$D$2:$D$5, 0) - 1), 2), DEC2BIN(IF(ISBLANK(M28), 0, MATCH(M28, B寄存器选择!$D$2:$D$5, 0) - 1), 2)) -> 0010 | Y28: =_xlfn.CONCAT(DEC2BIN(IF(ISBLANK(N28), 0, MATCH(N28, 单列下拉值!$B$2:$B$3, 0) - 1)), DEC2BIN(IF(ISBLANK(O28), 0, MATCH(O28, 单列下拉值!$C$2:$C$3, 0) - 1)), DEC2BIN(IF(ISBLANK(P28), 0, MATCH(P28, ALU寄存器选择!$D$2:$D$5, 0) - 1), 2)) -> 0010 | Z28: =_xlfn.CONCAT(DEC2BIN(IF(ISBLANK(Q28),0,MATCH(Q28,单列下拉值!$D$2:$D$3,0)-1)), DEC2BIN(IF(ISBLANK(R28), 0, MATCH(R28, CP选择!$E$2:$E$9, 0) - 1), 3)) -> 0000 | AA28: =_xlfn.CONCAT(DEC2BIN(S28), DEC2BIN(IF(ISBLANK(T28), 0, MATCH(T28, 后继微地址形成!$E$2:$E$9, 0) - 1), 3)) -> 0001
C29: 0->A | D29: =DEC2HEX(ROW(D29)-3, 2) -> 1A | E29: =_xlfn.CONCAT(BIN2HEX(V29), BIN2HEX(W29), " ", BIN2HEX(X29), BIN2HEX(Y29), " ", BIN2HEX(Z29), BIN2HEX(AA29)) -> 00 01 01 | L29: A置0 | P29: 存入A寄存器 | T29: μPC加一 | V29: =_xlfn.CONCAT(DEC2BIN(F29), DEC2BIN(G29), DEC2BIN(H29), DEC2BIN(I29)) -> 0000 | W29: =_xlfn.CONCAT(DEC2BIN(IF(ISBLANK(J29), 0, MATCH(J29, 运算选择!$E$2:$E$9, 0) - 1), 3), DEC2BIN(IF(ISBLANK(K29), 0, MATCH(K29, 单列下拉值!$A$2:$A$3, 0) - 1), 1)) -> 0000 | X29: =_xlfn.CONCAT(DEC2BIN(IF(ISBLANK(L29), 0, MATCH(L29, A寄存器选择!$D$2:$D$5, 0) - 1), 2), DEC2BIN(IF(ISBLANK(M29), 0, MATCH(M29, B寄存器选择!$D$2:$D$5, 0) - 1), 2)) -> 0000 | Y29: =_xlfn.CONCAT(DEC2BIN(IF(ISBLANK(N29), 0, MATCH(N29, 单列下拉值!$B$2:$B$3, 0) - 1)), DEC2BIN(IF(ISBLANK(O29), 0, MATCH(O29, 单列下拉值!$C$2:$C$3, 0) - 1)), DEC2BIN(IF(ISBLANK(P29), 0, MATCH(P29, ALU寄存器选择!$D$2:$D$5, 0) - 1), 2)) -> 0001 | Z29: =_xlfn.CONCAT(DEC2BIN(IF(ISBLANK(Q29),0,MATCH(Q29,单列下拉值!$D$2:$D$3,0)-1)), DEC2BIN(IF(ISBLANK(R29), 0, MATCH(R29, CP选择!$E$2:$E$9, 0) - 1), 3)) -> 0000 | AA29: =_xlfn.CONCAT(DEC2BIN(S29), DEC2BIN(IF(ISBLANK(T29), 0, MATCH(T29, 后继微地址形成!$E$2:$E$9, 0) - 1), 3)) -> 0001
C30: B+0->Z | D30: =DEC2HEX(ROW(D30)-3, 2) -> 1B | E30: =_xlfn.CONCAT(BIN2HEX(V30), BIN2HEX(W30), " ", BIN2HEX(X30), BIN2HEX(Y30), " ", BIN2HEX(Z30), BIN2HEX(AA30)) -> 04 03 01 | J30: 无符号加 | P30: 存入Z和PSW | T30: μPC加一 | V30: =_xlfn.CONCAT(DEC2BIN(F30), DEC2BIN(G30), DEC2BIN(H30), DEC2BIN(I30)) -> 0000 | W30: =_xlfn.CONCAT(DEC2BIN(IF(ISBLANK(J30), 0, MATCH(J30, 运算选择!$E$2:$E$9, 0) - 1), 3), DEC2BIN(IF(ISBLANK(K30), 0, MATCH(K30, 单列下拉值!$A$2:$A$3, 0) - 1), 1)) -> 0100 | X30: =_xlfn.CONCAT(DEC2BIN(IF(ISBLANK(L30), 0, MATCH(L30, A寄存器选择!$D$2:$D$5, 0) - 1), 2), DEC2BIN(IF(ISBLANK(M30), 0, MATCH(M30, B寄存器选择!$D$2:$D$5, 0) - 1), 2)) -> 0000 | Y30: =_xlfn.CONCAT(DEC2BIN(IF(ISBLANK(N30), 0, MATCH(N30, 单列下拉值!$B$2:$B$3, 0) - 1)), DEC2BIN(IF(ISBLANK(O30), 0, MATCH(O30, 单列下拉值!$C$2:$C$3, 0) - 1)), DEC2BIN(IF(ISBLANK(P30), 0, MATCH(P30, ALU寄存器选择!$D$2:$D$5, 0) - 1), 2)) -> 0011 | Z30: =_xlfn.CONCAT(DEC2BIN(IF(ISBLANK(Q30),0,MATCH(Q30,单列下拉值!$D$2:$D$3,0)-1)), DEC2BIN(IF(ISBLANK(R30), 0, MATCH(R30, CP选择!$E$2:$E$9, 0) - 1), 3)) -> 0000 | AA30: =_xlfn.CONCAT(DEC2BIN(S30), DEC2BIN(IF(ISBLANK(T30), 0, MATCH(T30, 后继微地址形成!$E$2:$E$9, 0) - 1), 3)) -> 0001
C31: Z->MDR | D31: =DEC2HEX(ROW(D31)-3, 2) -> 1C | E31: =_xlfn.CONCAT(BIN2HEX(V31), BIN2HEX(W31), " ", BIN2HEX(X31), BIN2HEX(Y31), " ", BIN2HEX(Z31), BIN2HEX(AA31)) -> 01 00 51 | K31: 总线(Z)→MDR&MDR→内存 | R31: CPMDR | T31: μPC加一 | V31: =_xlfn.CONCAT(DEC2BIN(F31), DEC2BIN(G31), DEC2BIN(H31), DEC2BIN(I31)) -> 0000 | W31: =_xlfn.CONCAT(DEC2BIN(IF(ISBLANK(J31), 0, MATCH(J31, 运算选择!$E$2:$E$9, 0) - 1), 3), DEC2BIN(IF(ISBLANK(K31), 0, MATCH(K31, 单列下拉值!$A$2:$A$3, 0) - 1), 1)) -> 0001 | X31: =_xlfn.CONCAT(DEC2BIN(IF(ISBLANK(L31), 0, MATCH(L31, A寄存器选择!$D$2:$D$5, 0) - 1), 2), DEC2BIN(IF(ISBLANK(M31), 0, MATCH(M31, B寄存器选择!$D$2:$D$5, 0) - 1), 2)) -> 0000 | Y31: =_xlfn.CONCAT(DEC2BIN(IF(ISBLANK(N31), 0, MATCH(N31, 单列下拉值!$B$2:$B$3, 0) - 1)), DEC2BIN(IF(ISBLANK(O31), 0, MATCH(O31, 单列下拉值!$C$2:$C$3, 0) - 1)), DEC2BIN(IF(ISBLANK(P31), 0, MATCH(P31, ALU寄存器选择!$D$2:$D$5, 0) - 1), 2)) -> 0000 | Z31: =_xlfn.CONCAT(DEC2BIN(IF(ISBLANK(Q31),0,MATCH(Q31,单列下拉值!$D$2:$D$3,0)-1)), DEC2BIN(IF(ISBLANK(R31), 0, MATCH(R31, CP选择!$E$2:$E$9, 0) - 1), 3)) -> 0101 | AA31: =_xlfn.CONCAT(DEC2BIN(S31), DEC2BIN(IF(ISBLANK(T31), 0, MATCH(T31, 后继微地址形成!$E$2:$E$9, 0) - 1), 3)) -> 0001
C32: 1->W, MDR->M(MAR) | D32: =DEC2HEX(ROW(D32)-3, 2) -> 1D | E32: =_xlfn.CONCAT(BIN2HEX(V32), BIN2HEX(W32), " ", BIN2HEX(X32), BIN2HEX(Y32), " ", BIN2HEX(Z32), BIN2HEX(AA32)) -> 01 08 01 | K32: 总线(Z)→MDR&MDR→内存 | N32: 写 | T32: μPC加一 | V32: =_xlfn.CONCAT(DEC2BIN(F32), DEC2BIN(G32), DEC2BIN(H32), DEC2BIN(I32)) -> 0000 | W32: =_xlfn.CONCAT(DEC2BIN(IF(ISBLANK(J32), 0, MATCH(J32, 运算选择!$E$2:$E$9, 0) - 1), 3), DEC2BIN(IF(ISBLANK(K32), 0, MATCH(K32, 单列下拉值!$A$2:$A$3, 0) - 1), 1)) -> 0001 | X32: =_xlfn.CONCAT(DEC2BIN(IF(ISBLANK(L32), 0, MATCH(L32, A寄存器选择!$D$2:$D$5, 0) - 1), 2), DEC2BIN(IF(ISBLANK(M32), 0, MATCH(M32, B寄存器选择!$D$2:$D$5, 0) - 1), 2)) -> 0000 | Y32: =_xlfn.CONCAT(DEC2BIN(IF(ISBLANK(N32), 0, MATCH(N32, 单列下拉值!$B$2:$B$3, 0) - 1)), DEC2BIN(IF(ISBLANK(O32), 0, MATCH(O32, 单列下拉值!$C$2:$C$3, 0) - 1)), DEC2BIN(IF(ISBLANK(P32), 0, MATCH(P32, ALU寄存器选择!$D$2:$D$5, 0) - 1), 2)) -> 1000 | Z32: =_xlfn.CONCAT(DEC2BIN(IF(ISBLANK(Q32),0,MATCH(Q32,单列下拉值!$D$2:$D$3,0)-1)), DEC2BIN(IF(ISBLANK(R32), 0, MATCH(R32, CP选择!$E$2:$E$9, 0) - 1), 3)) -> 0000 | AA32: =_xlfn.CONCAT(DEC2BIN(S32), DEC2BIN(IF(ISBLANK(T32), 0, MATCH(T32, 后继微地址形成!$E$2:$E$9, 0) - 1), 3)) -> 0001
C33: END(JP) | D33: =DEC2HEX(ROW(D33)-3, 2) -> 1E | E33: =_xlfn.CONCAT(BIN2HEX(V33), BIN2HEX(W33), " ", BIN2HEX(X33), BIN2HEX(Y33), " ", BIN2HEX(Z33), BIN2HEX(AA33)) -> 00 00 02 | T33: 无条件跳转至00H | V33: =_xlfn.CONCAT(DEC2BIN(F33), DEC2BIN(G33), DEC2BIN(H33), DEC2BIN(I33)) -> 0000 | W33: =_xlfn.CONCAT(DEC2BIN(IF(ISBLANK(J33), 0, MATCH(J33, 运算选择!$E$2:$E$9, 0) - 1), 3), DEC2BIN(IF(ISBLANK(K33), 0, MATCH(K33, 单列下拉值!$A$2:$A$3, 0) - 1), 1)) -> 0000 | X33: =_xlfn.CONCAT(DEC2BIN(IF(ISBLANK(L33), 0, MATCH(L33, A寄存器选择!$D$2:$D$5, 0) - 1), 2), DEC2BIN(IF(ISBLANK(M33), 0, MATCH(M33, B寄存器选择!$D$2:$D$5, 0) - 1), 2)) -> 0000 | Y33: =_xlfn.CONCAT(DEC2BIN(IF(ISBLANK(N33), 0, MATCH(N33, 单列下拉值!$B$2:$B$3, 0) - 1)), DEC2BIN(IF(ISBLANK(O33), 0, MATCH(O33, 单列下拉值!$C$2:$C$3, 0) - 1)), DEC2BIN(IF(ISBLANK(P33), 0, MATCH(P33, ALU寄存器选择!$D$2:$D$5, 0) - 1), 2)) -> 0000 | Z33: =_xlfn.CONCAT(DEC2BIN(IF(ISBLANK(Q33),0,MATCH(Q33,单列下拉值!$D$2:$D$3,0)-1)), DEC2BIN(IF(ISBLANK(R33), 0, MATCH(R33, CP选择!$E$2:$E$9, 0) - 1), 3)) -> 0000 | AA33: =_xlfn.CONCAT(DEC2BIN(S33), DEC2BIN(IF(ISBLANK(T33), 0, MATCH(T33, 后继微地址形成!$E$2:$E$9, 0) - 1), 3)) -> 0010
D34: =DEC2HEX(ROW(D34)-3, 2) -> 1F | E34: =_xlfn.CONCAT(BIN2HEX(V34), BIN2HEX(W34), " ", BIN2HEX(X34), BIN2HEX(Y34), " ", BIN2HEX(Z34), BIN2HEX(AA34)) -> 00 00 00 | V34: =_xlfn.CONCAT(DEC2BIN(F34), DEC2BIN(G34), DEC2BIN(H34), DEC2BIN(I34)) -> 0000 | W34: =_xlfn.CONCAT(DEC2BIN(IF(ISBLANK(J34), 0, MATCH(J34, 运算选择!$E$2:$E$9, 0) - 1), 3), DEC2BIN(IF(ISBLANK(K34), 0, MATCH(K34, 单列下拉值!$A$2:$A$3, 0) - 1), 1)) -> 0000 | X34: =_xlfn.CONCAT(DEC2BIN(IF(ISBLANK(L34), 0, MATCH(L34, A寄存器选择!$D$2:$D$5, 0) - 1), 2), DEC2BIN(IF(ISBLANK(M34), 0, MATCH(M34, B寄存器选择!$D$2:$D$5, 0) - 1), 2)) -> 0000 | Y34: =_xlfn.CONCAT(DEC2BIN(IF(ISBLANK(N34), 0, MATCH(N34, 单列下拉值!$B$2:$B$3, 0) - 1)), DEC2BIN(IF(ISBLANK(O34), 0, MATCH(O34, 单列下拉值!$C$2:$C$3, 0) - 1)), DEC2BIN(IF(ISBLANK(P34), 0, MATCH(P34, ALU寄存器选择!$D$2:$D$5, 0) - 1), 2)) -> 0000 | Z34: =_xlfn.CONCAT(DEC2BIN(IF(ISBLANK(Q34),0,MATCH(Q34,单列下拉值!$D$2:$D$3,0)-1)), DEC2BIN(IF(ISBLANK(R34), 0, MATCH(R34, CP选择!$E$2:$E$9, 0) - 1), 3)) -> 0000 | AA34: =_xlfn.CONCAT(DEC2BIN(S34), DEC2BIN(IF(ISBLANK(T34), 0, MATCH(T34, 后继微地址形成!$E$2:$E$9, 0) - 1), 3)) -> 0000
A35: LD * Rj, AD | B35: PC->MAR, PC+1->PC | C35: PC->B | D35: =DEC2HEX(ROW(D35)-3, 2) -> 20 | E35: =_xlfn.CONCAT(BIN2HEX(V35), BIN2HEX(W35), " ", BIN2HEX(X35), BIN2HEX(Y35), " ", BIN2HEX(Z35), BIN2HEX(AA35)) -> 00 12 01 | M35: B选PC | P35: 存入B寄存器 | T35: μPC加一 | V35: =_xlfn.CONCAT(DEC2BIN(F35), DEC2BIN(G35), DEC2BIN(H35), DEC2BIN(I35)) -> 0000 | W35: =_xlfn.CONCAT(DEC2BIN(IF(ISBLANK(J35), 0, MATCH(J35, 运算选择!$E$2:$E$9, 0) - 1), 3), DEC2BIN(IF(ISBLANK(K35), 0, MATCH(K35, 单列下拉值!$A$2:$A$3, 0) - 1), 1)) -> 0000 | X35: =_xlfn.CONCAT(DEC2BIN(IF(ISBLANK(L35), 0, MATCH(L35, A寄存器选择!$D$2:$D$5, 0) - 1), 2), DEC2BIN(IF(ISBLANK(M35), 0, MATCH(M35, B寄存器选择!$D$2:$D$5, 0) - 1), 2)) -> 0001 | Y35: =_xlfn.CONCAT(DEC2BIN(IF(ISBLANK(N35), 0, MATCH(N35, 单列下拉值!$B$2:$B$3, 0) - 1)), DEC2BIN(IF(ISBLANK(O35), 0, MATCH(O35, 单列下拉值!$C$2:$C$3, 0) - 1)), DEC2BIN(IF(ISBLANK(P35), 0, MATCH(P35, ALU寄存器选择!$D$2:$D$5, 0) - 1), 2)) -> 0010 | Z35: =_xlfn.CONCAT(DEC2BIN(IF(ISBLANK(Q35),0,MATCH(Q35,单列下拉值!$D$2:$D$3,0)-1)), DEC2BIN(IF(ISBLANK(R35), 0, MATCH(R35, CP选择!$E$2:$E$9, 0) - 1), 3)) -> 0000 | AA35: =_xlfn.CONCAT(DEC2BIN(S35), DEC2BIN(IF(ISBLANK(T35), 0, MATCH(T35, 后继微地址形成!$E$2:$E$9, 0) - 1), 3)) -> 0001
C36: 0->A, PC+1->PC | D36: =DEC2HEX(ROW(D36)-3, 2) -> 21 | E36: =_xlfn.CONCAT(BIN2HEX(V36), BIN2HEX(W36), " ", BIN2HEX(X36), BIN2HEX(Y36), " ", BIN2HEX(Z36), BIN2HEX(AA36)) -> 00 01 A1 | L36: A置0 | P36: 存入A寄存器 | Q36: 加一 | R36: CPPC | T36: μPC加一 | V36: =_xlfn.CONCAT(DEC2BIN(F36), DEC2BIN(G36), DEC2BIN(H36), DEC2BIN(I36)) -> 0000 | W36: =_xlfn.CONCAT(DEC2BIN(IF(ISBLANK(J36), 0, MATCH(J36, 运算选择!$E$2:$E$9, 0) - 1), 3), DEC2BIN(IF(ISBLANK(K36), 0, MATCH(K36, 单列下拉值!$A$2:$A$3, 0) - 1), 1)) -> 0000 | X36: =_xlfn.CONCAT(DEC2BIN(IF(ISBLANK(L36), 0, MATCH(L36, A寄存器选择!$D$2:$D$5, 0) - 1), 2), DEC2BIN(IF(ISBLANK(M36), 0, MATCH(M36, B寄存器选择!$D$2:$D$5, 0) - 1), 2)) -> 0000 | Y36: =_xlfn.CONCAT(DEC2BIN(IF(ISBLANK(N36), 0, MATCH(N36, 单列下拉值!$B$2:$B$3, 0) - 1)), DEC2BIN(IF(ISBLANK(O36), 0, MATCH(O36, 单列下拉值!$C$2:$C$3, 0) - 1)), DEC2BIN(IF(ISBLANK(P36), 0, MATCH(P36, ALU寄存器选择!$D$2:$D$5, 0) - 1), 2)) -> 0001 | Z36: =_xlfn.CONCAT(DEC2BIN(IF(ISBLANK(Q36),0,MATCH(Q36,单列下拉值!$D$2:$D$3,0)-1)), DEC2BIN(IF(ISBLANK(R36), 0, MATCH(R36, CP选择!$E$2:$E$9, 0) - 1), 3)) -> 1010 | AA36: =_xlfn.CONCAT(DEC2BIN(S36), DEC2BIN(IF(ISBLANK(T36), 0, MATCH(T36, 后继微地址形成!$E$2:$E$9, 0) - 1), 3)) -> 0001
C37: 0+B->Z | D37: =DEC2HEX(ROW(D37)-3, 2) -> 22 | E37: =_xlfn.CONCAT(BIN2HEX(V37), BIN2HEX(W37), " ", BIN2HEX(X37), BIN2HEX(Y37), " ", BIN2HEX(Z37), BIN2HEX(AA37)) -> 04 03 01 | J37: 无符号加 | P37: 存入Z和PSW | T37: μPC加一 | V37: =_xlfn.CONCAT(DEC2BIN(F37), DEC2BIN(G37), DEC2BIN(H37), DEC2BIN(I37)) -> 0000 | W37: =_xlfn.CONCAT(DEC2BIN(IF(ISBLANK(J37), 0, MATCH(J37, 运算选择!$E$2:$E$9, 0) - 1), 3), DEC2BIN(IF(ISBLANK(K37), 0, MATCH(K37, 单列下拉值!$A$2:$A$3, 0) - 1), 1)) -> 0100 | X37: =_xlfn.CONCAT(DEC2BIN(IF(ISBLANK(L37), 0, MATCH(L37, A寄存器选择!$D$2:$D$5, 0) - 1), 2), DEC2BIN(IF(ISBLANK(M37), 0, MATCH(M37, B寄存器选择!$D$2:$D$5, 0) - 1), 2)) -> 0000 | Y37: =_xlfn.CONCAT(DEC2BIN(IF(ISBLANK(N37), 0, MATCH(N37, 单列下拉值!$B$2:$B$3, 0) - 1)), DEC2BIN(IF(ISBLANK(O37), 0, MATCH(O37, 单列下拉值!$C$2:$C$3, 0) - 1)), DEC2BIN(IF(ISBLANK(P37), 0, MATCH(P37, ALU寄存器选择!$D$2:$D$5, 0) - 1), 2)) -> 0011 | Z37: =_xlfn.CONCAT(DEC2BIN(IF(ISBLANK(Q37),0,MATCH(Q37,单列下拉值!$D$2:$D$3,0)-1)), DEC2BIN(IF(ISBLANK(R37), 0, MATCH(R37, CP选择!$E$2:$E$9, 0) - 1), 3)) -> 0000 | AA37: =_xlfn.CONCAT(DEC2BIN(S37), DEC2BIN(IF(ISBLANK(T37), 0, MATCH(T37, 后继微地址形成!$E$2:$E$9, 0) - 1), 3)) -> 0001
C38: Z->MAR | D38: =DEC2HEX(ROW(D38)-3, 2) -> 23 | E38: =_xlfn.CONCAT(BIN2HEX(V38), BIN2HEX(W38), " ", BIN2HEX(X38), BIN2HEX(Y38), " ", BIN2HEX(Z38), BIN2HEX(AA38)) -> 00 00 41 | R38: CPMAR | T38: μPC加一 | V38: =_xlfn.CONCAT(DEC2BIN(F38), DEC2BIN(G38), DEC2BIN(H38), DEC2BIN(I38)) -> 0000 | W38: =_xlfn.CONCAT(DEC2BIN(IF(ISBLANK(J38), 0, MATCH(J38, 运算选择!$E$2:$E$9, 0) - 1), 3), DEC2BIN(IF(ISBLANK(K38), 0, MATCH(K38, 单列下拉值!$A$2:$A$3, 0) - 1), 1)) -> 0000 | X38: =_xlfn.CONCAT(DEC2BIN(IF(ISBLANK(L38), 0, MATCH(L38, A寄存器选择!$D$2:$D$5, 0) - 1), 2), DEC2BIN(IF(ISBLANK(M38), 0, MATCH(M38, B寄存器选择!$D$2:$D$5, 0) - 1), 2)) -> 0000 | Y38: =_xlfn.CONCAT(DEC2BIN(IF(ISBLANK(N38), 0, MATCH(N38, 单列下拉值!$B$2:$B$3, 0) - 1)), DEC2BIN(IF(ISBLANK(O38), 0, MATCH(O38, 单列下拉值!$C$2:$C$3, 0) - 1)), DEC2BIN(IF(ISBLANK(P38), 0, MATCH(P38, ALU寄存器选择!$D$2:$D$5, 0) - 1), 2)) -> 0000 | Z38: =_xlfn.CONCAT(DEC2BIN(IF(ISBLANK(Q38),0,MATCH(Q38,单列下拉值!$D$2:$D$3,0)-1)), DEC2BIN(IF(ISBLANK(R38), 0, MATCH(R38, CP选择!$E$2:$E$9, 0) - 1), 3)) -> 0100 | AA38: =_xlfn.CONCAT(DEC2BIN(S38), DEC2BIN(IF(ISBLANK(T38), 0, MATCH(T38, 后继微地址形成!$E$2:$E$9, 0) - 1), 3)) -> 0001
C39: 1->R, M(MAR)->MDR | D39: =DEC2HEX(ROW(D39)-3, 2) -> 24 | E39: =_xlfn.CONCAT(BIN2HEX(V39), BIN2HEX(W39), " ", BIN2HEX(X39), BIN2HEX(Y39), " ", BIN2HEX(Z39), BIN2HEX(AA39)) -> 00 04 51 | K39: 内存→MDR | O39: 读 | R39: CPMDR | T39: μPC加一 | V39: =_xlfn.CONCAT(DEC2BIN(F39), DEC2BIN(G39), DEC2BIN(H39), DEC2BIN(I39)) -> 0000 | W39: =_xlfn.CONCAT(DEC2BIN(IF(ISBLANK(J39), 0, MATCH(J39, 运算选择!$E$2:$E$9, 0) - 1), 3), DEC2BIN(IF(ISBLANK(K39), 0, MATCH(K39, 单列下拉值!$A$2:$A$3, 0) - 1), 1)) -> 0000 | X39: =_xlfn.CONCAT(DEC2BIN(IF(ISBLANK(L39), 0, MATCH(L39, A寄存器选择!$D$2:$D$5, 0) - 1), 2), DEC2BIN(IF(ISBLANK(M39), 0, MATCH(M39, B寄存器选择!$D$2:$D$5, 0) - 1), 2)) -> 0000 | Y39: =_xlfn.CONCAT(DEC2BIN(IF(ISBLANK(N39), 0, MATCH(N39, 单列下拉值!$B$2:$B$3, 0) - 1)), DEC2BIN(IF(ISBLANK(O39), 0, MATCH(O39, 单列下拉值!$C$2:$C$3, 0) - 1)), DEC2BIN(IF(ISBLANK(P39), 0, MATCH(P39, ALU寄存器选择!$D$2:$D$5, 0) - 1), 2)) -> 0100 | Z39: =_xlfn.CONCAT(DEC2BIN(IF(ISBLANK(Q39),0,MATCH(Q39,单列下拉值!$D$2:$D$3,0)-1)), DEC2BIN(IF(ISBLANK(R39), 0, MATCH(R39, CP选择!$E$2:$E$9, 0) - 1), 3)) -> 0101 | AA39: =_xlfn.CONCAT(DEC2BIN(S39), DEC2BIN(IF(ISBLANK(T39), 0, MATCH(T39, 后继微地址形成!$E$2:$E$9, 0) - 1), 3)) -> 0001
B40: MDR->MAR | C40: MDR->A | D40: =DEC2HEX(ROW(D40)-3, 2) -> 25 | E40: =_xlfn.CONCAT(BIN2HEX(V40), BIN2HEX(W40), " ", BIN2HEX(X40), BIN2HEX(Y40), " ", BIN2HEX(Z40), BIN2HEX(AA40)) -> 00 41 01 | L40: A选MDR | P40: 存入A寄存器 | T40: μPC加一 | V40: =_xlfn.CONCAT(DEC2BIN(F40), DEC2BIN(G40), DEC2BIN(H40), DEC2BIN(I40)) -> 0000 | W40: =_xlfn.CONCAT(DEC2BIN(IF(ISBLANK(J40), 0, MATCH(J40, 运算选择!$E$2:$E$9, 0) - 1), 3), DEC2BIN(IF(ISBLANK(K40), 0, MATCH(K40, 单列下拉值!$A$2:$A$3, 0) - 1), 1)) -> 0000 | X40: =_xlfn.CONCAT(DEC2BIN(IF(ISBLANK(L40), 0, MATCH(L40, A寄存器选择!$D$2:$D$5, 0) - 1), 2), DEC2BIN(IF(ISBLANK(M40), 0, MATCH(M40, B寄存器选择!$D$2:$D$5, 0) - 1), 2)) -> 0100 | Y40: =_xlfn.CONCAT(DEC2BIN(IF(ISBLANK(N40), 0, MATCH(N40, 单列下拉值!$B$2:$B$3, 0) - 1)), DEC2BIN(IF(ISBLANK(O40), 0, MATCH(O40, 单列下拉值!$C$2:$C$3, 0) - 1)), DEC2BIN(IF(ISBLANK(P40), 0, MATCH(P40, ALU寄存器选择!$D$2:$D$5, 0) - 1), 2)) -> 0001 | Z40: =_xlfn.CONCAT(DEC2BIN(IF(ISBLANK(Q40),0,MATCH(Q40,单列下拉值!$D$2:$D$3,0)-1)), DEC2BIN(IF(ISBLANK(R40), 0, MATCH(R40, CP选择!$E$2:$E$9, 0) - 1), 3)) -> 0000 | AA40: =_xlfn.CONCAT(DEC2BIN(S40), DEC2BIN(IF(ISBLANK(T40), 0, MATCH(T40, 后继微地址形成!$E$2:$E$9, 0) - 1), 3)) -> 0001
C41: 0->B | D41: =DEC2HEX(ROW(D41)-3, 2) -> 26 | E41: =_xlfn.CONCAT(BIN2HEX(V41), BIN2HEX(W41), " ", BIN2HEX(X41), BIN2HEX(Y41), " ", BIN2HEX(Z41), BIN2HEX(AA41)) -> 00 02 01 | M41: B置0 | P41: 存入B寄存器 | T41: μPC加一 | V41: =_xlfn.CONCAT(DEC2BIN(F41), DEC2BIN(G41), DEC2BIN(H41), DEC2BIN(I41)) -> 0000 | W41: =_xlfn.CONCAT(DEC2BIN(IF(ISBLANK(J41), 0, MATCH(J41, 运算选择!$E$2:$E$9, 0) - 1), 3), DEC2BIN(IF(ISBLANK(K41), 0, MATCH(K41, 单列下拉值!$A$2:$A$3, 0) - 1), 1)) -> 0000 | X41: =_xlfn.CONCAT(DEC2BIN(IF(ISBLANK(L41), 0, MATCH(L41, A寄存器选择!$D$2:$D$5, 0) - 1), 2), DEC2BIN(IF(ISBLANK(M41), 0, MATCH(M41, B寄存器选择!$D$2:$D$5, 0) - 1), 2)) -> 0000 | Y41: =_xlfn.CONCAT(DEC2BIN(IF(ISBLANK(N41), 0, MATCH(N41, 单列下拉值!$B$2:$B$3, 0) - 1)), DEC2BIN(IF(ISBLANK(O41), 0, MATCH(O41, 单列下拉值!$C$2:$C$3, 0) - 1)), DEC2BIN(IF(ISBLANK(P41), 0, MATCH(P41, ALU寄存器选择!$D$2:$D$5, 0) - 1), 2)) -> 0010 | Z41: =_xlfn.CONCAT(DEC2BIN(IF(ISBLANK(Q41),0,MATCH(Q41,单列下拉值!$D$2:$D$3,0)-1)), DEC2BIN(IF(ISBLANK(R41), 0, MATCH(R41, CP选择!$E$2:$E$9, 0) - 1), 3)) -> 0000 | AA41: =_xlfn.CONCAT(DEC2BIN(S41), DEC2BIN(IF(ISBLANK(T41), 0, MATCH(T41, 后继微地址形成!$E$2:$E$9, 0) - 1), 3)) -> 0001
C42: A+0->Z | D42: =DEC2HEX(ROW(D42)-3, 2) -> 27 | E42: =_xlfn.CONCAT(BIN2HEX(V42), BIN2HEX(W42), " ", BIN2HEX(X42), BIN2HEX(Y42), " ", BIN2HEX(Z42), BIN2HEX(AA42)) -> 04 03 01 | J42: 无符号加 | P42: 存入Z和PSW | T42: μPC加一 | V42: =_xlfn.CONCAT(DEC2BIN(F42), DEC2BIN(G42), DEC2BIN(H42), DEC2BIN(I42)) -> 0000 | W42: =_xlfn.CONCAT(DEC2BIN(IF(ISBLANK(J42), 0, MATCH(J42, 运算选择!$E$2:$E$9, 0) - 1), 3), DEC2BIN(IF(ISBLANK(K42), 0, MATCH(K42, 单列下拉值!$A$2:$A$3, 0) - 1), 1)) -> 0100 | X42: =_xlfn.CONCAT(DEC2BIN(IF(ISBLANK(L42), 0, MATCH(L42, A寄存器选择!$D$2:$D$5, 0) - 1), 2), DEC2BIN(IF(ISBLANK(M42), 0, MATCH(M42, B寄存器选择!$D$2:$D$5, 0) - 1), 2)) -> 0000 | Y42: =_xlfn.CONCAT(DEC2BIN(IF(ISBLANK(N42), 0, MATCH(N42, 单列下拉值!$B$2:$B$3, 0) - 1)), DEC2BIN(IF(ISBLANK(O42), 0, MATCH(O42, 单列下拉值!$C$2:$C$3, 0) - 1)), DEC2BIN(IF(ISBLANK(P42), 0, MATCH(P42, ALU寄存器选择!$D$2:$D$5, 0) - 1), 2)) -> 0011 | Z42: =_xlfn.CONCAT(DEC2BIN(IF(ISBLANK(Q42),0,MATCH(Q42,单列下拉值!$D$2:$D$3,0)-1)), DEC2BIN(IF(ISBLANK(R42), 0, MATCH(R42, CP选择!$E$2:$E$9, 0) - 1), 3)) -> 0000 | AA42: =_xlfn.CONCAT(DEC2BIN(S42), DEC2BIN(IF(ISBLANK(T42), 0, MATCH(T42, 后继微地址形成!$E$2:$E$9, 0) - 1), 3)) -> 0001
C43: Z->MAR | D43: =DEC2HEX(ROW(D43)-3, 2) -> 28 | E43: =_xlfn.CONCAT(BIN2HEX(V43), BIN2HEX(W43), " ", BIN2HEX(X43), BIN2HEX(Y43), " ", BIN2HEX(Z43), BIN2HEX(AA43)) -> 00 00 41 | R43: CPMAR | T43: μPC加一 | V43: =_xlfn.CONCAT(DEC2BIN(F43), DEC2BIN(G43), DEC2BIN(H43), DEC2BIN(I43)) -> 0000 | W43: =_xlfn.CONCAT(DEC2BIN(IF(ISBLANK(J43), 0, MATCH(J43, 运算选择!$E$2:$E$9, 0) - 1), 3), DEC2BIN(IF(ISBLANK(K43), 0, MATCH(K43, 单列下拉值!$A$2:$A$3, 0) - 1), 1)) -> 0000 | X43: =_xlfn.CONCAT(DEC2BIN(IF(ISBLANK(L43), 0, MATCH(L43, A寄存器选择!$D$2:$D$5, 0) - 1), 2), DEC2BIN(IF(ISBLANK(M43), 0, MATCH(M43, B寄存器选择!$D$2:$D$5, 0) - 1), 2)) -> 0000 | Y43: =_xlfn.CONCAT(DEC2BIN(IF(ISBLANK(N43), 0, MATCH(N43, 单列下拉值!$B$2:$B$3, 0) - 1)), DEC2BIN(IF(ISBLANK(O43), 0, MATCH(O43, 单列下拉值!$C$2:$C$3, 0) - 1)), DEC2BIN(IF(ISBLANK(P43), 0, MATCH(P43, ALU寄存器选择!$D$2:$D$5, 0) - 1), 2)) -> 0000 | Z43: =_xlfn.CONCAT(DEC2BIN(IF(ISBLANK(Q43),0,MATCH(Q43,单列下拉值!$D$2:$D$3,0)-1)), DEC2BIN(IF(ISBLANK(R43), 0, MATCH(R43, CP选择!$E$2:$E$9, 0) - 1), 3)) -> 0100 | AA43: =_xlfn.CONCAT(DEC2BIN(S43), DEC2BIN(IF(ISBLANK(T43), 0, MATCH(T43, 后继微地址形成!$E$2:$E$9, 0) - 1), 3)) -> 0001
C44: 1->R, MDR->M(MAR) | D44: =DEC2HEX(ROW(D44)-3, 2) -> 29 | E44: =_xlfn.CONCAT(BIN2HEX(V44), BIN2HEX(W44), " ", BIN2HEX(X44), BIN2HEX(Y44), " ", BIN2HEX(Z44), BIN2HEX(AA44)) -> 00 04 51 | K44: 内存→MDR | O44: 读 | R44: CPMDR | T44: μPC加一 | V44: =_xlfn.CONCAT(DEC2BIN(F44), DEC2BIN(G44), DEC2BIN(H44), DEC2BIN(I44)) -> 0000 | W44: =_xlfn.CONCAT(DEC2BIN(IF(ISBLANK(J44), 0, MATCH(J44, 运算选择!$E$2:$E$9, 0) - 1), 3), DEC2BIN(IF(ISBLANK(K44), 0, MATCH(K44, 单列下拉值!$A$2:$A$3, 0) - 1), 1)) -> 0000 | X44: =_xlfn.CONCAT(DEC2BIN(IF(ISBLANK(L44), 0, MATCH(L44, A寄存器选择!$D$2:$D$5, 0) - 1), 2), DEC2BIN(IF(ISBLANK(M44), 0, MATCH(M44, B寄存器选择!$D$2:$D$5, 0) - 1), 2)) -> 0000 | Y44: =_xlfn.CONCAT(DEC2BIN(IF(ISBLANK(N44), 0, MATCH(N44, 单列下拉值!$B$2:$B$3, 0) - 1)), DEC2BIN(IF(ISBLANK(O44), 0, MATCH(O44, 单列下拉值!$C$2:$C$3, 0) - 1)), DEC2BIN(IF(ISBLANK(P44), 0, MATCH(P44, ALU寄存器选择!$D$2:$D$5, 0) - 1), 2)) -> 0100 | Z44: =_xlfn.CONCAT(DEC2BIN(IF(ISBLANK(Q44),0,MATCH(Q44,单列下拉值!$D$2:$D$3,0)-1)), DEC2BIN(IF(ISBLANK(R44), 0, MATCH(R44, CP选择!$E$2:$E$9, 0) - 1), 3)) -> 0101 | AA44: =_xlfn.CONCAT(DEC2BIN(S44), DEC2BIN(IF(ISBLANK(T44), 0, MATCH(T44, 后继微地址形成!$E$2:$E$9, 0) - 1), 3)) -> 0001
B45: MDR->Rj | C45: MDR->A | D45: =DEC2HEX(ROW(D45)-3, 2) -> 2A | E45: =_xlfn.CONCAT(BIN2HEX(V45), BIN2HEX(W45), " ", BIN2HEX(X45), BIN2HEX(Y45), " ", BIN2HEX(Z45), BIN2HEX(AA45)) -> 00 41 01 | L45: A选MDR | P45: 存入A寄存器 | T45: μPC加一 | V45: =_xlfn.CONCAT(DEC2BIN(F45), DEC2BIN(G45), DEC2BIN(H45), DEC2BIN(I45)) -> 0000 | W45: =_xlfn.CONCAT(DEC2BIN(IF(ISBLANK(J45), 0, MATCH(J45, 运算选择!$E$2:$E$9, 0) - 1), 3), DEC2BIN(IF(ISBLANK(K45), 0, MATCH(K45, 单列下拉值!$A$2:$A$3, 0) - 1), 1)) -> 0000 | X45: =_xlfn.CONCAT(DEC2BIN(IF(ISBLANK(L45), 0, MATCH(L45, A寄存器选择!$D$2:$D$5, 0) - 1), 2), DEC2BIN(IF(ISBLANK(M45), 0, MATCH(M45, B寄存器选择!$D$2:$D$5, 0) - 1), 2)) -> 0100 | Y45: =_xlfn.CONCAT(DEC2BIN(IF(ISBLANK(N45), 0, MATCH(N45, 单列下拉值!$B$2:$B$3, 0) - 1)), DEC2BIN(IF(ISBLANK(O45), 0, MATCH(O45, 单列下拉值!$C$2:$C$3, 0) - 1)), DEC2BIN(IF(ISBLANK(P45), 0, MATCH(P45, ALU寄存器选择!$D$2:$D$5, 0) - 1), 2)) -> 0001 | Z45: =_xlfn.CONCAT(DEC2BIN(IF(ISBLANK(Q45),0,MATCH(Q45,单列下拉值!$D$2:$D$3,0)-1)), DEC2BIN(IF(ISBLANK(R45), 0, MATCH(R45, CP选择!$E$2:$E$9, 0) - 1), 3)) -> 0000 | AA45: =_xlfn.CONCAT(DEC2BIN(S45), DEC2BIN(IF(ISBLANK(T45), 0, MATCH(T45, 后继微地址形成!$E$2:$E$9, 0) - 1), 3)) -> 0001
C46: 0->B | D46: =DEC2HEX(ROW(D46)-3, 2) -> 2B | E46: =_xlfn.CONCAT(BIN2HEX(V46), BIN2HEX(W46), " ", BIN2HEX(X46), BIN2HEX(Y46), " ", BIN2HEX(Z46), BIN2HEX(AA46)) -> 00 02 01 | M46: B置0 | P46: 存入B寄存器 | T46: μPC加一 | V46: =_xlfn.CONCAT(DEC2BIN(F46), DEC2BIN(G46), DEC2BIN(H46), DEC2BIN(I46)) -> 0000 | W46: =_xlfn.CONCAT(DEC2BIN(IF(ISBLANK(J46), 0, MATCH(J46, 运算选择!$E$2:$E$9, 0) - 1), 3), DEC2BIN(IF(ISBLANK(K46), 0, MATCH(K46, 单列下拉值!$A$2:$A$3, 0) - 1), 1)) -> 0000 | X46: =_xlfn.CONCAT(DEC2BIN(IF(ISBLANK(L46), 0, MATCH(L46, A寄存器选择!$D$2:$D$5, 0) - 1), 2), DEC2BIN(IF(ISBLANK(M46), 0, MATCH(M46, B寄存器选择!$D$2:$D$5, 0) - 1), 2)) -> 0000 | Y46: =_xlfn.CONCAT(DEC2BIN(IF(ISBLANK(N46), 0, MATCH(N46, 单列下拉值!$B$2:$B$3, 0) - 1)), DEC2BIN(IF(ISBLANK(O46), 0, MATCH(O46, 单列下拉值!$C$2:$C$3, 0) - 1)), DEC2BIN(IF(ISBLANK(P46), 0, MATCH(P46, ALU寄存器选择!$D$2:$D$5, 0) - 1), 2)) -> 0010 | Z46: =_xlfn.CONCAT(DEC2BIN(IF(ISBLANK(Q46),0,MATCH(Q46,单列下拉值!$D$2:$D$3,0)-1)), DEC2BIN(IF(ISBLANK(R46), 0, MATCH(R46, CP选择!$E$2:$E$9, 0) - 1), 3)) -> 0000 | AA46: =_xlfn.CONCAT(DEC2BIN(S46), DEC2BIN(IF(ISBLANK(T46), 0, MATCH(T46, 后继微地址形成!$E$2:$E$9, 0) - 1), 3)) -> 0001
C47: A+0->Z | D47: =DEC2HEX(ROW(D47)-3, 2) -> 2C | E47: =_xlfn.CONCAT(BIN2HEX(V47), BIN2HEX(W47), " ", BIN2HEX(X47), BIN2HEX(Y47), " ", BIN2HEX(Z47), BIN2HEX(AA47)) -> 04 03 01 | J47: 无符号加 | P47: 存入Z和PSW | T47: μPC加一 | V47: =_xlfn.CONCAT(DEC2BIN(F47), DEC2BIN(G47), DEC2BIN(H47), DEC2BIN(I47)) -> 0000 | W47: =_xlfn.CONCAT(DEC2BIN(IF(ISBLANK(J47), 0, MATCH(J47, 运算选择!$E$2:$E$9, 0) - 1), 3), DEC2BIN(IF(ISBLANK(K47), 0, MATCH(K47, 单列下拉值!$A$2:$A$3, 0) - 1), 1)) -> 0100 | X47: =_xlfn.CONCAT(DEC2BIN(IF(ISBLANK(L47), 0, MATCH(L47, A寄存器选择!$D$2:$D$5, 0) - 1), 2), DEC2BIN(IF(ISBLANK(M47), 0, MATCH(M47, B寄存器选择!$D$2:$D$5, 0) - 1), 2)) -> 0000 | Y47: =_xlfn.CONCAT(DEC2BIN(IF(ISBLANK(N47), 0, MATCH(N47, 单列下拉值!$B$2:$B$3, 0) - 1)), DEC2BIN(IF(ISBLANK(O47), 0, MATCH(O47, 单列下拉值!$C$2:$C$3, 0) - 1)), DEC2BIN(IF(ISBLANK(P47), 0, MATCH(P47, ALU寄存器选择!$D$2:$D$5, 0) - 1), 2)) -> 0011 | Z47: =_xlfn.CONCAT(DEC2BIN(IF(ISBLANK(Q47),0,MATCH(Q47,单列下拉值!$D$2:$D$3,0)-1)), DEC2BIN(IF(ISBLANK(R47), 0, MATCH(R47, CP选择!$E$2:$E$9, 0) - 1), 3)) -> 0000 | AA47: =_xlfn.CONCAT(DEC2BIN(S47), DEC2BIN(IF(ISBLANK(T47), 0, MATCH(T47, 后继微地址形成!$E$2:$E$9, 0) - 1), 3)) -> 0001
C48: Z->Rj | D48: =DEC2HEX(ROW(D48)-3, 2) -> 2D | E48: =_xlfn.CONCAT(BIN2HEX(V48), BIN2HEX(W48), " ", BIN2HEX(X48), BIN2HEX(Y48), " ", BIN2HEX(Z48), BIN2HEX(AA48)) -> 00 00 11 | R48: CP4Reg | T48: μPC加一 | V48: =_xlfn.CONCAT(DEC2BIN(F48), DEC2BIN(G48), DEC2BIN(H48), DEC2BIN(I48)) -> 0000 | W48: =_xlfn.CONCAT(DEC2BIN(IF(ISBLANK(J48), 0, MATCH(J48, 运算选择!$E$2:$E$9, 0) - 1), 3), DEC2BIN(IF(ISBLANK(K48), 0, MATCH(K48, 单列下拉值!$A$2:$A$3, 0) - 1), 1)) -> 0000 | X48: =_xlfn.CONCAT(DEC2BIN(IF(ISBLANK(L48), 0, MATCH(L48, A寄存器选择!$D$2:$D$5, 0) - 1), 2), DEC2BIN(IF(ISBLANK(M48), 0, MATCH(M48, B寄存器选择!$D$2:$D$5, 0) - 1), 2)) -> 0000 | Y48: =_xlfn.CONCAT(DEC2BIN(IF(ISBLANK(N48), 0, MATCH(N48, 单列下拉值!$B$2:$B$3, 0) - 1)), DEC2BIN(IF(ISBLANK(O48), 0, MATCH(O48, 单列下拉值!$C$2:$C$3, 0) - 1)), DEC2BIN(IF(ISBLANK(P48), 0, MATCH(P48, ALU寄存器选择!$D$2:$D$5, 0) - 1), 2)) -> 0000 | Z48: =_xlfn.CONCAT(DEC2BIN(IF(ISBLANK(Q48),0,MATCH(Q48,单列下拉值!$D$2:$D$3,0)-1)), DEC2BIN(IF(ISBLANK(R48), 0, MATCH(R48, CP选择!$E$2:$E$9, 0) - 1), 3)) -> 0001 | AA48: =_xlfn.CONCAT(DEC2BIN(S48), DEC2BIN(IF(ISBLANK(T48), 0, MATCH(T48, 后继微地址形成!$E$2:$E$9, 0) - 1), 3)) -> 0001
C49: END(JP) | D49: =DEC2HEX(ROW(D49)-3, 2) -> 2E | E49: =_xlfn.CONCAT(BIN2HEX(V49), BIN2HEX(W49), " ", BIN2HEX(X49), BIN2HEX(Y49), " ", BIN2HEX(Z49), BIN2HEX(AA49)) -> 00 00 02 | T49: 无条件跳转至00H | V49: =_xlfn.CONCAT(DEC2BIN(F49), DEC2BIN(G49), DEC2BIN(H49), DEC2BIN(I49)) -> 0000 | W49: =_xlfn.CONCAT(DEC2BIN(IF(ISBLANK(J49), 0, MATCH(J49, 运算选择!$E$2:$E$9, 0) - 1), 3), DEC2BIN(IF(ISBLANK(K49), 0, MATCH(K49, 单列下拉值!$A$2:$A$3, 0) - 1), 1)) -> 0000 | X49: =_xlfn.CONCAT(DEC2BIN(IF(ISBLANK(L49), 0, MATCH(L49, A寄存器选择!$D$2:$D$5, 0) - 1), 2), DEC2BIN(IF(ISBLANK(M49), 0, MATCH(M49, B寄存器选择!$D$2:$D$5, 0) - 1), 2)) -> 0000 | Y49: =_xlfn.CONCAT(DEC2BIN(IF(ISBLANK(N49), 0, MATCH(N49, 单列下拉值!$B$2:$B$3, 0) - 1)), DEC2BIN(IF(ISBLANK(O49), 0, MATCH(O49, 单列下拉值!$C$2:$C$3, 0) - 1)), DEC2BIN(IF(ISBLANK(P49), 0, MATCH(P49, ALU寄存器选择!$D$2:$D$5, 0) - 1), 2)) -> 0000 | Z49: =_xlfn.CONCAT(DEC2BIN(IF(ISBLANK(Q49),0,MATCH(Q49,单列下拉值!$D$2:$D$3,0)-1)), DEC2BIN(IF(ISBLANK(R49), 0, MATCH(R49, CP选择!$E$2:$E$9, 0) - 1), 3)) -> 0000 | AA49: =_xlfn.CONCAT(DEC2BIN(S49), DEC2BIN(IF(ISBLANK(T49), 0, MATCH(T49, 后继微地址形成!$E$2:$E$9, 0) - 1), 3)) -> 0010
D50: =DEC2HEX(ROW(D50)-3, 2) -> 2F | E50: =_xlfn.CONCAT(BIN2HEX(V50), BIN2HEX(W50), " ", BIN2HEX(X50), BIN2HEX(Y50), " ", BIN2HEX(Z50), BIN2HEX(AA50)) -> 00 00 00 | V50: =_xlfn.CONCAT(DEC2BIN(F50), DEC2BIN(G50), DEC2BIN(H50), DEC2BIN(I50)) -> 0000 | W50: =_xlfn.CONCAT(DEC2BIN(IF(ISBLANK(J50), 0, MATCH(J50, 运算选择!$E$2:$E$9, 0) - 1), 3), DEC2BIN(IF(ISBLANK(K50), 0, MATCH(K50, 单列下拉值!$A$2:$A$3, 0) - 1), 1)) -> 0000 | X50: =_xlfn.CONCAT(DEC2BIN(IF(ISBLANK(L50), 0, MATCH(L50, A寄存器选择!$D$2:$D$5, 0) - 1), 2), DEC2BIN(IF(ISBLANK(M50), 0, MATCH(M50, B寄存器选择!$D$2:$D$5, 0) - 1), 2)) -> 0000 | Y50: =_xlfn.CONCAT(DEC2BIN(IF(ISBLANK(N50), 0, MATCH(N50, 单列下拉值!$B$2:$B$3, 0) - 1)), DEC2BIN(IF(ISBLANK(O50), 0, MATCH(O50, 单列下拉值!$C$2:$C$3, 0) - 1)), DEC2BIN(IF(ISBLANK(P50), 0, MATCH(P50, ALU寄存器选择!$D$2:$D$5, 0) - 1), 2)) -> 0000 | Z50: =_xlfn.CONCAT(DEC2BIN(IF(ISBLANK(Q50),0,MATCH(Q50,单列下拉值!$D$2:$D$3,0)-1)), DEC2BIN(IF(ISBLANK(R50), 0, MATCH(R50, CP选择!$E$2:$E$9, 0) - 1), 3)) -> 0000 | AA50: =_xlfn.CONCAT(DEC2BIN(S50), DEC2BIN(IF(ISBLANK(T50), 0, MATCH(T50, 后继微地址形成!$E$2:$E$9, 0) - 1), 3)) -> 0000
A51: ADD Ri, Rj(Ri + Rj → Rj) | C51: Rj->B | D51: =DEC2HEX(ROW(D51)-3, 2) -> 30 | E51: =_xlfn.CONCAT(BIN2HEX(V51), BIN2HEX(W51), " ", BIN2HEX(X51), BIN2HEX(Y51), " ", BIN2HEX(Z51), BIN2HEX(AA51)) -> 00 22 01 | M51: B选通用寄存器 | P51: 存入B寄存器 | T51: μPC加一 | V51: =_xlfn.CONCAT(DEC2BIN(F51), DEC2BIN(G51), DEC2BIN(H51), DEC2BIN(I51)) -> 0000 | W51: =_xlfn.CONCAT(DEC2BIN(IF(ISBLANK(J51), 0, MATCH(J51, 运算选择!$E$2:$E$9, 0) - 1), 3), DEC2BIN(IF(ISBLANK(K51), 0, MATCH(K51, 单列下拉值!$A$2:$A$3, 0) - 1), 1)) -> 0000 | X51: =_xlfn.CONCAT(DEC2BIN(IF(ISBLANK(L51), 0, MATCH(L51, A寄存器选择!$D$2:$D$5, 0) - 1), 2), DEC2BIN(IF(ISBLANK(M51), 0, MATCH(M51, B寄存器选择!$D$2:$D$5, 0) - 1), 2)) -> 0010 | Y51: =_xlfn.CONCAT(DEC2BIN(IF(ISBLANK(N51), 0, MATCH(N51, 单列下拉值!$B$2:$B$3, 0) - 1)), DEC2BIN(IF(ISBLANK(O51), 0, MATCH(O51, 单列下拉值!$C$2:$C$3, 0) - 1)), DEC2BIN(IF(ISBLANK(P51), 0, MATCH(P51, ALU寄存器选择!$D$2:$D$5, 0) - 1), 2)) -> 0010 | Z51: =_xlfn.CONCAT(DEC2BIN(IF(ISBLANK(Q51),0,MATCH(Q51,单列下拉值!$D$2:$D$3,0)-1)), DEC2BIN(IF(ISBLANK(R51), 0, MATCH(R51, CP选择!$E$2:$E$9, 0) - 1), 3)) -> 0000 | AA51: =_xlfn.CONCAT(DEC2BIN(S51), DEC2BIN(IF(ISBLANK(T51), 0, MATCH(T51, 后继微地址形成!$E$2:$E$9, 0) - 1), 3)) -> 0001
C52: Ri->A | D52: =DEC2HEX(ROW(D52)-3, 2) -> 31 | E52: =_xlfn.CONCAT(BIN2HEX(V52), BIN2HEX(W52), " ", BIN2HEX(X52), BIN2HEX(Y52), " ", BIN2HEX(Z52), BIN2HEX(AA52)) -> 00 81 01 | L52: A选通用寄存器 | P52: 存入A寄存器 | T52: μPC加一 | V52: =_xlfn.CONCAT(DEC2BIN(F52), DEC2BIN(G52), DEC2BIN(H52), DEC2BIN(I52)) -> 0000 | W52: =_xlfn.CONCAT(DEC2BIN(IF(ISBLANK(J52), 0, MATCH(J52, 运算选择!$E$2:$E$9, 0) - 1), 3), DEC2BIN(IF(ISBLANK(K52), 0, MATCH(K52, 单列下拉值!$A$2:$A$3, 0) - 1), 1)) -> 0000 | X52: =_xlfn.CONCAT(DEC2BIN(IF(ISBLANK(L52), 0, MATCH(L52, A寄存器选择!$D$2:$D$5, 0) - 1), 2), DEC2BIN(IF(ISBLANK(M52), 0, MATCH(M52, B寄存器选择!$D$2:$D$5, 0) - 1), 2)) -> 1000 | Y52: =_xlfn.CONCAT(DEC2BIN(IF(ISBLANK(N52), 0, MATCH(N52, 单列下拉值!$B$2:$B$3, 0) - 1)), DEC2BIN(IF(ISBLANK(O52), 0, MATCH(O52, 单列下拉值!$C$2:$C$3, 0) - 1)), DEC2BIN(IF(ISBLANK(P52), 0, MATCH(P52, ALU寄存器选择!$D$2:$D$5, 0) - 1), 2)) -> 0001 | Z52: =_xlfn.CONCAT(DEC2BIN(IF(ISBLANK(Q52),0,MATCH(Q52,单列下拉值!$D$2:$D$3,0)-1)), DEC2BIN(IF(ISBLANK(R52), 0, MATCH(R52, CP选择!$E$2:$E$9, 0) - 1), 3)) -> 0000 | AA52: =_xlfn.CONCAT(DEC2BIN(S52), DEC2BIN(IF(ISBLANK(T52), 0, MATCH(T52, 后继微地址形成!$E$2:$E$9, 0) - 1), 3)) -> 0001
C53: STRICT PLUS | D53: =DEC2HEX(ROW(D53)-3, 2) -> 32 | E53: =_xlfn.CONCAT(BIN2HEX(V53), BIN2HEX(W53), " ", BIN2HEX(X53), BIN2HEX(Y53), " ", BIN2HEX(Z53), BIN2HEX(AA53)) -> 02 03 01 | J53: 加法 | P53: 存入Z和PSW | T53: μPC加一 | V53: =_xlfn.CONCAT(DEC2BIN(F53), DEC2BIN(G53), DEC2BIN(H53), DEC2BIN(I53)) -> 0000 | W53: =_xlfn.CONCAT(DEC2BIN(IF(ISBLANK(J53), 0, MATCH(J53, 运算选择!$E$2:$E$9, 0) - 1), 3), DEC2BIN(IF(ISBLANK(K53), 0, MATCH(K53, 单列下拉值!$A$2:$A$3, 0) - 1), 1)) -> 0010 | X53: =_xlfn.CONCAT(DEC2BIN(IF(ISBLANK(L53), 0, MATCH(L53, A寄存器选择!$D$2:$D$5, 0) - 1), 2), DEC2BIN(IF(ISBLANK(M53), 0, MATCH(M53, B寄存器选择!$D$2:$D$5, 0) - 1), 2)) -> 0000 | Y53: =_xlfn.CONCAT(DEC2BIN(IF(ISBLANK(N53), 0, MATCH(N53, 单列下拉值!$B$2:$B$3, 0) - 1)), DEC2BIN(IF(ISBLANK(O53), 0, MATCH(O53, 单列下拉值!$C$2:$C$3, 0) - 1)), DEC2BIN(IF(ISBLANK(P53), 0, MATCH(P53, ALU寄存器选择!$D$2:$D$5, 0) - 1), 2)) -> 0011 | Z53: =_xlfn.CONCAT(DEC2BIN(IF(ISBLANK(Q53),0,MATCH(Q53,单列下拉值!$D$2:$D$3,0)-1)), DEC2BIN(IF(ISBLANK(R53), 0, MATCH(R53, CP选择!$E$2:$E$9, 0) - 1), 3)) -> 0000 | AA53: =_xlfn.CONCAT(DEC2BIN(S53), DEC2BIN(IF(ISBLANK(T53), 0, MATCH(T53, 后继微地址形成!$E$2:$E$9, 0) - 1), 3)) -> 0001
C54: Z->Rj | D54: =DEC2HEX(ROW(D54)-3, 2) -> 33 | E54: =_xlfn.CONCAT(BIN2HEX(V54), BIN2HEX(W54), " ", BIN2HEX(X54), BIN2HEX(Y54), " ", BIN2HEX(Z54), BIN2HEX(AA54)) -> 00 00 11 | R54: CP4Reg | T54: μPC加一 | V54: =_xlfn.CONCAT(DEC2BIN(F54), DEC2BIN(G54), DEC2BIN(H54), DEC2BIN(I54)) -> 0000 | W54: =_xlfn.CONCAT(DEC2BIN(IF(ISBLANK(J54), 0, MATCH(J54, 运算选择!$E$2:$E$9, 0) - 1), 3), DEC2BIN(IF(ISBLANK(K54), 0, MATCH(K54, 单列下拉值!$A$2:$A$3, 0) - 1), 1)) -> 0000 | X54: =_xlfn.CONCAT(DEC2BIN(IF(ISBLANK(L54), 0, MATCH(L54, A寄存器选择!$D$2:$D$5, 0) - 1), 2), DEC2BIN(IF(ISBLANK(M54), 0, MATCH(M54, B寄存器选择!$D$2:$D$5, 0) - 1), 2)) -> 0000 | Y54: =_xlfn.CONCAT(DEC2BIN(IF(ISBLANK(N54), 0, MATCH(N54, 单列下拉值!$B$2:$B$3, 0) - 1)), DEC2BIN(IF(ISBLANK(O54), 0, MATCH(O54, 单列下拉值!$C$2:$C$3, 0) - 1)), DEC2BIN(IF(ISBLANK(P54), 0, MATCH(P54, ALU寄存器选择!$D$2:$D$5, 0) - 1), 2)) -> 0000 | Z54: =_xlfn.CONCAT(DEC2BIN(IF(ISBLANK(Q54),0,MATCH(Q54,单列下拉值!$D$2:$D$3,0)-1)), DEC2BIN(IF(ISBLANK(R54), 0, MATCH(R54, CP选择!$E$2:$E$9, 0) - 1), 3)) -> 0001 | AA54: =_xlfn.CONCAT(DEC2BIN(S54), DEC2BIN(IF(ISBLANK(T54), 0, MATCH(T54, 后继微地址形成!$E$2:$E$9, 0) - 1), 3)) -> 0001
C55: END(JP) | D55: =DEC2HEX(ROW(D55)-3, 2) -> 34 | E55: =_xlfn.CONCAT(BIN2HEX(V55), BIN2HEX(W55), " ", BIN2HEX(X55), BIN2HEX(Y55), " ", BIN2HEX(Z55), BIN2HEX(AA55)) -> 00 00 02 | T55: 无条件跳转至00H | V55: =_xlfn.CONCAT(DEC2BIN(F55), DEC2BIN(G55), DEC2BIN(H55), DEC2BIN(I55)) -> 0000 | W55: =_xlfn.CONCAT(DEC2BIN(IF(ISBLANK(J55), 0, MATCH(J55, 运算选择!$E$2:$E$9, 0) - 1), 3), DEC2BIN(IF(ISBLANK(K55), 0, MATCH(K55, 单列下拉值!$A$2:$A$3, 0) - 1), 1)) -> 0000 | X55: =_xlfn.CONCAT(DEC2BIN(IF(ISBLANK(L55), 0, MATCH(L55, A寄存器选择!$D$2:$D$5, 0) - 1), 2), DEC2BIN(IF(ISBLANK(M55), 0, MATCH(M55, B寄存器选择!$D$2:$D$5, 0) - 1), 2)) -> 0000 | Y55: =_xlfn.CONCAT(DEC2BIN(IF(ISBLANK(N55), 0, MATCH(N55, 单列下拉值!$B$2:$B$3, 0) - 1)), DEC2BIN(IF(ISBLANK(O55), 0, MATCH(O55, 单列下拉值!$C$2:$C$3, 0) - 1)), DEC2BIN(IF(ISBLANK(P55), 0, MATCH(P55, ALU寄存器选择!$D$2:$D$5, 0) - 1), 2)) -> 0000 | Z55: =_xlfn.CONCAT(DEC2BIN(IF(ISBLANK(Q55),0,MATCH(Q55,单列下拉值!$D$2:$D$3,0)-1)), DEC2BIN(IF(ISBLANK(R55), 0, MATCH(R55, CP选择!$E$2:$E$9, 0) - 1), 3)) -> 0000 | AA55: =_xlfn.CONCAT(DEC2BIN(S55), DEC2BIN(IF(ISBLANK(T55), 0, MATCH(T55, 后继微地址形成!$E$2:$E$9, 0) - 1), 3)) -> 0010
D56: =DEC2HEX(ROW(D56)-3, 2) -> 35 | E56: =_xlfn.CONCAT(BIN2HEX(V56), BIN2HEX(W56), " ", BIN2HEX(X56), BIN2HEX(Y56), " ", BIN2HEX(Z56), BIN2HEX(AA56)) -> 00 00 00 | V56: =_xlfn.CONCAT(DEC2BIN(F56), DEC2BIN(G56), DEC2BIN(H56), DEC2BIN(I56)) -> 0000 | W56: =_xlfn.CONCAT(DEC2BIN(IF(ISBLANK(J56), 0, MATCH(J56, 运算选择!$E$2:$E$9, 0) - 1), 3), DEC2BIN(IF(ISBLANK(K56), 0, MATCH(K56, 单列下拉值!$A$2:$A$3, 0) - 1), 1)) -> 0000 | X56: =_xlfn.CONCAT(DEC2BIN(IF(ISBLANK(L56), 0, MATCH(L56, A寄存器选择!$D$2:$D$5, 0) - 1), 2), DEC2BIN(IF(ISBLANK(M56), 0, MATCH(M56, B寄存器选择!$D$2:$D$5, 0) - 1), 2)) -> 0000 | Y56: =_xlfn.CONCAT(DEC2BIN(IF(ISBLANK(N56), 0, MATCH(N56, 单列下拉值!$B$2:$B$3, 0) - 1)), DEC2BIN(IF(ISBLANK(O56), 0, MATCH(O56, 单列下拉值!$C$2:$C$3, 0) - 1)), DEC2BIN(IF(ISBLANK(P56), 0, MATCH(P56, ALU寄存器选择!$D$2:$D$5, 0) - 1), 2)) -> 0000 | Z56: =_xlfn.CONCAT(DEC2BIN(IF(ISBLANK(Q56),0,MATCH(Q56,单列下拉值!$D$2:$D$3,0)-1)), DEC2BIN(IF(ISBLANK(R56), 0, MATCH(R56, CP选择!$E$2:$E$9, 0) - 1), 3)) -> 0000 | AA56: =_xlfn.CONCAT(DEC2BIN(S56), DEC2BIN(IF(ISBLANK(T56), 0, MATCH(T56, 后继微地址形成!$E$2:$E$9, 0) - 1), 3)) -> 0000
D57: =DEC2HEX(ROW(D57)-3, 2) -> 36 | E57: =_xlfn.CONCAT(BIN2HEX(V57), BIN2HEX(W57), " ", BIN2HEX(X57), BIN2HEX(Y57), " ", BIN2HEX(Z57), BIN2HEX(AA57)) -> 00 00 00 | V57: =_xlfn.CONCAT(DEC2BIN(F57), DEC2BIN(G57), DEC2BIN(H57), DEC2BIN(I57)) -> 0000 | W57: =_xlfn.CONCAT(DEC2BIN(IF(ISBLANK(J57), 0, MATCH(J57, 运算选择!$E$2:$E$9, 0) - 1), 3), DEC2BIN(IF(ISBLANK(K57), 0, MATCH(K57, 单列下拉值!$A$2:$A$3, 0) - 1), 1)) -> 0000 | X57: =_xlfn.CONCAT(DEC2BIN(IF(ISBLANK(L57), 0, MATCH(L57, A寄存器选择!$D$2:$D$5, 0) - 1), 2), DEC2BIN(IF(ISBLANK(M57), 0, MATCH(M57, B寄存器选择!$D$2:$D$5, 0) - 1), 2)) -> 0000 | Y57: =_xlfn.CONCAT(DEC2BIN(IF(ISBLANK(N57), 0, MATCH(N57, 单列下拉值!$B$2:$B$3, 0) - 1)), DEC2BIN(IF(ISBLANK(O57), 0, MATCH(O57, 单列下拉值!$C$2:$C$3, 0) - 1)), DEC2BIN(IF(ISBLANK(P57), 0, MATCH(P57, ALU寄存器选择!$D$2:$D$5, 0) - 1), 2)) -> 0000 | Z57: =_xlfn.CONCAT(DEC2BIN(IF(ISBLANK(Q57),0,MATCH(Q57,单列下拉值!$D$2:$D$3,0)-1)), DEC2BIN(IF(ISBLANK(R57), 0, MATCH(R57, CP选择!$E$2:$E$9, 0) - 1), 3)) -> 0000 | AA57: =_xlfn.CONCAT(DEC2BIN(S57), DEC2BIN(IF(ISBLANK(T57), 0, MATCH(T57, 后继微地址形成!$E$2:$E$9, 0) - 1), 3)) -> 0000
D58: =DEC2HEX(ROW(D58)-3, 2) -> 37 | E58: =_xlfn.CONCAT(BIN2HEX(V58), BIN2HEX(W58), " ", BIN2HEX(X58), BIN2HEX(Y58), " ", BIN2HEX(Z58), BIN2HEX(AA58)) -> 00 00 00 | V58: =_xlfn.CONCAT(DEC2BIN(F58), DEC2BIN(G58), DEC2BIN(H58), DEC2BIN(I58)) -> 0000 | W58: =_xlfn.CONCAT(DEC2BIN(IF(ISBLANK(J58), 0, MATCH(J58, 运算选择!$E$2:$E$9, 0) - 1), 3), DEC2BIN(IF(ISBLANK(K58), 0, MATCH(K58, 单列下拉值!$A$2:$A$3, 0) - 1), 1)) -> 0000 | X58: =_xlfn.CONCAT(DEC2BIN(IF(ISBLANK(L58), 0, MATCH(L58, A寄存器选择!$D$2:$D$5, 0) - 1), 2), DEC2BIN(IF(ISBLANK(M58), 0, MATCH(M58, B寄存器选择!$D$2:$D$5, 0) - 1), 2)) -> 0000 | Y58: =_xlfn.CONCAT(DEC2BIN(IF(ISBLANK(N58), 0, MATCH(N58, 单列下拉值!$B$2:$B$3, 0) - 1)), DEC2BIN(IF(ISBLANK(O58), 0, MATCH(O58, 单列下拉值!$C$2:$C$3, 0) - 1)), DEC2BIN(IF(ISBLANK(P58), 0, MATCH(P58, ALU寄存器选择!$D$2:$D$5, 0) - 1), 2)) -> 0000 | Z58: =_xlfn.CONCAT(DEC2BIN(IF(ISBLANK(Q58),0,MATCH(Q58,单列下拉值!$D$2:$D$3,0)-1)), DEC2BIN(IF(ISBLANK(R58), 0, MATCH(R58, CP选择!$E$2:$E$9, 0) - 1), 3)) -> 0000 | AA58: =_xlfn.CONCAT(DEC2BIN(S58), DEC2BIN(IF(ISBLANK(T58), 0, MATCH(T58, 后继微地址形成!$E$2:$E$9, 0) - 1), 3)) -> 0000
D59: =DEC2HEX(ROW(D59)-3, 2) -> 38 | E59: =_xlfn.CONCAT(BIN2HEX(V59), BIN2HEX(W59), " ", BIN2HEX(X59), BIN2HEX(Y59), " ", BIN2HEX(Z59), BIN2HEX(AA59)) -> 00 00 00 | V59: =_xlfn.CONCAT(DEC2BIN(F59), DEC2BIN(G59), DEC2BIN(H59), DEC2BIN(I59)) -> 0000 | W59: =_xlfn.CONCAT(DEC2BIN(IF(ISBLANK(J59), 0, MATCH(J59, 运算选择!$E$2:$E$9, 0) - 1), 3), DEC2BIN(IF(ISBLANK(K59), 0, MATCH(K59, 单列下拉值!$A$2:$A$3, 0) - 1), 1)) -> 0000 | X59: =_xlfn.CONCAT(DEC2BIN(IF(ISBLANK(L59), 0, MATCH(L59, A寄存器选择!$D$2:$D$5, 0) - 1), 2), DEC2BIN(IF(ISBLANK(M59), 0, MATCH(M59, B寄存器选择!$D$2:$D$5, 0) - 1), 2)) -> 0000 | Y59: =_xlfn.CONCAT(DEC2BIN(IF(ISBLANK(N59), 0, MATCH(N59, 单列下拉值!$B$2:$B$3, 0) - 1)), DEC2BIN(IF(ISBLANK(O59), 0, MATCH(O59, 单列下拉值!$C$2:$C$3, 0) - 1)), DEC2BIN(IF(ISBLANK(P59), 0, MATCH(P59, ALU寄存器选择!$D$2:$D$5, 0) - 1), 2)) -> 0000 | Z59: =_xlfn.CONCAT(DEC2BIN(IF(ISBLANK(Q59),0,MATCH(Q59,单列下拉值!$D$2:$D$3,0)-1)), DEC2BIN(IF(ISBLANK(R59), 0, MATCH(R59, CP选择!$E$2:$E$9, 0) - 1), 3)) -> 0000 | AA59: =_xlfn.CONCAT(DEC2BIN(S59), DEC2BIN(IF(ISBLANK(T59), 0, MATCH(T59, 后继微地址形成!$E$2:$E$9, 0) - 1), 3)) -> 0000
D60: =DEC2HEX(ROW(D60)-3, 2) -> 39 | E60: =_xlfn.CONCAT(BIN2HEX(V60), BIN2HEX(W60), " ", BIN2HEX(X60), BIN2HEX(Y60), " ", BIN2HEX(Z60), BIN2HEX(AA60)) -> 00 00 00 | V60: =_xlfn.CONCAT(DEC2BIN(F60), DEC2BIN(G60), DEC2BIN(H60), DEC2BIN(I60)) -> 0000 | W60: =_xlfn.CONCAT(DEC2BIN(IF(ISBLANK(J60), 0, MATCH(J60, 运算选择!$E$2:$E$9, 0) - 1), 3), DEC2BIN(IF(ISBLANK(K60), 0, MATCH(K60, 单列下拉值!$A$2:$A$3, 0) - 1), 1)) -> 0000 | X60: =_xlfn.CONCAT(DEC2BIN(IF(ISBLANK(L60), 0, MATCH(L60, A寄存器选择!$D$2:$D$5, 0) - 1), 2), DEC2BIN(IF(ISBLANK(M60), 0, MATCH(M60, B寄存器选择!$D$2:$D$5, 0) - 1), 2)) -> 0000 | Y60: =_xlfn.CONCAT(DEC2BIN(IF(ISBLANK(N60), 0, MATCH(N60, 单列下拉值!$B$2:$B$3, 0) - 1)), DEC2BIN(IF(ISBLANK(O60), 0, MATCH(O60, 单列下拉值!$C$2:$C$3, 0) - 1)), DEC2BIN(IF(ISBLANK(P60), 0, MATCH(P60, ALU寄存器选择!$D$2:$D$5, 0) - 1), 2)) -> 0000 | Z60: =_xlfn.CONCAT(DEC2BIN(IF(ISBLANK(Q60),0,MATCH(Q60,单列下拉值!$D$2:$D$3,0)-1)), DEC2BIN(IF(ISBLANK(R60), 0, MATCH(R60, CP选择!$E$2:$E$9, 0) - 1), 3)) -> 0000 | AA60: =_xlfn.CONCAT(DEC2BIN(S60), DEC2BIN(IF(ISBLANK(T60), 0, MATCH(T60, 后继微地址形成!$E$2:$E$9, 0) - 1), 3)) -> 0000
D61: =DEC2HEX(ROW(D61)-3, 2) -> 3A | E61: =_xlfn.CONCAT(BIN2HEX(V61), BIN2HEX(W61), " ", BIN2HEX(X61), BIN2HEX(Y61), " ", BIN2HEX(Z61), BIN2HEX(AA61)) -> 00 00 00 | V61: =_xlfn.CONCAT(DEC2BIN(F61), DEC2BIN(G61), DEC2BIN(H61), DEC2BIN(I61)) -> 0000 | W61: =_xlfn.CONCAT(DEC2BIN(IF(ISBLANK(J61), 0, MATCH(J61, 运算选择!$E$2:$E$9, 0) - 1), 3), DEC2BIN(IF(ISBLANK(K61), 0, MATCH(K61, 单列下拉值!$A$2:$A$3, 0) - 1), 1)) -> 0000 | X61: =_xlfn.CONCAT(DEC2BIN(IF(ISBLANK(L61), 0, MATCH(L61, A寄存器选择!$D$2:$D$5, 0) - 1), 2), DEC2BIN(IF(ISBLANK(M61), 0, MATCH(M61, B寄存器选择!$D$2:$D$5, 0) - 1), 2)) -> 0000 | Y61: =_xlfn.CONCAT(DEC2BIN(IF(ISBLANK(N61), 0, MATCH(N61, 单列下拉值!$B$2:$B$3, 0) - 1)), DEC2BIN(IF(ISBLANK(O61), 0, MATCH(O61, 单列下拉值!$C$2:$C$3, 0) - 1)), DEC2BIN(IF(ISBLANK(P61), 0, MATCH(P61, ALU寄存器选择!$D$2:$D$5, 0) - 1), 2)) -> 0000 | Z61: =_xlfn.CONCAT(DEC2BIN(IF(ISBLANK(Q61),0,MATCH(Q61,单列下拉值!$D$2:$D$3,0)-1)), DEC2BIN(IF(ISBLANK(R61), 0, MATCH(R61, CP选择!$E$2:$E$9, 0) - 1), 3)) -> 0000 | AA61: =_xlfn.CONCAT(DEC2BIN(S61), DEC2BIN(IF(ISBLANK(T61), 0, MATCH(T61, 后继微地址形成!$E$2:$E$9, 0) - 1), 3)) -> 0000
D62: =DEC2HEX(ROW(D62)-3, 2) -> 3B | E62: =_xlfn.CONCAT(BIN2HEX(V62), BIN2HEX(W62), " ", BIN2HEX(X62), BIN2HEX(Y62), " ", BIN2HEX(Z62), BIN2HEX(AA62)) -> 00 00 00 | V62: =_xlfn.CONCAT(DEC2BIN(F62), DEC2BIN(G62), DEC2BIN(H62), DEC2BIN(I62)) -> 0000 | W62: =_xlfn.CONCAT(DEC2BIN(IF(ISBLANK(J62), 0, MATCH(J62, 运算选择!$E$2:$E$9, 0) - 1), 3), DEC2BIN(IF(ISBLANK(K62), 0, MATCH(K62, 单列下拉值!$A$2:$A$3, 0) - 1), 1)) -> 0000 | X62: =_xlfn.CONCAT(DEC2BIN(IF(ISBLANK(L62), 0, MATCH(L62, A寄存器选择!$D$2:$D$5, 0) - 1), 2), DEC2BIN(IF(ISBLANK(M62), 0, MATCH(M62, B寄存器选择!$D$2:$D$5, 0) - 1), 2)) -> 0000 | Y62: =_xlfn.CONCAT(DEC2BIN(IF(ISBLANK(N62), 0, MATCH(N62, 单列下拉值!$B$2:$B$3, 0) - 1)), DEC2BIN(IF(ISBLANK(O62), 0, MATCH(O62, 单列下拉值!$C$2:$C$3, 0) - 1)), DEC2BIN(IF(ISBLANK(P62), 0, MATCH(P62, ALU寄存器选择!$D$2:$D$5, 0) - 1), 2)) -> 0000 | Z62: =_xlfn.CONCAT(DEC2BIN(IF(ISBLANK(Q62),0,MATCH(Q62,单列下拉值!$D$2:$D$3,0)-1)), DEC2BIN(IF(ISBLANK(R62), 0, MATCH(R62, CP选择!$E$2:$E$9, 0) - 1), 3)) -> 0000 | AA62: =_xlfn.CONCAT(DEC2BIN(S62), DEC2BIN(IF(ISBLANK(T62), 0, MATCH(T62, 后继微地址形成!$E$2:$E$9, 0) - 1), 3)) -> 0000
D63: =DEC2HEX(ROW(D63)-3, 2) -> 3C | E63: =_xlfn.CONCAT(BIN2HEX(V63), BIN2HEX(W63), " ", BIN2HEX(X63), BIN2HEX(Y63), " ", BIN2HEX(Z63), BIN2HEX(AA63)) -> 00 00 00 | V63: =_xlfn.CONCAT(DEC2BIN(F63), DEC2BIN(G63), DEC2BIN(H63), DEC2BIN(I63)) -> 0000 | W63: =_xlfn.CONCAT(DEC2BIN(IF(ISBLANK(J63), 0, MATCH(J63, 运算选择!$E$2:$E$9, 0) - 1), 3), DEC2BIN(IF(ISBLANK(K63), 0, MATCH(K63, 单列下拉值!$A$2:$A$3, 0) - 1), 1)) -> 0000 | X63: =_xlfn.CONCAT(DEC2BIN(IF(ISBLANK(L63), 0, MATCH(L63, A寄存器选择!$D$2:$D$5, 0) - 1), 2), DEC2BIN(IF(ISBLANK(M63), 0, MATCH(M63, B寄存器选择!$D$2:$D$5, 0) - 1), 2)) -> 0000 | Y63: =_xlfn.CONCAT(DEC2BIN(IF(ISBLANK(N63), 0, MATCH(N63, 单列下拉值!$B$2:$B$3, 0) - 1)), DEC2BIN(IF(ISBLANK(O63), 0, MATCH(O63, 单列下拉值!$C$2:$C$3, 0) - 1)), DEC2BIN(IF(ISBLANK(P63), 0, MATCH(P63, ALU寄存器选择!$D$2:$D$5, 0) - 1), 2)) -> 0000 | Z63: =_xlfn.CONCAT(DEC2BIN(IF(ISBLANK(Q63),0,MATCH(Q63,单列下拉值!$D$2:$D$3,0)-1)), DEC2BIN(IF(ISBLANK(R63), 0, MATCH(R63, CP选择!$E$2:$E$9, 0) - 1), 3)) -> 0000 | AA63: =_xlfn.CONCAT(DEC2BIN(S63), DEC2BIN(IF(ISBLANK(T63), 0, MATCH(T63, 后继微地址形成!$E$2:$E$9, 0) - 1), 3)) -> 0000
D64: =DEC2HEX(ROW(D64)-3, 2) -> 3D | E64: =_xlfn.CONCAT(BIN2HEX(V64), BIN2HEX(W64), " ", BIN2HEX(X64), BIN2HEX(Y64), " ", BIN2HEX(Z64), BIN2HEX(AA64)) -> 00 00 00 | V64: =_xlfn.CONCAT(DEC2BIN(F64), DEC2BIN(G64), DEC2BIN(H64), DEC2BIN(I64)) -> 0000 | W64: =_xlfn.CONCAT(DEC2BIN(IF(ISBLANK(J64), 0, MATCH(J64, 运算选择!$E$2:$E$9, 0) - 1), 3), DEC2BIN(IF(ISBLANK(K64), 0, MATCH(K64, 单列下拉值!$A$2:$A$3, 0) - 1), 1)) -> 0000 | X64: =_xlfn.CONCAT(DEC2BIN(IF(ISBLANK(L64), 0, MATCH(L64, A寄存器选择!$D$2:$D$5, 0) - 1), 2), DEC2BIN(IF(ISBLANK(M64), 0, MATCH(M64, B寄存器选择!$D$2:$D$5, 0) - 1), 2)) -> 0000 | Y64: =_xlfn.CONCAT(DEC2BIN(IF(ISBLANK(N64), 0, MATCH(N64, 单列下拉值!$B$2:$B$3, 0) - 1)), DEC2BIN(IF(ISBLANK(O64), 0, MATCH(O64, 单列下拉值!$C$2:$C$3, 0) - 1)), DEC2BIN(IF(ISBLANK(P64), 0, MATCH(P64, ALU寄存器选择!$D$2:$D$5, 0) - 1), 2)) -> 0000 | Z64: =_xlfn.CONCAT(DEC2BIN(IF(ISBLANK(Q64),0,MATCH(Q64,单列下拉值!$D$2:$D$3,0)-1)), DEC2BIN(IF(ISBLANK(R64), 0, MATCH(R64, CP选择!$E$2:$E$9, 0) - 1), 3)) -> 0000 | AA64: =_xlfn.CONCAT(DEC2BIN(S64), DEC2BIN(IF(ISBLANK(T64), 0, MATCH(T64, 后继微地址形成!$E$2:$E$9, 0) - 1), 3)) -> 0000
D65: =DEC2HEX(ROW(D65)-3, 2) -> 3E | E65: =_xlfn.CONCAT(BIN2HEX(V65), BIN2HEX(W65), " ", BIN2HEX(X65), BIN2HEX(Y65), " ", BIN2HEX(Z65), BIN2HEX(AA65)) -> 00 00 00 | V65: =_xlfn.CONCAT(DEC2BIN(F65), DEC2BIN(G65), DEC2BIN(H65), DEC2BIN(I65)) -> 0000 | W65: =_xlfn.CONCAT(DEC2BIN(IF(ISBLANK(J65), 0, MATCH(J65, 运算选择!$E$2:$E$9, 0) - 1), 3), DEC2BIN(IF(ISBLANK(K65), 0, MATCH(K65, 单列下拉值!$A$2:$A$3, 0) - 1), 1)) -> 0000 | X65: =_xlfn.CONCAT(DEC2BIN(IF(ISBLANK(L65), 0, MATCH(L65, A寄存器选择!$D$2:$D$5, 0) - 1), 2), DEC2BIN(IF(ISBLANK(M65), 0, MATCH(M65, B寄存器选择!$D$2:$D$5, 0) - 1), 2)) -> 0000 | Y65: =_xlfn.CONCAT(DEC2BIN(IF(ISBLANK(N65), 0, MATCH(N65, 单列下拉值!$B$2:$B$3, 0) - 1)), DEC2BIN(IF(ISBLANK(O65), 0, MATCH(O65, 单列下拉值!$C$2:$C$3, 0) - 1)), DEC2BIN(IF(ISBLANK(P65), 0, MATCH(P65, ALU寄存器选择!$D$2:$D$5, 0) - 1), 2)) -> 0000 | Z65: =_xlfn.CONCAT(DEC2BIN(IF(ISBLANK(Q65),0,MATCH(Q65,单列下拉值!$D$2:$D$3,0)-1)), DEC2BIN(IF(ISBLANK(R65), 0, MATCH(R65, CP选择!$E$2:$E$9, 0) - 1), 3)) -> 0000 | AA65: =_xlfn.CONCAT(DEC2BIN(S65), DEC2BIN(IF(ISBLANK(T65), 0, MATCH(T65, 后继微地址形成!$E$2:$E$9, 0) - 1), 3)) -> 0000
D66: =DEC2HEX(ROW(D66)-3, 2) -> 3F | E66: =_xlfn.CONCAT(BIN2HEX(V66), BIN2HEX(W66), " ", BIN2HEX(X66), BIN2HEX(Y66), " ", BIN2HEX(Z66), BIN2HEX(AA66)) -> 00 00 00 | V66: =_xlfn.CONCAT(DEC2BIN(F66), DEC2BIN(G66), DEC2BIN(H66), DEC2BIN(I66)) -> 0000 | W66: =_xlfn.CONCAT(DEC2BIN(IF(ISBLANK(J66), 0, MATCH(J66, 运算选择!$E$2:$E$9, 0) - 1), 3), DEC2BIN(IF(ISBLANK(K66), 0, MATCH(K66, 单列下拉值!$A$2:$A$3, 0) - 1), 1)) -> 0000 | X66: =_xlfn.CONCAT(DEC2BIN(IF(ISBLANK(L66), 0, MATCH(L66, A寄存器选择!$D$2:$D$5, 0) - 1), 2), DEC2BIN(IF(ISBLANK(M66), 0, MATCH(M66, B寄存器选择!$D$2:$D$5, 0) - 1), 2)) -> 0000 | Y66: =_xlfn.CONCAT(DEC2BIN(IF(ISBLANK(N66), 0, MATCH(N66, 单列下拉值!$B$2:$B$3, 0) - 1)), DEC2BIN(IF(ISBLANK(O66), 0, MATCH(O66, 单列下拉值!$C$2:$C$3, 0) - 1)), DEC2BIN(IF(ISBLANK(P66), 0, MATCH(P66, ALU寄存器选择!$D$2:$D$5, 0) - 1), 2)) -> 0000 | Z66: =_xlfn.CONCAT(DEC2BIN(IF(ISBLANK(Q66),0,MATCH(Q66,单列下拉值!$D$2:$D$3,0)-1)), DEC2BIN(IF(ISBLANK(R66), 0, MATCH(R66, CP选择!$E$2:$E$9, 0) - 1), 3)) -> 0000 | AA66: =_xlfn.CONCAT(DEC2BIN(S66), DEC2BIN(IF(ISBLANK(T66), 0, MATCH(T66, 后继微地址形成!$E$2:$E$9, 0) - 1), 3)) -> 0000
A67: HALT | C67: HALT | D67: =DEC2HEX(ROW(D67)-3, 2) -> 40 | E67: =_xlfn.CONCAT(BIN2HEX(V67), BIN2HEX(W67), " ", BIN2HEX(X67), BIN2HEX(Y67), " ", BIN2HEX(Z67), BIN2HEX(AA67)) -> 00 00 05 | T67: 停机 | V67: =_xlfn.CONCAT(DEC2BIN(F67), DEC2BIN(G67), DEC2BIN(H67), DEC2BIN(I67)) -> 0000 | W67: =_xlfn.CONCAT(DEC2BIN(IF(ISBLANK(J67), 0, MATCH(J67, 运算选择!$E$2:$E$9, 0) - 1), 3), DEC2BIN(IF(ISBLANK(K67), 0, MATCH(K67, 单列下拉值!$A$2:$A$3, 0) - 1), 1)) -> 0000 | X67: =_xlfn.CONCAT(DEC2BIN(IF(ISBLANK(L67), 0, MATCH(L67, A寄存器选择!$D$2:$D$5, 0) - 1), 2), DEC2BIN(IF(ISBLANK(M67), 0, MATCH(M67, B寄存器选择!$D$2:$D$5, 0) - 1), 2)) -> 0000 | Y67: =_xlfn.CONCAT(DEC2BIN(IF(ISBLANK(N67), 0, MATCH(N67, 单列下拉值!$B$2:$B$3, 0) - 1)), DEC2BIN(IF(ISBLANK(O67), 0, MATCH(O67, 单列下拉值!$C$2:$C$3, 0) - 1)), DEC2BIN(IF(ISBLANK(P67), 0, MATCH(P67, ALU寄存器选择!$D$2:$D$5, 0) - 1), 2)) -> 0000 | Z67: =_xlfn.CONCAT(DEC2BIN(IF(ISBLANK(Q67),0,MATCH(Q67,单列下拉值!$D$2:$D$3,0)-1)), DEC2BIN(IF(ISBLANK(R67), 0, MATCH(R67, CP选择!$E$2:$E$9, 0) - 1), 3)) -> 0000 | AA67: =_xlfn.CONCAT(DEC2BIN(S67), DEC2BIN(IF(ISBLANK(T67), 0, MATCH(T67, 后继微地址形成!$E$2:$E$9, 0) - 1), 3)) -> 0101
D68: =DEC2HEX(ROW(D68)-3, 2) -> 41 | E68: =_xlfn.CONCAT(BIN2HEX(V68), BIN2HEX(W68), " ", BIN2HEX(X68), BIN2HEX(Y68), " ", BIN2HEX(Z68), BIN2HEX(AA68)) -> 00 00 00 | V68: =_xlfn.CONCAT(DEC2BIN(F68), DEC2BIN(G68), DEC2BIN(H68), DEC2BIN(I68)) -> 0000 | W68: =_xlfn.CONCAT(DEC2BIN(IF(ISBLANK(J68), 0, MATCH(J68, 运算选择!$E$2:$E$9, 0) - 1), 3), DEC2BIN(IF(ISBLANK(K68), 0, MATCH(K68, 单列下拉值!$A$2:$A$3, 0) - 1), 1)) -> 0000 | X68: =_xlfn.CONCAT(DEC2BIN(IF(ISBLANK(L68), 0, MATCH(L68, A寄存器选择!$D$2:$D$5, 0) - 1), 2), DEC2BIN(IF(ISBLANK(M68), 0, MATCH(M68, B寄存器选择!$D$2:$D$5, 0) - 1), 2)) -> 0000 | Y68: =_xlfn.CONCAT(DEC2BIN(IF(ISBLANK(N68), 0, MATCH(N68, 单列下拉值!$B$2:$B$3, 0) - 1)), DEC2BIN(IF(ISBLANK(O68), 0, MATCH(O68, 单列下拉值!$C$2:$C$3, 0) - 1)), DEC2BIN(IF(ISBLANK(P68), 0, MATCH(P68, ALU寄存器选择!$D$2:$D$5, 0) - 1), 2)) -> 0000 | Z68: =_xlfn.CONCAT(DEC2BIN(IF(ISBLANK(Q68),0,MATCH(Q68,单列下拉值!$D$2:$D$3,0)-1)), DEC2BIN(IF(ISBLANK(R68), 0, MATCH(R68, CP选择!$E$2:$E$9, 0) - 1), 3)) -> 0000 | AA68: =_xlfn.CONCAT(DEC2BIN(S68), DEC2BIN(IF(ISBLANK(T68), 0, MATCH(T68, 后继微地址形成!$E$2:$E$9, 0) - 1), 3)) -> 0000
D69: =DEC2HEX(ROW(D69)-3, 2) -> 42 | E69: =_xlfn.CONCAT(BIN2HEX(V69), BIN2HEX(W69), " ", BIN2HEX(X69), BIN2HEX(Y69), " ", BIN2HEX(Z69), BIN2HEX(AA69)) -> 00 00 00 | V69: =_xlfn.CONCAT(DEC2BIN(F69), DEC2BIN(G69), DEC2BIN(H69), DEC2BIN(I69)) -> 0000 | W69: =_xlfn.CONCAT(DEC2BIN(IF(ISBLANK(J69), 0, MATCH(J69, 运算选择!$E$2:$E$9, 0) - 1), 3), DEC2BIN(IF(ISBLANK(K69), 0, MATCH(K69, 单列下拉值!$A$2:$A$3, 0) - 1), 1)) -> 0000 | X69: =_xlfn.CONCAT(DEC2BIN(IF(ISBLANK(L69), 0, MATCH(L69, A寄存器选择!$D$2:$D$5, 0) - 1), 2), DEC2BIN(IF(ISBLANK(M69), 0, MATCH(M69, B寄存器选择!$D$2:$D$5, 0) - 1), 2)) -> 0000 | Y69: =_xlfn.CONCAT(DEC2BIN(IF(ISBLANK(N69), 0, MATCH(N69, 单列下拉值!$B$2:$B$3, 0) - 1)), DEC2BIN(IF(ISBLANK(O69), 0, MATCH(O69, 单列下拉值!$C$2:$C$3, 0) - 1)), DEC2BIN(IF(ISBLANK(P69), 0, MATCH(P69, ALU寄存器选择!$D$2:$D$5, 0) - 1), 2)) -> 0000 | Z69: =_xlfn.CONCAT(DEC2BIN(IF(ISBLANK(Q69),0,MATCH(Q69,单列下拉值!$D$2:$D$3,0)-1)), DEC2BIN(IF(ISBLANK(R69), 0, MATCH(R69, CP选择!$E$2:$E$9, 0) - 1), 3)) -> 0000 | AA69: =_xlfn.CONCAT(DEC2BIN(S69), DEC2BIN(IF(ISBLANK(T69), 0, MATCH(T69, 后继微地址形成!$E$2:$E$9, 0) - 1), 3)) -> 0000
D70: =DEC2HEX(ROW(D70)-3, 2) -> 43 | E70: =_xlfn.CONCAT(BIN2HEX(V70), BIN2HEX(W70), " ", BIN2HEX(X70), BIN2HEX(Y70), " ", BIN2HEX(Z70), BIN2HEX(AA70)) -> 00 00 00 | V70: =_xlfn.CONCAT(DEC2BIN(F70), DEC2BIN(G70), DEC2BIN(H70), DEC2BIN(I70)) -> 0000 | W70: =_xlfn.CONCAT(DEC2BIN(IF(ISBLANK(J70), 0, MATCH(J70, 运算选择!$E$2:$E$9, 0) - 1), 3), DEC2BIN(IF(ISBLANK(K70), 0, MATCH(K70, 单列下拉值!$A$2:$A$3, 0) - 1), 1)) -> 0000 | X70: =_xlfn.CONCAT(DEC2BIN(IF(ISBLANK(L70), 0, MATCH(L70, A寄存器选择!$D$2:$D$5, 0) - 1), 2), DEC2BIN(IF(ISBLANK(M70), 0, MATCH(M70, B寄存器选择!$D$2:$D$5, 0) - 1), 2)) -> 0000 | Y70: =_xlfn.CONCAT(DEC2BIN(IF(ISBLANK(N70), 0, MATCH(N70, 单列下拉值!$B$2:$B$3, 0) - 1)), DEC2BIN(IF(ISBLANK(O70), 0, MATCH(O70, 单列下拉值!$C$2:$C$3, 0) - 1)), DEC2BIN(IF(ISBLANK(P70), 0, MATCH(P70, ALU寄存器选择!$D$2:$D$5, 0) - 1), 2)) -> 0000 | Z70: =_xlfn.CONCAT(DEC2BIN(IF(ISBLANK(Q70),0,MATCH(Q70,单列下拉值!$D$2:$D$3,0)-1)), DEC2BIN(IF(ISBLANK(R70), 0, MATCH(R70, CP选择!$E$2:$E$9, 0) - 1), 3)) -> 0000 | AA70: =_xlfn.CONCAT(DEC2BIN(S70), DEC2BIN(IF(ISBLANK(T70), 0, MATCH(T70, 后继微地址形成!$E$2:$E$9, 0) - 1), 3)) -> 0000
D71: =DEC2HEX(ROW(D71)-3, 2) -> 44 | E71: =_xlfn.CONCAT(BIN2HEX(V71), BIN2HEX(W71), " ", BIN2HEX(X71), BIN2HEX(Y71), " ", BIN2HEX(Z71), BIN2HEX(AA71)) -> 00 00 00 | V71: =_xlfn.CONCAT(DEC2BIN(F71), DEC2BIN(G71), DEC2BIN(H71), DEC2BIN(I71)) -> 0000 | W71: =_xlfn.CONCAT(DEC2BIN(IF(ISBLANK(J71), 0, MATCH(J71, 运算选择!$E$2:$E$9, 0) - 1), 3), DEC2BIN(IF(ISBLANK(K71), 0, MATCH(K71, 单列下拉值!$A$2:$A$3, 0) - 1), 1)) -> 0000 | X71: =_xlfn.CONCAT(DEC2BIN(IF(ISBLANK(L71), 0, MATCH(L71, A寄存器选择!$D$2:$D$5, 0) - 1), 2), DEC2BIN(IF(ISBLANK(M71), 0, MATCH(M71, B寄存器选择!$D$2:$D$5, 0) - 1), 2)) -> 0000 | Y71: =_xlfn.CONCAT(DEC2BIN(IF(ISBLANK(N71), 0, MATCH(N71, 单列下拉值!$B$2:$B$3, 0) - 1)), DEC2BIN(IF(ISBLANK(O71), 0, MATCH(O71, 单列下拉值!$C$2:$C$3, 0) - 1)), DEC2BIN(IF(ISBLANK(P71), 0, MATCH(P71, ALU寄存器选择!$D$2:$D$5, 0) - 1), 2)) -> 0000 | Z71: =_xlfn.CONCAT(DEC2BIN(IF(ISBLANK(Q71),0,MATCH(Q71,单列下拉值!$D$2:$D$3,0)-1)), DEC2BIN(IF(ISBLANK(R71), 0, MATCH(R71, CP选择!$E$2:$E$9, 0) - 1), 3)) -> 0000 | AA71: =_xlfn.CONCAT(DEC2BIN(S71), DEC2BIN(IF(ISBLANK(T71), 0, MATCH(T71, 后继微地址形成!$E$2:$E$9, 0) - 1), 3)) -> 0000
D72: =DEC2HEX(ROW(D72)-3, 2) -> 45 | E72: =_xlfn.CONCAT(BIN2HEX(V72), BIN2HEX(W72), " ", BIN2HEX(X72), BIN2HEX(Y72), " ", BIN2HEX(Z72), BIN2HEX(AA72)) -> 00 00 00 | V72: =_xlfn.CONCAT(DEC2BIN(F72), DEC2BIN(G72), DEC2BIN(H72), DEC2BIN(I72)) -> 0000 | W72: =_xlfn.CONCAT(DEC2BIN(IF(ISBLANK(J72), 0, MATCH(J72, 运算选择!$E$2:$E$9, 0) - 1), 3), DEC2BIN(IF(ISBLANK(K72), 0, MATCH(K72, 单列下拉值!$A$2:$A$3, 0) - 1), 1)) -> 0000 | X72: =_xlfn.CONCAT(DEC2BIN(IF(ISBLANK(L72), 0, MATCH(L72, A寄存器选择!$D$2:$D$5, 0) - 1), 2), DEC2BIN(IF(ISBLANK(M72), 0, MATCH(M72, B寄存器选择!$D$2:$D$5, 0) - 1), 2)) -> 0000 | Y72: =_xlfn.CONCAT(DEC2BIN(IF(ISBLANK(N72), 0, MATCH(N72, 单列下拉值!$B$2:$B$3, 0) - 1)), DEC2BIN(IF(ISBLANK(O72), 0, MATCH(O72, 单列下拉值!$C$2:$C$3, 0) - 1)), DEC2BIN(IF(ISBLANK(P72), 0, MATCH(P72, ALU寄存器选择!$D$2:$D$5, 0) - 1), 2)) -> 0000 | Z72: =_xlfn.CONCAT(DEC2BIN(IF(ISBLANK(Q72),0,MATCH(Q72,单列下拉值!$D$2:$D$3,0)-1)), DEC2BIN(IF(ISBLANK(R72), 0, MATCH(R72, CP选择!$E$2:$E$9, 0) - 1), 3)) -> 0000 | AA72: =_xlfn.CONCAT(DEC2BIN(S72), DEC2BIN(IF(ISBLANK(T72), 0, MATCH(T72, 后继微地址形成!$E$2:$E$9, 0) - 1), 3)) -> 0000
D73: =DEC2HEX(ROW(D73)-3, 2) -> 46 | E73: =_xlfn.CONCAT(BIN2HEX(V73), BIN2HEX(W73), " ", BIN2HEX(X73), BIN2HEX(Y73), " ", BIN2HEX(Z73), BIN2HEX(AA73)) -> 00 00 00 | V73: =_xlfn.CONCAT(DEC2BIN(F73), DEC2BIN(G73), DEC2BIN(H73), DEC2BIN(I73)) -> 0000 | W73: =_xlfn.CONCAT(DEC2BIN(IF(ISBLANK(J73), 0, MATCH(J73, 运算选择!$E$2:$E$9, 0) - 1), 3), DEC2BIN(IF(ISBLANK(K73), 0, MATCH(K73, 单列下拉值!$A$2:$A$3, 0) - 1), 1)) -> 0000 | X73: =_xlfn.CONCAT(DEC2BIN(IF(ISBLANK(L73), 0, MATCH(L73, A寄存器选择!$D$2:$D$5, 0) - 1), 2), DEC2BIN(IF(ISBLANK(M73), 0, MATCH(M73, B寄存器选择!$D$2:$D$5, 0) - 1), 2)) -> 0000 | Y73: =_xlfn.CONCAT(DEC2BIN(IF(ISBLANK(N73), 0, MATCH(N73, 单列下拉值!$B$2:$B$3, 0) - 1)), DEC2BIN(IF(ISBLANK(O73), 0, MATCH(O73, 单列下拉值!$C$2:$C$3, 0) - 1)), DEC2BIN(IF(ISBLANK(P73), 0, MATCH(P73, ALU寄存器选择!$D$2:$D$5, 0) - 1), 2)) -> 0000 | Z73: =_xlfn.CONCAT(DEC2BIN(IF(ISBLANK(Q73),0,MATCH(Q73,单列下拉值!$D$2:$D$3,0)-1)), DEC2BIN(IF(ISBLANK(R73), 0, MATCH(R73, CP选择!$E$2:$E$9, 0) - 1), 3)) -> 0000 | AA73: =_xlfn.CONCAT(DEC2BIN(S73), DEC2BIN(IF(ISBLANK(T73), 0, MATCH(T73, 后继微地址形成!$E$2:$E$9, 0) - 1), 3)) -> 0000
D74: =DEC2HEX(ROW(D74)-3, 2) -> 47 | E74: =_xlfn.CONCAT(BIN2HEX(V74), BIN2HEX(W74), " ", BIN2HEX(X74), BIN2HEX(Y74), " ", BIN2HEX(Z74), BIN2HEX(AA74)) -> 00 00 00 | V74: =_xlfn.CONCAT(DEC2BIN(F74), DEC2BIN(G74), DEC2BIN(H74), DEC2BIN(I74)) -> 0000 | W74: =_xlfn.CONCAT(DEC2BIN(IF(ISBLANK(J74), 0, MATCH(J74, 运算选择!$E$2:$E$9, 0) - 1), 3), DEC2BIN(IF(ISBLANK(K74), 0, MATCH(K74, 单列下拉值!$A$2:$A$3, 0) - 1), 1)) -> 0000 | X74: =_xlfn.CONCAT(DEC2BIN(IF(ISBLANK(L74), 0, MATCH(L74, A寄存器选择!$D$2:$D$5, 0) - 1), 2), DEC2BIN(IF(ISBLANK(M74), 0, MATCH(M74, B寄存器选择!$D$2:$D$5, 0) - 1), 2)) -> 0000 | Y74: =_xlfn.CONCAT(DEC2BIN(IF(ISBLANK(N74), 0, MATCH(N74, 单列下拉值!$B$2:$B$3, 0) - 1)), DEC2BIN(IF(ISBLANK(O74), 0, MATCH(O74, 单列下拉值!$C$2:$C$3, 0) - 1)), DEC2BIN(IF(ISBLANK(P74), 0, MATCH(P74, ALU寄存器选择!$D$2:$D$5, 0) - 1), 2)) -> 0000 | Z74: =_xlfn.CONCAT(DEC2BIN(IF(ISBLANK(Q74),0,MATCH(Q74,单列下拉值!$D$2:$D$3,0)-1)), DEC2BIN(IF(ISBLANK(R74), 0, MATCH(R74, CP选择!$E$2:$E$9, 0) - 1), 3)) -> 0000 | AA74: =_xlfn.CONCAT(DEC2BIN(S74), DEC2BIN(IF(ISBLANK(T74), 0, MATCH(T74, 后继微地址形成!$E$2:$E$9, 0) - 1), 3)) -> 0000
D75: =DEC2HEX(ROW(D75)-3, 2) -> 48 | E75: =_xlfn.CONCAT(BIN2HEX(V75), BIN2HEX(W75), " ", BIN2HEX(X75), BIN2HEX(Y75), " ", BIN2HEX(Z75), BIN2HEX(AA75)) -> 00 00 00 | V75: =_xlfn.CONCAT(DEC2BIN(F75), DEC2BIN(G75), DEC2BIN(H75), DEC2BIN(I75)) -> 0000 | W75: =_xlfn.CONCAT(DEC2BIN(IF(ISBLANK(J75), 0, MATCH(J75, 运算选择!$E$2:$E$9, 0) - 1), 3), DEC2BIN(IF(ISBLANK(K75), 0, MATCH(K75, 单列下拉值!$A$2:$A$3, 0) - 1), 1)) -> 0000 | X75: =_xlfn.CONCAT(DEC2BIN(IF(ISBLANK(L75), 0, MATCH(L75, A寄存器选择!$D$2:$D$5, 0) - 1), 2), DEC2BIN(IF(ISBLANK(M75), 0, MATCH(M75, B寄存器选择!$D$2:$D$5, 0) - 1), 2)) -> 0000 | Y75: =_xlfn.CONCAT(DEC2BIN(IF(ISBLANK(N75), 0, MATCH(N75, 单列下拉值!$B$2:$B$3, 0) - 1)), DEC2BIN(IF(ISBLANK(O75), 0, MATCH(O75, 单列下拉值!$C$2:$C$3, 0) - 1)), DEC2BIN(IF(ISBLANK(P75), 0, MATCH(P75, ALU寄存器选择!$D$2:$D$5, 0) - 1), 2)) -> 0000 | Z75: =_xlfn.CONCAT(DEC2BIN(IF(ISBLANK(Q75),0,MATCH(Q75,单列下拉值!$D$2:$D$3,0)-1)), DEC2BIN(IF(ISBLANK(R75), 0, MATCH(R75, CP选择!$E$2:$E$9, 0) - 1), 3)) -> 0000 | AA75: =_xlfn.CONCAT(DEC2BIN(S75), DEC2BIN(IF(ISBLANK(T75), 0, MATCH(T75, 后继微地址形成!$E$2:$E$9, 0) - 1), 3)) -> 0000
D76: =DEC2HEX(ROW(D76)-3, 2) -> 49 | E76: =_xlfn.CONCAT(BIN2HEX(V76), BIN2HEX(W76), " ", BIN2HEX(X76), BIN2HEX(Y76), " ", BIN2HEX(Z76), BIN2HEX(AA76)) -> 00 00 00 | V76: =_xlfn.CONCAT(DEC2BIN(F76), DEC2BIN(G76), DEC2BIN(H76), DEC2BIN(I76)) -> 0000 | W76: =_xlfn.CONCAT(DEC2BIN(IF(ISBLANK(J76), 0, MATCH(J76, 运算选择!$E$2:$E$9, 0) - 1), 3), DEC2BIN(IF(ISBLANK(K76), 0, MATCH(K76, 单列下拉值!$A$2:$A$3, 0) - 1), 1)) -> 0000 | X76: =_xlfn.CONCAT(DEC2BIN(IF(ISBLANK(L76), 0, MATCH(L76, A寄存器选择!$D$2:$D$5, 0) - 1), 2), DEC2BIN(IF(ISBLANK(M76), 0, MATCH(M76, B寄存器选择!$D$2:$D$5, 0) - 1), 2)) -> 0000 | Y76: =_xlfn.CONCAT(DEC2BIN(IF(ISBLANK(N76), 0, MATCH(N76, 单列下拉值!$B$2:$B$3, 0) - 1)), DEC2BIN(IF(ISBLANK(O76), 0, MATCH(O76, 单列下拉值!$C$2:$C$3, 0) - 1)), DEC2BIN(IF(ISBLANK(P76), 0, MATCH(P76, ALU寄存器选择!$D$2:$D$5, 0) - 1), 2)) -> 0000 | Z76: =_xlfn.CONCAT(DEC2BIN(IF(ISBLANK(Q76),0,MATCH(Q76,单列下拉值!$D$2:$D$3,0)-1)), DEC2BIN(IF(ISBLANK(R76), 0, MATCH(R76, CP选择!$E$2:$E$9, 0) - 1), 3)) -> 0000 | AA76: =_xlfn.CONCAT(DEC2BIN(S76), DEC2BIN(IF(ISBLANK(T76), 0, MATCH(T76, 后继微地址形成!$E$2:$E$9, 0) - 1), 3)) -> 0000
D77: =DEC2HEX(ROW(D77)-3, 2) -> 4A | E77: =_xlfn.CONCAT(BIN2HEX(V77), BIN2HEX(W77), " ", BIN2HEX(X77), BIN2HEX(Y77), " ", BIN2HEX(Z77), BIN2HEX(AA77)) -> 00 00 00 | V77: =_xlfn.CONCAT(DEC2BIN(F77), DEC2BIN(G77), DEC2BIN(H77), DEC2BIN(I77)) -> 0000 | W77: =_xlfn.CONCAT(DEC2BIN(IF(ISBLANK(J77), 0, MATCH(J77, 运算选择!$E$2:$E$9, 0) - 1), 3), DEC2BIN(IF(ISBLANK(K77), 0, MATCH(K77, 单列下拉值!$A$2:$A$3, 0) - 1), 1)) -> 0000 | X77: =_xlfn.CONCAT(DEC2BIN(IF(ISBLANK(L77), 0, MATCH(L77, A寄存器选择!$D$2:$D$5, 0) - 1), 2), DEC2BIN(IF(ISBLANK(M77), 0, MATCH(M77, B寄存器选择!$D$2:$D$5, 0) - 1), 2)) -> 0000 | Y77: =_xlfn.CONCAT(DEC2BIN(IF(ISBLANK(N77), 0, MATCH(N77, 单列下拉值!$B$2:$B$3, 0) - 1)), DEC2BIN(IF(ISBLANK(O77), 0, MATCH(O77, 单列下拉值!$C$2:$C$3, 0) - 1)), DEC2BIN(IF(ISBLANK(P77), 0, MATCH(P77, ALU寄存器选择!$D$2:$D$5, 0) - 1), 2)) -> 0000 | Z77: =_xlfn.CONCAT(DEC2BIN(IF(ISBLANK(Q77),0,MATCH(Q77,单列下拉值!$D$2:$D$3,0)-1)), DEC2BIN(IF(ISBLANK(R77), 0, MATCH(R77, CP选择!$E$2:$E$9, 0) - 1), 3)) -> 0000 | AA77: =_xlfn.CONCAT(DEC2BIN(S77), DEC2BIN(IF(ISBLANK(T77), 0, MATCH(T77, 后继微地址形成!$E$2:$E$9, 0) - 1), 3)) -> 0000
D78: =DEC2HEX(ROW(D78)-3, 2) -> 4B | E78: =_xlfn.CONCAT(BIN2HEX(V78), BIN2HEX(W78), " ", BIN2HEX(X78), BIN2HEX(Y78), " ", BIN2HEX(Z78), BIN2HEX(AA78)) -> 00 00 00 | V78: =_xlfn.CONCAT(DEC2BIN(F78), DEC2BIN(G78), DEC2BIN(H78), DEC2BIN(I78)) -> 0000 | W78: =_xlfn.CONCAT(DEC2BIN(IF(ISBLANK(J78), 0, MATCH(J78, 运算选择!$E$2:$E$9, 0) - 1), 3), DEC2BIN(IF(ISBLANK(K78), 0, MATCH(K78, 单列下拉值!$A$2:$A$3, 0) - 1), 1)) -> 0000 | X78: =_xlfn.CONCAT(DEC2BIN(IF(ISBLANK(L78), 0, MATCH(L78, A寄存器选择!$D$2:$D$5, 0) - 1), 2), DEC2BIN(IF(ISBLANK(M78), 0, MATCH(M78, B寄存器选择!$D$2:$D$5, 0) - 1), 2)) -> 0000 | Y78: =_xlfn.CONCAT(DEC2BIN(IF(ISBLANK(N78), 0, MATCH(N78, 单列下拉值!$B$2:$B$3, 0) - 1)), DEC2BIN(IF(ISBLANK(O78), 0, MATCH(O78, 单列下拉值!$C$2:$C$3, 0) - 1)), DEC2BIN(IF(ISBLANK(P78), 0, MATCH(P78, ALU寄存器选择!$D$2:$D$5, 0) - 1), 2)) -> 0000 | Z78: =_xlfn.CONCAT(DEC2BIN(IF(ISBLANK(Q78),0,MATCH(Q78,单列下拉值!$D$2:$D$3,0)-1)), DEC2BIN(IF(ISBLANK(R78), 0, MATCH(R78, CP选择!$E$2:$E$9, 0) - 1), 3)) -> 0000 | AA78: =_xlfn.CONCAT(DEC2BIN(S78), DEC2BIN(IF(ISBLANK(T78), 0, MATCH(T78, 后继微地址形成!$E$2:$E$9, 0) - 1), 3)) -> 0000
D79: =DEC2HEX(ROW(D79)-3, 2) -> 4C | E79: =_xlfn.CONCAT(BIN2HEX(V79), BIN2HEX(W79), " ", BIN2HEX(X79), BIN2HEX(Y79), " ", BIN2HEX(Z79), BIN2HEX(AA79)) -> 00 00 00 | V79: =_xlfn.CONCAT(DEC2BIN(F79), DEC2BIN(G79), DEC2BIN(H79), DEC2BIN(I79)) -> 0000 | W79: =_xlfn.CONCAT(DEC2BIN(IF(ISBLANK(J79), 0, MATCH(J79, 运算选择!$E$2:$E$9, 0) - 1), 3), DEC2BIN(IF(ISBLANK(K79), 0, MATCH(K79, 单列下拉值!$A$2:$A$3, 0) - 1), 1)) -> 0000 | X79: =_xlfn.CONCAT(DEC2BIN(IF(ISBLANK(L79), 0, MATCH(L79, A寄存器选择!$D$2:$D$5, 0) - 1), 2), DEC2BIN(IF(ISBLANK(M79), 0, MATCH(M79, B寄存器选择!$D$2:$D$5, 0) - 1), 2)) -> 0000 | Y79: =_xlfn.CONCAT(DEC2BIN(IF(ISBLANK(N79), 0, MATCH(N79, 单列下拉值!$B$2:$B$3, 0) - 1)), DEC2BIN(IF(ISBLANK(O79), 0, MATCH(O79, 单列下拉值!$C$2:$C$3, 0) - 1)), DEC2BIN(IF(ISBLANK(P79), 0, MATCH(P79, ALU寄存器选择!$D$2:$D$5, 0) - 1), 2)) -> 0000 | Z79: =_xlfn.CONCAT(DEC2BIN(IF(ISBLANK(Q79),0,MATCH(Q79,单列下拉值!$D$2:$D$3,0)-1)), DEC2BIN(IF(ISBLANK(R79), 0, MATCH(R79, CP选择!$E$2:$E$9, 0) - 1), 3)) -> 0000 | AA79: =_xlfn.CONCAT(DEC2BIN(S79), DEC2BIN(IF(ISBLANK(T79), 0, MATCH(T79, 后继微地址形成!$E$2:$E$9, 0) - 1), 3)) -> 0000
... D82: =DEC2HEX(ROW(D82)-3, 2) -> 4F | E82: =_xlfn.CONCAT(BIN2HEX(V82), BIN2HEX(W82), " ", BIN2HEX(X82), BIN2HEX(Y82), " ", BIN2HEX(Z82), BIN2HEX(AA82)) -> 00 00 00 | V82: =_xlfn.CONCAT(DEC2BIN(F82), DEC2BIN(G82), DEC2BIN(H82), DEC2BIN(I82)) -> 0000 | W82: =_xlfn.CONCAT(DEC2BIN(IF(ISBLANK(J82), 0, MATCH(J82, 运算选择!$E$2:$E$9, 0) - 1), 3), DEC2BIN(IF(ISBLANK(K82), 0, MATCH(K82, 单列下拉值!$A$2:$A$3, 0) - 1), 1)) -> 0000 | X82: =_xlfn.CONCAT(DEC2BIN(IF(ISBLANK(L82), 0, MATCH(L82, A寄存器选择!$D$2:$D$5, 0) - 1), 2), DEC2BIN(IF(ISBLANK(M82), 0, MATCH(M82, B寄存器选择!$D$2:$D$5, 0) - 1), 2)) -> 0000 | Y82: =_xlfn.CONCAT(DEC2BIN(IF(ISBLANK(N82), 0, MATCH(N82, 单列下拉值!$B$2:$B$3, 0) - 1)), DEC2BIN(IF(ISBLANK(O82), 0, MATCH(O82, 单列下拉值!$C$2:$C$3, 0) - 1)), DEC2BIN(IF(ISBLANK(P82), 0, MATCH(P82, ALU寄存器选择!$D$2:$D$5, 0) - 1), 2)) -> 0000 | Z82: =_xlfn.CONCAT(DEC2BIN(IF(ISBLANK(Q82),0,MATCH(Q82,单列下拉值!$D$2:$D$3,0)-1)), DEC2BIN(IF(ISBLANK(R82), 0, MATCH(R82, CP选择!$E$2:$E$9, 0) - 1), 3)) -> 0000 | AA82: =_xlfn.CONCAT(DEC2BIN(S82), DEC2BIN(IF(ISBLANK(T82), 0, MATCH(T82, 后继微地址形成!$E$2:$E$9, 0) - 1), 3)) -> 0000
A83: JX PSW, AD | C83: JX(1: 52H, 0: 5DH) | D83: =DEC2HEX(ROW(D83)-3, 2) -> 50 | E83: =_xlfn.CONCAT(BIN2HEX(V83), BIN2HEX(W83), " ", BIN2HEX(X83), BIN2HEX(Y83), " ", BIN2HEX(Z83), BIN2HEX(AA83)) -> 00 00 04 | T83: 程序状态字条件跳转 | V83: =_xlfn.CONCAT(DEC2BIN(F83), DEC2BIN(G83), DEC2BIN(H83), DEC2BIN(I83)) -> 0000 | W83: =_xlfn.CONCAT(DEC2BIN(IF(ISBLANK(J83), 0, MATCH(J83, 运算选择!$E$2:$E$9, 0) - 1), 3), DEC2BIN(IF(ISBLANK(K83), 0, MATCH(K83, 单列下拉值!$A$2:$A$3, 0) - 1), 1)) -> 0000 | X83: =_xlfn.CONCAT(DEC2BIN(IF(ISBLANK(L83), 0, MATCH(L83, A寄存器选择!$D$2:$D$5, 0) - 1), 2), DEC2BIN(IF(ISBLANK(M83), 0, MATCH(M83, B寄存器选择!$D$2:$D$5, 0) - 1), 2)) -> 0000 | Y83: =_xlfn.CONCAT(DEC2BIN(IF(ISBLANK(N83), 0, MATCH(N83, 单列下拉值!$B$2:$B$3, 0) - 1)), DEC2BIN(IF(ISBLANK(O83), 0, MATCH(O83, 单列下拉值!$C$2:$C$3, 0) - 1)), DEC2BIN(IF(ISBLANK(P83), 0, MATCH(P83, ALU寄存器选择!$D$2:$D$5, 0) - 1), 2)) -> 0000 | Z83: =_xlfn.CONCAT(DEC2BIN(IF(ISBLANK(Q83),0,MATCH(Q83,单列下拉值!$D$2:$D$3,0)-1)), DEC2BIN(IF(ISBLANK(R83), 0, MATCH(R83, CP选择!$E$2:$E$9, 0) - 1), 3)) -> 0000 | AA83: =_xlfn.CONCAT(DEC2BIN(S83), DEC2BIN(IF(ISBLANK(T83), 0, MATCH(T83, 后继微地址形成!$E$2:$E$9, 0) - 1), 3)) -> 0100
D84: =DEC2HEX(ROW(D84)-3, 2) -> 51 | E84: =_xlfn.CONCAT(BIN2HEX(V84), BIN2HEX(W84), " ", BIN2HEX(X84), BIN2HEX(Y84), " ", BIN2HEX(Z84), BIN2HEX(AA84)) -> 00 00 00 | V84: =_xlfn.CONCAT(DEC2BIN(F84), DEC2BIN(G84), DEC2BIN(H84), DEC2BIN(I84)) -> 0000 | W84: =_xlfn.CONCAT(DEC2BIN(IF(ISBLANK(J84), 0, MATCH(J84, 运算选择!$E$2:$E$9, 0) - 1), 3), DEC2BIN(IF(ISBLANK(K84), 0, MATCH(K84, 单列下拉值!$A$2:$A$3, 0) - 1), 1)) -> 0000 | X84: =_xlfn.CONCAT(DEC2BIN(IF(ISBLANK(L84), 0, MATCH(L84, A寄存器选择!$D$2:$D$5, 0) - 1), 2), DEC2BIN(IF(ISBLANK(M84), 0, MATCH(M84, B寄存器选择!$D$2:$D$5, 0) - 1), 2)) -> 0000 | Y84: =_xlfn.CONCAT(DEC2BIN(IF(ISBLANK(N84), 0, MATCH(N84, 单列下拉值!$B$2:$B$3, 0) - 1)), DEC2BIN(IF(ISBLANK(O84), 0, MATCH(O84, 单列下拉值!$C$2:$C$3, 0) - 1)), DEC2BIN(IF(ISBLANK(P84), 0, MATCH(P84, ALU寄存器选择!$D$2:$D$5, 0) - 1), 2)) -> 0000 | Z84: =_xlfn.CONCAT(DEC2BIN(IF(ISBLANK(Q84),0,MATCH(Q84,单列下拉值!$D$2:$D$3,0)-1)), DEC2BIN(IF(ISBLANK(R84), 0, MATCH(R84, CP选择!$E$2:$E$9, 0) - 1), 3)) -> 0000 | AA84: =_xlfn.CONCAT(DEC2BIN(S84), DEC2BIN(IF(ISBLANK(T84), 0, MATCH(T84, 后继微地址形成!$E$2:$E$9, 0) - 1), 3)) -> 0000
B85: PC->MAR, PC+1->PC | C85: PC->B | D85: =DEC2HEX(ROW(D85)-3, 2) -> 52 | E85: =_xlfn.CONCAT(BIN2HEX(V85), BIN2HEX(W85), " ", BIN2HEX(X85), BIN2HEX(Y85), " ", BIN2HEX(Z85), BIN2HEX(AA85)) -> 00 12 01 | M85: B选PC | P85: 存入B寄存器 | T85: μPC加一 | V85: =_xlfn.CONCAT(DEC2BIN(F85), DEC2BIN(G85), DEC2BIN(H85), DEC2BIN(I85)) -> 0000 | W85: =_xlfn.CONCAT(DEC2BIN(IF(ISBLANK(J85), 0, MATCH(J85, 运算选择!$E$2:$E$9, 0) - 1), 3), DEC2BIN(IF(ISBLANK(K85), 0, MATCH(K85, 单列下拉值!$A$2:$A$3, 0) - 1), 1)) -> 0000 | X85: =_xlfn.CONCAT(DEC2BIN(IF(ISBLANK(L85), 0, MATCH(L85, A寄存器选择!$D$2:$D$5, 0) - 1), 2), DEC2BIN(IF(ISBLANK(M85), 0, MATCH(M85, B寄存器选择!$D$2:$D$5, 0) - 1), 2)) -> 0001 | Y85: =_xlfn.CONCAT(DEC2BIN(IF(ISBLANK(N85), 0, MATCH(N85, 单列下拉值!$B$2:$B$3, 0) - 1)), DEC2BIN(IF(ISBLANK(O85), 0, MATCH(O85, 单列下拉值!$C$2:$C$3, 0) - 1)), DEC2BIN(IF(ISBLANK(P85), 0, MATCH(P85, ALU寄存器选择!$D$2:$D$5, 0) - 1), 2)) -> 0010 | Z85: =_xlfn.CONCAT(DEC2BIN(IF(ISBLANK(Q85),0,MATCH(Q85,单列下拉值!$D$2:$D$3,0)-1)), DEC2BIN(IF(ISBLANK(R85), 0, MATCH(R85, CP选择!$E$2:$E$9, 0) - 1), 3)) -> 0000 | AA85: =_xlfn.CONCAT(DEC2BIN(S85), DEC2BIN(IF(ISBLANK(T85), 0, MATCH(T85, 后继微地址形成!$E$2:$E$9, 0) - 1), 3)) -> 0001
C86: 0->A, PC+1 -> PC | D86: =DEC2HEX(ROW(D86)-3, 2) -> 53 | E86: =_xlfn.CONCAT(BIN2HEX(V86), BIN2HEX(W86), " ", BIN2HEX(X86), BIN2HEX(Y86), " ", BIN2HEX(Z86), BIN2HEX(AA86)) -> 00 01 A1 | L86: A置0 | P86: 存入A寄存器 | Q86: 加一 | R86: CPPC | T86: μPC加一 | V86: =_xlfn.CONCAT(DEC2BIN(F86), DEC2BIN(G86), DEC2BIN(H86), DEC2BIN(I86)) -> 0000 | W86: =_xlfn.CONCAT(DEC2BIN(IF(ISBLANK(J86), 0, MATCH(J86, 运算选择!$E$2:$E$9, 0) - 1), 3), DEC2BIN(IF(ISBLANK(K86), 0, MATCH(K86, 单列下拉值!$A$2:$A$3, 0) - 1), 1)) -> 0000 | X86: =_xlfn.CONCAT(DEC2BIN(IF(ISBLANK(L86), 0, MATCH(L86, A寄存器选择!$D$2:$D$5, 0) - 1), 2), DEC2BIN(IF(ISBLANK(M86), 0, MATCH(M86, B寄存器选择!$D$2:$D$5, 0) - 1), 2)) -> 0000 | Y86: =_xlfn.CONCAT(DEC2BIN(IF(ISBLANK(N86), 0, MATCH(N86, 单列下拉值!$B$2:$B$3, 0) - 1)), DEC2BIN(IF(ISBLANK(O86), 0, MATCH(O86, 单列下拉值!$C$2:$C$3, 0) - 1)), DEC2BIN(IF(ISBLANK(P86), 0, MATCH(P86, ALU寄存器选择!$D$2:$D$5, 0) - 1), 2)) -> 0001 | Z86: =_xlfn.CONCAT(DEC2BIN(IF(ISBLANK(Q86),0,MATCH(Q86,单列下拉值!$D$2:$D$3,0)-1)), DEC2BIN(IF(ISBLANK(R86), 0, MATCH(R86, CP选择!$E$2:$E$9, 0) - 1), 3)) -> 1010 | AA86: =_xlfn.CONCAT(DEC2BIN(S86), DEC2BIN(IF(ISBLANK(T86), 0, MATCH(T86, 后继微地址形成!$E$2:$E$9, 0) - 1), 3)) -> 0001
C87: 0+B->Z | D87: =DEC2HEX(ROW(D87)-3, 2) -> 54 | E87: =_xlfn.CONCAT(BIN2HEX(V87), BIN2HEX(W87), " ", BIN2HEX(X87), BIN2HEX(Y87), " ", BIN2HEX(Z87), BIN2HEX(AA87)) -> 04 03 01 | J87: 无符号加 | P87: 存入Z和PSW | T87: μPC加一 | V87: =_xlfn.CONCAT(DEC2BIN(F87), DEC2BIN(G87), DEC2BIN(H87), DEC2BIN(I87)) -> 0000 | W87: =_xlfn.CONCAT(DEC2BIN(IF(ISBLANK(J87), 0, MATCH(J87, 运算选择!$E$2:$E$9, 0) - 1), 3), DEC2BIN(IF(ISBLANK(K87), 0, MATCH(K87, 单列下拉值!$A$2:$A$3, 0) - 1), 1)) -> 0100 | X87: =_xlfn.CONCAT(DEC2BIN(IF(ISBLANK(L87), 0, MATCH(L87, A寄存器选择!$D$2:$D$5, 0) - 1), 2), DEC2BIN(IF(ISBLANK(M87), 0, MATCH(M87, B寄存器选择!$D$2:$D$5, 0) - 1), 2)) -> 0000 | Y87: =_xlfn.CONCAT(DEC2BIN(IF(ISBLANK(N87), 0, MATCH(N87, 单列下拉值!$B$2:$B$3, 0) - 1)), DEC2BIN(IF(ISBLANK(O87), 0, MATCH(O87, 单列下拉值!$C$2:$C$3, 0) - 1)), DEC2BIN(IF(ISBLANK(P87), 0, MATCH(P87, ALU寄存器选择!$D$2:$D$5, 0) - 1), 2)) -> 0011 | Z87: =_xlfn.CONCAT(DEC2BIN(IF(ISBLANK(Q87),0,MATCH(Q87,单列下拉值!$D$2:$D$3,0)-1)), DEC2BIN(IF(ISBLANK(R87), 0, MATCH(R87, CP选择!$E$2:$E$9, 0) - 1), 3)) -> 0000 | AA87: =_xlfn.CONCAT(DEC2BIN(S87), DEC2BIN(IF(ISBLANK(T87), 0, MATCH(T87, 后继微地址形成!$E$2:$E$9, 0) - 1), 3)) -> 0001
C88: Z->MAR | D88: =DEC2HEX(ROW(D88)-3, 2) -> 55 | E88: =_xlfn.CONCAT(BIN2HEX(V88), BIN2HEX(W88), " ", BIN2HEX(X88), BIN2HEX(Y88), " ", BIN2HEX(Z88), BIN2HEX(AA88)) -> 00 00 41 | R88: CPMAR | T88: μPC加一 | V88: =_xlfn.CONCAT(DEC2BIN(F88), DEC2BIN(G88), DEC2BIN(H88), DEC2BIN(I88)) -> 0000 | W88: =_xlfn.CONCAT(DEC2BIN(IF(ISBLANK(J88), 0, MATCH(J88, 运算选择!$E$2:$E$9, 0) - 1), 3), DEC2BIN(IF(ISBLANK(K88), 0, MATCH(K88, 单列下拉值!$A$2:$A$3, 0) - 1), 1)) -> 0000 | X88: =_xlfn.CONCAT(DEC2BIN(IF(ISBLANK(L88), 0, MATCH(L88, A寄存器选择!$D$2:$D$5, 0) - 1), 2), DEC2BIN(IF(ISBLANK(M88), 0, MATCH(M88, B寄存器选择!$D$2:$D$5, 0) - 1), 2)) -> 0000 | Y88: =_xlfn.CONCAT(DEC2BIN(IF(ISBLANK(N88), 0, MATCH(N88, 单列下拉值!$B$2:$B$3, 0) - 1)), DEC2BIN(IF(ISBLANK(O88), 0, MATCH(O88, 单列下拉值!$C$2:$C$3, 0) - 1)), DEC2BIN(IF(ISBLANK(P88), 0, MATCH(P88, ALU寄存器选择!$D$2:$D$5, 0) - 1), 2)) -> 0000 | Z88: =_xlfn.CONCAT(DEC2BIN(IF(ISBLANK(Q88),0,MATCH(Q88,单列下拉值!$D$2:$D$3,0)-1)), DEC2BIN(IF(ISBLANK(R88), 0, MATCH(R88, CP选择!$E$2:$E$9, 0) - 1), 3)) -> 0100 | AA88: =_xlfn.CONCAT(DEC2BIN(S88), DEC2BIN(IF(ISBLANK(T88), 0, MATCH(T88, 后继微地址形成!$E$2:$E$9, 0) - 1), 3)) -> 0001
C89: 1->R, M(MAR)->MDR | D89: =DEC2HEX(ROW(D89)-3, 2) -> 56 | E89: =_xlfn.CONCAT(BIN2HEX(V89), BIN2HEX(W89), " ", BIN2HEX(X89), BIN2HEX(Y89), " ", BIN2HEX(Z89), BIN2HEX(AA89)) -> 00 04 01 | K89: 内存→MDR | O89: 读 | T89: μPC加一 | V89: =_xlfn.CONCAT(DEC2BIN(F89), DEC2BIN(G89), DEC2BIN(H89), DEC2BIN(I89)) -> 0000 | W89: =_xlfn.CONCAT(DEC2BIN(IF(ISBLANK(J89), 0, MATCH(J89, 运算选择!$E$2:$E$9, 0) - 1), 3), DEC2BIN(IF(ISBLANK(K89), 0, MATCH(K89, 单列下拉值!$A$2:$A$3, 0) - 1), 1)) -> 0000 | X89: =_xlfn.CONCAT(DEC2BIN(IF(ISBLANK(L89), 0, MATCH(L89, A寄存器选择!$D$2:$D$5, 0) - 1), 2), DEC2BIN(IF(ISBLANK(M89), 0, MATCH(M89, B寄存器选择!$D$2:$D$5, 0) - 1), 2)) -> 0000 | Y89: =_xlfn.CONCAT(DEC2BIN(IF(ISBLANK(N89), 0, MATCH(N89, 单列下拉值!$B$2:$B$3, 0) - 1)), DEC2BIN(IF(ISBLANK(O89), 0, MATCH(O89, 单列下拉值!$C$2:$C$3, 0) - 1)), DEC2BIN(IF(ISBLANK(P89), 0, MATCH(P89, ALU寄存器选择!$D$2:$D$5, 0) - 1), 2)) -> 0100 | Z89: =_xlfn.CONCAT(DEC2BIN(IF(ISBLANK(Q89),0,MATCH(Q89,单列下拉值!$D$2:$D$3,0)-1)), DEC2BIN(IF(ISBLANK(R89), 0, MATCH(R89, CP选择!$E$2:$E$9, 0) - 1), 3)) -> 0000 | AA89: =_xlfn.CONCAT(DEC2BIN(S89), DEC2BIN(IF(ISBLANK(T89), 0, MATCH(T89, 后继微地址形成!$E$2:$E$9, 0) - 1), 3)) -> 0001
B90: MDR+PC->PC | C90: MDR->A | D90: =DEC2HEX(ROW(D90)-3, 2) -> 57 | E90: =_xlfn.CONCAT(BIN2HEX(V90), BIN2HEX(W90), " ", BIN2HEX(X90), BIN2HEX(Y90), " ", BIN2HEX(Z90), BIN2HEX(AA90)) -> 00 41 01 | L90: A选MDR | P90: 存入A寄存器 | T90: μPC加一 | V90: =_xlfn.CONCAT(DEC2BIN(F90), DEC2BIN(G90), DEC2BIN(H90), DEC2BIN(I90)) -> 0000 | W90: =_xlfn.CONCAT(DEC2BIN(IF(ISBLANK(J90), 0, MATCH(J90, 运算选择!$E$2:$E$9, 0) - 1), 3), DEC2BIN(IF(ISBLANK(K90), 0, MATCH(K90, 单列下拉值!$A$2:$A$3, 0) - 1), 1)) -> 0000 | X90: =_xlfn.CONCAT(DEC2BIN(IF(ISBLANK(L90), 0, MATCH(L90, A寄存器选择!$D$2:$D$5, 0) - 1), 2), DEC2BIN(IF(ISBLANK(M90), 0, MATCH(M90, B寄存器选择!$D$2:$D$5, 0) - 1), 2)) -> 0100 | Y90: =_xlfn.CONCAT(DEC2BIN(IF(ISBLANK(N90), 0, MATCH(N90, 单列下拉值!$B$2:$B$3, 0) - 1)), DEC2BIN(IF(ISBLANK(O90), 0, MATCH(O90, 单列下拉值!$C$2:$C$3, 0) - 1)), DEC2BIN(IF(ISBLANK(P90), 0, MATCH(P90, ALU寄存器选择!$D$2:$D$5, 0) - 1), 2)) -> 0001 | Z90: =_xlfn.CONCAT(DEC2BIN(IF(ISBLANK(Q90),0,MATCH(Q90,单列下拉值!$D$2:$D$3,0)-1)), DEC2BIN(IF(ISBLANK(R90), 0, MATCH(R90, CP选择!$E$2:$E$9, 0) - 1), 3)) -> 0000 | AA90: =_xlfn.CONCAT(DEC2BIN(S90), DEC2BIN(IF(ISBLANK(T90), 0, MATCH(T90, 后继微地址形成!$E$2:$E$9, 0) - 1), 3)) -> 0001
C91: PC->B | D91: =DEC2HEX(ROW(D91)-3, 2) -> 58 | E91: =_xlfn.CONCAT(BIN2HEX(V91), BIN2HEX(W91), " ", BIN2HEX(X91), BIN2HEX(Y91), " ", BIN2HEX(Z91), BIN2HEX(AA91)) -> 00 12 01 | M91: B选PC | P91: 存入B寄存器 | T91: μPC加一 | V91: =_xlfn.CONCAT(DEC2BIN(F91), DEC2BIN(G91), DEC2BIN(H91), DEC2BIN(I91)) -> 0000 | W91: =_xlfn.CONCAT(DEC2BIN(IF(ISBLANK(J91), 0, MATCH(J91, 运算选择!$E$2:$E$9, 0) - 1), 3), DEC2BIN(IF(ISBLANK(K91), 0, MATCH(K91, 单列下拉值!$A$2:$A$3, 0) - 1), 1)) -> 0000 | X91: =_xlfn.CONCAT(DEC2BIN(IF(ISBLANK(L91), 0, MATCH(L91, A寄存器选择!$D$2:$D$5, 0) - 1), 2), DEC2BIN(IF(ISBLANK(M91), 0, MATCH(M91, B寄存器选择!$D$2:$D$5, 0) - 1), 2)) -> 0001 | Y91: =_xlfn.CONCAT(DEC2BIN(IF(ISBLANK(N91), 0, MATCH(N91, 单列下拉值!$B$2:$B$3, 0) - 1)), DEC2BIN(IF(ISBLANK(O91), 0, MATCH(O91, 单列下拉值!$C$2:$C$3, 0) - 1)), DEC2BIN(IF(ISBLANK(P91), 0, MATCH(P91, ALU寄存器选择!$D$2:$D$5, 0) - 1), 2)) -> 0010 | Z91: =_xlfn.CONCAT(DEC2BIN(IF(ISBLANK(Q91),0,MATCH(Q91,单列下拉值!$D$2:$D$3,0)-1)), DEC2BIN(IF(ISBLANK(R91), 0, MATCH(R91, CP选择!$E$2:$E$9, 0) - 1), 3)) -> 0000 | AA91: =_xlfn.CONCAT(DEC2BIN(S91), DEC2BIN(IF(ISBLANK(T91), 0, MATCH(T91, 后继微地址形成!$E$2:$E$9, 0) - 1), 3)) -> 0001
C92: A+B->Z | D92: =DEC2HEX(ROW(D92)-3, 2) -> 59 | E92: =_xlfn.CONCAT(BIN2HEX(V92), BIN2HEX(W92), " ", BIN2HEX(X92), BIN2HEX(Y92), " ", BIN2HEX(Z92), BIN2HEX(AA92)) -> 04 03 01 | J92: 无符号加 | P92: 存入Z和PSW | T92: μPC加一 | V92: =_xlfn.CONCAT(DEC2BIN(F92), DEC2BIN(G92), DEC2BIN(H92), DEC2BIN(I92)) -> 0000 | W92: =_xlfn.CONCAT(DEC2BIN(IF(ISBLANK(J92), 0, MATCH(J92, 运算选择!$E$2:$E$9, 0) - 1), 3), DEC2BIN(IF(ISBLANK(K92), 0, MATCH(K92, 单列下拉值!$A$2:$A$3, 0) - 1), 1)) -> 0100 | X92: =_xlfn.CONCAT(DEC2BIN(IF(ISBLANK(L92), 0, MATCH(L92, A寄存器选择!$D$2:$D$5, 0) - 1), 2), DEC2BIN(IF(ISBLANK(M92), 0, MATCH(M92, B寄存器选择!$D$2:$D$5, 0) - 1), 2)) -> 0000 | Y92: =_xlfn.CONCAT(DEC2BIN(IF(ISBLANK(N92), 0, MATCH(N92, 单列下拉值!$B$2:$B$3, 0) - 1)), DEC2BIN(IF(ISBLANK(O92), 0, MATCH(O92, 单列下拉值!$C$2:$C$3, 0) - 1)), DEC2BIN(IF(ISBLANK(P92), 0, MATCH(P92, ALU寄存器选择!$D$2:$D$5, 0) - 1), 2)) -> 0011 | Z92: =_xlfn.CONCAT(DEC2BIN(IF(ISBLANK(Q92),0,MATCH(Q92,单列下拉值!$D$2:$D$3,0)-1)), DEC2BIN(IF(ISBLANK(R92), 0, MATCH(R92, CP选择!$E$2:$E$9, 0) - 1), 3)) -> 0000 | AA92: =_xlfn.CONCAT(DEC2BIN(S92), DEC2BIN(IF(ISBLANK(T92), 0, MATCH(T92, 后继微地址形成!$E$2:$E$9, 0) - 1), 3)) -> 0001
C93: Z->PC | D93: =DEC2HEX(ROW(D93)-3, 2) -> 5A | E93: =_xlfn.CONCAT(BIN2HEX(V93), BIN2HEX(W93), " ", BIN2HEX(X93), BIN2HEX(Y93), " ", BIN2HEX(Z93), BIN2HEX(AA93)) -> 00 00 21 | R93: CPPC | T93: μPC加一 | V93: =_xlfn.CONCAT(DEC2BIN(F93), DEC2BIN(G93), DEC2BIN(H93), DEC2BIN(I93)) -> 0000 | W93: =_xlfn.CONCAT(DEC2BIN(IF(ISBLANK(J93), 0, MATCH(J93, 运算选择!$E$2:$E$9, 0) - 1), 3), DEC2BIN(IF(ISBLANK(K93), 0, MATCH(K93, 单列下拉值!$A$2:$A$3, 0) - 1), 1)) -> 0000 | X93: =_xlfn.CONCAT(DEC2BIN(IF(ISBLANK(L93), 0, MATCH(L93, A寄存器选择!$D$2:$D$5, 0) - 1), 2), DEC2BIN(IF(ISBLANK(M93), 0, MATCH(M93, B寄存器选择!$D$2:$D$5, 0) - 1), 2)) -> 0000 | Y93: =_xlfn.CONCAT(DEC2BIN(IF(ISBLANK(N93), 0, MATCH(N93, 单列下拉值!$B$2:$B$3, 0) - 1)), DEC2BIN(IF(ISBLANK(O93), 0, MATCH(O93, 单列下拉值!$C$2:$C$3, 0) - 1)), DEC2BIN(IF(ISBLANK(P93), 0, MATCH(P93, ALU寄存器选择!$D$2:$D$5, 0) - 1), 2)) -> 0000 | Z93: =_xlfn.CONCAT(DEC2BIN(IF(ISBLANK(Q93),0,MATCH(Q93,单列下拉值!$D$2:$D$3,0)-1)), DEC2BIN(IF(ISBLANK(R93), 0, MATCH(R93, CP选择!$E$2:$E$9, 0) - 1), 3)) -> 0010 | AA93: =_xlfn.CONCAT(DEC2BIN(S93), DEC2BIN(IF(ISBLANK(T93), 0, MATCH(T93, 后继微地址形成!$E$2:$E$9, 0) - 1), 3)) -> 0001
C94: END(JP) | D94: =DEC2HEX(ROW(D94)-3, 2) -> 5B | E94: =_xlfn.CONCAT(BIN2HEX(V94), BIN2HEX(W94), " ", BIN2HEX(X94), BIN2HEX(Y94), " ", BIN2HEX(Z94), BIN2HEX(AA94)) -> 00 00 02 | T94: 无条件跳转至00H | V94: =_xlfn.CONCAT(DEC2BIN(F94), DEC2BIN(G94), DEC2BIN(H94), DEC2BIN(I94)) -> 0000 | W94: =_xlfn.CONCAT(DEC2BIN(IF(ISBLANK(J94), 0, MATCH(J94, 运算选择!$E$2:$E$9, 0) - 1), 3), DEC2BIN(IF(ISBLANK(K94), 0, MATCH(K94, 单列下拉值!$A$2:$A$3, 0) - 1), 1)) -> 0000 | X94: =_xlfn.CONCAT(DEC2BIN(IF(ISBLANK(L94), 0, MATCH(L94, A寄存器选择!$D$2:$D$5, 0) - 1), 2), DEC2BIN(IF(ISBLANK(M94), 0, MATCH(M94, B寄存器选择!$D$2:$D$5, 0) - 1), 2)) -> 0000 | Y94: =_xlfn.CONCAT(DEC2BIN(IF(ISBLANK(N94), 0, MATCH(N94, 单列下拉值!$B$2:$B$3, 0) - 1)), DEC2BIN(IF(ISBLANK(O94), 0, MATCH(O94, 单列下拉值!$C$2:$C$3, 0) - 1)), DEC2BIN(IF(ISBLANK(P94), 0, MATCH(P94, ALU寄存器选择!$D$2:$D$5, 0) - 1), 2)) -> 0000 | Z94: =_xlfn.CONCAT(DEC2BIN(IF(ISBLANK(Q94),0,MATCH(Q94,单列下拉值!$D$2:$D$3,0)-1)), DEC2BIN(IF(ISBLANK(R94), 0, MATCH(R94, CP选择!$E$2:$E$9, 0) - 1), 3)) -> 0000 | AA94: =_xlfn.CONCAT(DEC2BIN(S94), DEC2BIN(IF(ISBLANK(T94), 0, MATCH(T94, 后继微地址形成!$E$2:$E$9, 0) - 1), 3)) -> 0010
D95: =DEC2HEX(ROW(D95)-3, 2) -> 5C | E95: =_xlfn.CONCAT(BIN2HEX(V95), BIN2HEX(W95), " ", BIN2HEX(X95), BIN2HEX(Y95), " ", BIN2HEX(Z95), BIN2HEX(AA95)) -> 00 00 00 | V95: =_xlfn.CONCAT(DEC2BIN(F95), DEC2BIN(G95), DEC2BIN(H95), DEC2BIN(I95)) -> 0000 | W95: =_xlfn.CONCAT(DEC2BIN(IF(ISBLANK(J95), 0, MATCH(J95, 运算选择!$E$2:$E$9, 0) - 1), 3), DEC2BIN(IF(ISBLANK(K95), 0, MATCH(K95, 单列下拉值!$A$2:$A$3, 0) - 1), 1)) -> 0000 | X95: =_xlfn.CONCAT(DEC2BIN(IF(ISBLANK(L95), 0, MATCH(L95, A寄存器选择!$D$2:$D$5, 0) - 1), 2), DEC2BIN(IF(ISBLANK(M95), 0, MATCH(M95, B寄存器选择!$D$2:$D$5, 0) - 1), 2)) -> 0000 | Y95: =_xlfn.CONCAT(DEC2BIN(IF(ISBLANK(N95), 0, MATCH(N95, 单列下拉值!$B$2:$B$3, 0) - 1)), DEC2BIN(IF(ISBLANK(O95), 0, MATCH(O95, 单列下拉值!$C$2:$C$3, 0) - 1)), DEC2BIN(IF(ISBLANK(P95), 0, MATCH(P95, ALU寄存器选择!$D$2:$D$5, 0) - 1), 2)) -> 0000 | Z95: =_xlfn.CONCAT(DEC2BIN(IF(ISBLANK(Q95),0,MATCH(Q95,单列下拉值!$D$2:$D$3,0)-1)), DEC2BIN(IF(ISBLANK(R95), 0, MATCH(R95, CP选择!$E$2:$E$9, 0) - 1), 3)) -> 0000 | AA95: =_xlfn.CONCAT(DEC2BIN(S95), DEC2BIN(IF(ISBLANK(T95), 0, MATCH(T95, 后继微地址形成!$E$2:$E$9, 0) - 1), 3)) -> 0000
C96: PC+1->PC | D96: =DEC2HEX(ROW(D96)-3, 2) -> 5D | E96: =_xlfn.CONCAT(BIN2HEX(V96), BIN2HEX(W96), " ", BIN2HEX(X96), BIN2HEX(Y96), " ", BIN2HEX(Z96), BIN2HEX(AA96)) -> 00 00 A1 | Q96: 加一 | R96: CPPC | T96: μPC加一 | V96: =_xlfn.CONCAT(DEC2BIN(F96), DEC2BIN(G96), DEC2BIN(H96), DEC2BIN(I96)) -> 0000 | W96: =_xlfn.CONCAT(DEC2BIN(IF(ISBLANK(J96), 0, MATCH(J96, 运算选择!$E$2:$E$9, 0) - 1), 3), DEC2BIN(IF(ISBLANK(K96), 0, MATCH(K96, 单列下拉值!$A$2:$A$3, 0) - 1), 1)) -> 0000 | X96: =_xlfn.CONCAT(DEC2BIN(IF(ISBLANK(L96), 0, MATCH(L96, A寄存器选择!$D$2:$D$5, 0) - 1), 2), DEC2BIN(IF(ISBLANK(M96), 0, MATCH(M96, B寄存器选择!$D$2:$D$5, 0) - 1), 2)) -> 0000 | Y96: =_xlfn.CONCAT(DEC2BIN(IF(ISBLANK(N96), 0, MATCH(N96, 单列下拉值!$B$2:$B$3, 0) - 1)), DEC2BIN(IF(ISBLANK(O96), 0, MATCH(O96, 单列下拉值!$C$2:$C$3, 0) - 1)), DEC2BIN(IF(ISBLANK(P96), 0, MATCH(P96, ALU寄存器选择!$D$2:$D$5, 0) - 1), 2)) -> 0000 | Z96: =_xlfn.CONCAT(DEC2BIN(IF(ISBLANK(Q96),0,MATCH(Q96,单列下拉值!$D$2:$D$3,0)-1)), DEC2BIN(IF(ISBLANK(R96), 0, MATCH(R96, CP选择!$E$2:$E$9, 0) - 1), 3)) -> 1010 | AA96: =_xlfn.CONCAT(DEC2BIN(S96), DEC2BIN(IF(ISBLANK(T96), 0, MATCH(T96, 后继微地址形成!$E$2:$E$9, 0) - 1), 3)) -> 0001
C97: END(JP) | D97: =DEC2HEX(ROW(D97)-3, 2) -> 5E | E97: =_xlfn.CONCAT(BIN2HEX(V97), BIN2HEX(W97), " ", BIN2HEX(X97), BIN2HEX(Y97), " ", BIN2HEX(Z97), BIN2HEX(AA97)) -> 00 00 02 | T97: 无条件跳转至00H | V97: =_xlfn.CONCAT(DEC2BIN(F97), DEC2BIN(G97), DEC2BIN(H97), DEC2BIN(I97)) -> 0000 | W97: =_xlfn.CONCAT(DEC2BIN(IF(ISBLANK(J97), 0, MATCH(J97, 运算选择!$E$2:$E$9, 0) - 1), 3), DEC2BIN(IF(ISBLANK(K97), 0, MATCH(K97, 单列下拉值!$A$2:$A$3, 0) - 1), 1)) -> 0000 | X97: =_xlfn.CONCAT(DEC2BIN(IF(ISBLANK(L97), 0, MATCH(L97, A寄存器选择!$D$2:$D$5, 0) - 1), 2), DEC2BIN(IF(ISBLANK(M97), 0, MATCH(M97, B寄存器选择!$D$2:$D$5, 0) - 1), 2)) -> 0000 | Y97: =_xlfn.CONCAT(DEC2BIN(IF(ISBLANK(N97), 0, MATCH(N97, 单列下拉值!$B$2:$B$3, 0) - 1)), DEC2BIN(IF(ISBLANK(O97), 0, MATCH(O97, 单列下拉值!$C$2:$C$3, 0) - 1)), DEC2BIN(IF(ISBLANK(P97), 0, MATCH(P97, ALU寄存器选择!$D$2:$D$5, 0) - 1), 2)) -> 0000 | Z97: =_xlfn.CONCAT(DEC2BIN(IF(ISBLANK(Q97),0,MATCH(Q97,单列下拉值!$D$2:$D$3,0)-1)), DEC2BIN(IF(ISBLANK(R97), 0, MATCH(R97, CP选择!$E$2:$E$9, 0) - 1), 3)) -> 0000 | AA97: =_xlfn.CONCAT(DEC2BIN(S97), DEC2BIN(IF(ISBLANK(T97), 0, MATCH(T97, 后继微地址形成!$E$2:$E$9, 0) - 1), 3)) -> 0010
D98: =DEC2HEX(ROW(D98)-3, 2) -> 5F | E98: =_xlfn.CONCAT(BIN2HEX(V98), BIN2HEX(W98), " ", BIN2HEX(X98), BIN2HEX(Y98), " ", BIN2HEX(Z98), BIN2HEX(AA98)) -> 00 00 00 | V98: =_xlfn.CONCAT(DEC2BIN(F98), DEC2BIN(G98), DEC2BIN(H98), DEC2BIN(I98)) -> 0000 | W98: =_xlfn.CONCAT(DEC2BIN(IF(ISBLANK(J98), 0, MATCH(J98, 运算选择!$E$2:$E$9, 0) - 1), 3), DEC2BIN(IF(ISBLANK(K98), 0, MATCH(K98, 单列下拉值!$A$2:$A$3, 0) - 1), 1)) -> 0000 | X98: =_xlfn.CONCAT(DEC2BIN(IF(ISBLANK(L98), 0, MATCH(L98, A寄存器选择!$D$2:$D$5, 0) - 1), 2), DEC2BIN(IF(ISBLANK(M98), 0, MATCH(M98, B寄存器选择!$D$2:$D$5, 0) - 1), 2)) -> 0000 | Y98: =_xlfn.CONCAT(DEC2BIN(IF(ISBLANK(N98), 0, MATCH(N98, 单列下拉值!$B$2:$B$3, 0) - 1)), DEC2BIN(IF(ISBLANK(O98), 0, MATCH(O98, 单列下拉值!$C$2:$C$3, 0) - 1)), DEC2BIN(IF(ISBLANK(P98), 0, MATCH(P98, ALU寄存器选择!$D$2:$D$5, 0) - 1), 2)) -> 0000 | Z98: =_xlfn.CONCAT(DEC2BIN(IF(ISBLANK(Q98),0,MATCH(Q98,单列下拉值!$D$2:$D$3,0)-1)), DEC2BIN(IF(ISBLANK(R98), 0, MATCH(R98, CP选择!$E$2:$E$9, 0) - 1), 3)) -> 0000 | AA98: =_xlfn.CONCAT(DEC2BIN(S98), DEC2BIN(IF(ISBLANK(T98), 0, MATCH(T98, 后继微地址形成!$E$2:$E$9, 0) - 1), 3)) -> 0000
A99: SHRC * Rj（将进位作为左串入，并右移一位） | C99: Rj->B | D99: =DEC2HEX(ROW(D99)-3, 2) -> 60 | E99: =_xlfn.CONCAT(BIN2HEX(V99), BIN2HEX(W99), " ", BIN2HEX(X99), BIN2HEX(Y99), " ", BIN2HEX(Z99), BIN2HEX(AA99)) -> 00 22 01 | M99: B选通用寄存器 | P99: 存入B寄存器 | T99: μPC加一 | V99: =_xlfn.CONCAT(DEC2BIN(F99), DEC2BIN(G99), DEC2BIN(H99), DEC2BIN(I99)) -> 0000 | W99: =_xlfn.CONCAT(DEC2BIN(IF(ISBLANK(J99), 0, MATCH(J99, 运算选择!$E$2:$E$9, 0) - 1), 3), DEC2BIN(IF(ISBLANK(K99), 0, MATCH(K99, 单列下拉值!$A$2:$A$3, 0) - 1), 1)) -> 0000 | X99: =_xlfn.CONCAT(DEC2BIN(IF(ISBLANK(L99), 0, MATCH(L99, A寄存器选择!$D$2:$D$5, 0) - 1), 2), DEC2BIN(IF(ISBLANK(M99), 0, MATCH(M99, B寄存器选择!$D$2:$D$5, 0) - 1), 2)) -> 0010 | Y99: =_xlfn.CONCAT(DEC2BIN(IF(ISBLANK(N99), 0, MATCH(N99, 单列下拉值!$B$2:$B$3, 0) - 1)), DEC2BIN(IF(ISBLANK(O99), 0, MATCH(O99, 单列下拉值!$C$2:$C$3, 0) - 1)), DEC2BIN(IF(ISBLANK(P99), 0, MATCH(P99, ALU寄存器选择!$D$2:$D$5, 0) - 1), 2)) -> 0010 | Z99: =_xlfn.CONCAT(DEC2BIN(IF(ISBLANK(Q99),0,MATCH(Q99,单列下拉值!$D$2:$D$3,0)-1)), DEC2BIN(IF(ISBLANK(R99), 0, MATCH(R99, CP选择!$E$2:$E$9, 0) - 1), 3)) -> 0000 | AA99: =_xlfn.CONCAT(DEC2BIN(S99), DEC2BIN(IF(ISBLANK(T99), 0, MATCH(T99, 后继微地址形成!$E$2:$E$9, 0) - 1), 3)) -> 0001
C100: 0->A | D100: =DEC2HEX(ROW(D100)-3, 2) -> 61 | E100: =_xlfn.CONCAT(BIN2HEX(V100), BIN2HEX(W100), " ", BIN2HEX(X100), BIN2HEX(Y100), " ", BIN2HEX(Z100), BIN2HEX(AA100)) -> 00 01 01 | L100: A置0 | P100: 存入A寄存器 | T100: μPC加一 | V100: =_xlfn.CONCAT(DEC2BIN(F100), DEC2BIN(G100), DEC2BIN(H100), DEC2BIN(I100)) -> 0000 | W100: =_xlfn.CONCAT(DEC2BIN(IF(ISBLANK(J100), 0, MATCH(J100, 运算选择!$E$2:$E$9, 0) - 1), 3), DEC2BIN(IF(ISBLANK(K100), 0, MATCH(K100, 单列下拉值!$A$2:$A$3, 0) - 1), 1)) -> 0000 | X100: =_xlfn.CONCAT(DEC2BIN(IF(ISBLANK(L100), 0, MATCH(L100, A寄存器选择!$D$2:$D$5, 0) - 1), 2), DEC2BIN(IF(ISBLANK(M100), 0, MATCH(M100, B寄存器选择!$D$2:$D$5, 0) - 1), 2)) -> 0000 | Y100: =_xlfn.CONCAT(DEC2BIN(IF(ISBLANK(N100), 0, MATCH(N100, 单列下拉值!$B$2:$B$3, 0) - 1)), DEC2BIN(IF(ISBLANK(O100), 0, MATCH(O100, 单列下拉值!$C$2:$C$3, 0) - 1)), DEC2BIN(IF(ISBLANK(P100), 0, MATCH(P100, ALU寄存器选择!$D$2:$D$5, 0) - 1), 2)) -> 0001 | Z100: =_xlfn.CONCAT(DEC2BIN(IF(ISBLANK(Q100),0,MATCH(Q100,单列下拉值!$D$2:$D$3,0)-1)), DEC2BIN(IF(ISBLANK(R100), 0, MATCH(R100, CP选择!$E$2:$E$9, 0) - 1), 3)) -> 0000 | AA100: =_xlfn.CONCAT(DEC2BIN(S100), DEC2BIN(IF(ISBLANK(T100), 0, MATCH(T100, 后继微地址形成!$E$2:$E$9, 0) - 1), 3)) -> 0001
C101: ((0+B)>>1(CY>))->Z | D101: =DEC2HEX(ROW(D101)-3, 2) -> 62 | E101: =_xlfn.CONCAT(BIN2HEX(V101), BIN2HEX(W101), " ", BIN2HEX(X101), BIN2HEX(Y101), " ", BIN2HEX(Z101), BIN2HEX(AA101)) -> 0E 03 01 | J101: 右移带进位 | P101: 存入Z和PSW | T101: μPC加一 | V101: =_xlfn.CONCAT(DEC2BIN(F101), DEC2BIN(G101), DEC2BIN(H101), DEC2BIN(I101)) -> 0000 | W101: =_xlfn.CONCAT(DEC2BIN(IF(ISBLANK(J101), 0, MATCH(J101, 运算选择!$E$2:$E$9, 0) - 1), 3), DEC2BIN(IF(ISBLANK(K101), 0, MATCH(K101, 单列下拉值!$A$2:$A$3, 0) - 1), 1)) -> 1110 | X101: =_xlfn.CONCAT(DEC2BIN(IF(ISBLANK(L101), 0, MATCH(L101, A寄存器选择!$D$2:$D$5, 0) - 1), 2), DEC2BIN(IF(ISBLANK(M101), 0, MATCH(M101, B寄存器选择!$D$2:$D$5, 0) - 1), 2)) -> 0000 | Y101: =_xlfn.CONCAT(DEC2BIN(IF(ISBLANK(N101), 0, MATCH(N101, 单列下拉值!$B$2:$B$3, 0) - 1)), DEC2BIN(IF(ISBLANK(O101), 0, MATCH(O101, 单列下拉值!$C$2:$C$3, 0) - 1)), DEC2BIN(IF(ISBLANK(P101), 0, MATCH(P101, ALU寄存器选择!$D$2:$D$5, 0) - 1), 2)) -> 0011 | Z101: =_xlfn.CONCAT(DEC2BIN(IF(ISBLANK(Q101),0,MATCH(Q101,单列下拉值!$D$2:$D$3,0)-1)), DEC2BIN(IF(ISBLANK(R101), 0, MATCH(R101, CP选择!$E$2:$E$9, 0) - 1), 3)) -> 0000 | AA101: =_xlfn.CONCAT(DEC2BIN(S101), DEC2BIN(IF(ISBLANK(T101), 0, MATCH(T101, 后继微地址形成!$E$2:$E$9, 0) - 1), 3)) -> 0001
C102: Z->Rj | D102: =DEC2HEX(ROW(D102)-3, 2) -> 63 | E102: =_xlfn.CONCAT(BIN2HEX(V102), BIN2HEX(W102), " ", BIN2HEX(X102), BIN2HEX(Y102), " ", BIN2HEX(Z102), BIN2HEX(AA102)) -> 00 00 11 | R102: CP4Reg | T102: μPC加一 | V102: =_xlfn.CONCAT(DEC2BIN(F102), DEC2BIN(G102), DEC2BIN(H102), DEC2BIN(I102)) -> 0000 | W102: =_xlfn.CONCAT(DEC2BIN(IF(ISBLANK(J102), 0, MATCH(J102, 运算选择!$E$2:$E$9, 0) - 1), 3), DEC2BIN(IF(ISBLANK(K102), 0, MATCH(K102, 单列下拉值!$A$2:$A$3, 0) - 1), 1)) -> 0000 | X102: =_xlfn.CONCAT(DEC2BIN(IF(ISBLANK(L102), 0, MATCH(L102, A寄存器选择!$D$2:$D$5, 0) - 1), 2), DEC2BIN(IF(ISBLANK(M102), 0, MATCH(M102, B寄存器选择!$D$2:$D$5, 0) - 1), 2)) -> 0000 | Y102: =_xlfn.CONCAT(DEC2BIN(IF(ISBLANK(N102), 0, MATCH(N102, 单列下拉值!$B$2:$B$3, 0) - 1)), DEC2BIN(IF(ISBLANK(O102), 0, MATCH(O102, 单列下拉值!$C$2:$C$3, 0) - 1)), DEC2BIN(IF(ISBLANK(P102), 0, MATCH(P102, ALU寄存器选择!$D$2:$D$5, 0) - 1), 2)) -> 0000 | Z102: =_xlfn.CONCAT(DEC2BIN(IF(ISBLANK(Q102),0,MATCH(Q102,单列下拉值!$D$2:$D$3,0)-1)), DEC2BIN(IF(ISBLANK(R102), 0, MATCH(R102, CP选择!$E$2:$E$9, 0) - 1), 3)) -> 0001 | AA102: =_xlfn.CONCAT(DEC2BIN(S102), DEC2BIN(IF(ISBLANK(T102), 0, MATCH(T102, 后继微地址形成!$E$2:$E$9, 0) - 1), 3)) -> 0001
...

Sheet 指令列表
A1: 指令 | B1: 参数1 | C1: 参数2 | D1: 指令码 | E1: 描述
A2: STA * Rj, AD | B2: R0 | C2: 01 | D2: =_xlfn.CONCAT("1", DEC2HEX(IF(ISBLANK(B2), 0, MATCH(B2, 单列下拉值!$H$1:$H$4, 0) - 1))) -> 10 | E2: 将内存中AD位置的数存至寄存器Rj
D3: =C2 -> 01
A4: LD * Rj, AD | B4: R1 | C4: 1E | D4: =_xlfn.CONCAT("2", DEC2HEX(IF(ISBLANK(B4), 0, MATCH(B4, 单列下拉值!$H$1:$H$4, 0) - 1))) -> 21 | E4: 将寄存器Rj的数存至内存AD位置
D5: =C4 -> 1E
A6: ADD Ri, Rj | B6: R1 | C6: R2 | D6: =_xlfn.CONCAT("3", DEC2HEX(IF(ISBLANK(B6), 0, MATCH(B6, 单列下拉值!$H$1:$H$4, 0) - 1) * 4 + IF(ISBLANK(C6), 0, MATCH(C6, 单列下拉值!$H$1:$H$4, 0) - 1))) -> 36 | E6: 将Ri、Rj做有符号加法，结果存入Rj
A7: HALT | B7: 无 | C7: 无 | D7: 40 | E7: 停机
A8: JX PSW, AD | B8: C进位 | C8: 01 | D8: =_xlfn.CONCAT("5", DEC2HEX(IF(ISBLANK(B8), 0, MATCH(B8, 单列下拉值!$I$1:$I$4, 0) - 1))) -> 50 | E8: 当选定PSW值为1时，跳转至PC+AD，否则维持PC
D9: =C8 -> 01
A10: SHRC * Rj | B10: R1 | C10: 无 | D10: =_xlfn.CONCAT("6", DEC2HEX(IF(ISBLANK(B10), 0, MATCH(B10, 单列下拉值!$H$1:$H$4, 0) - 1))) -> 61 | E10: 右移Rj，将进位作为左串入
A11: SHR * Rj | B11: R2 | C11: 无 | D11: =_xlfn.CONCAT("7", DEC2HEX(IF(ISBLANK(B11), 0, MATCH(B11, 单列下拉值!$H$1:$H$4, 0) - 1))) -> 72 | E11: 右移Rj，左串入为0
A12: JP AD | B12: A3 | C12: 无 | D12: 80 | E12: 无条件转移至AD
D13: =B12 -> A3
A14: SHL * Rj | B14: R1 | C14: 无 | D14: =_xlfn.CONCAT("9", DEC2HEX(IF(ISBLANK(B14), 0, MATCH(B14, 单列下拉值!$H$1:$H$4, 0) - 1))) -> 91 | E14: 左移Rj，右串入为0
A15: AND * Rj, #Num | B15: R2 | C15: 01 | D15: =_xlfn.CONCAT("A", DEC2HEX(IF(ISBLANK(B15), 0, MATCH(B15, 单列下拉值!$H$1:$H$4, 0) - 1))) -> A2 | E15: 将Rj的值与Num做与运算，存PSW但不存数，
D16: =C15 -> 01
A17: LD * Rj, #Num | B17: R2 | C17: 01 | D17: =_xlfn.CONCAT("B", DEC2HEX(IF(ISBLANK(B17), 0, MATCH(B17, 单列下拉值!$H$1:$H$4, 0) - 1))) -> B2 | E17: 将Num写入寄存器Rj
D18: =C17 -> 01
A19: ADD * Rj, #Num | B19: R2 | C19: 01 | D19: =_xlfn.CONCAT("C", DEC2HEX(IF(ISBLANK(B19), 0, MATCH(B19, 单列下拉值!$H$1:$H$4, 0) - 1))) -> C2 | E19: 将Rj、Num做有符号加法，结果存入Rj
D20: =C19 -> 01

Sheet 所有程序
A1: 指令 | B1: 参数1 | C1: 参数2 | D1: 指令码 | E1: 内存地址 | G1: 数1地址 | H1: 数2地址 | I1: 结果地址 | M1: 指令 | N1: 参数1 | O1: 参数2 | P1: 指令码 | Q1: 内存地址 | S1: 指令 | T1: 参数1 | U1: 参数2 | V1: 指令码 | W1: 内存地址
A2: LD * Rj, AD | B2: R0 | C2: =$G$2 -> 1D | D2: =_xlfn.CONCAT("2", DEC2HEX(IF(ISBLANK(B2), 0, MATCH(B2, 单列下拉值!$H$1:$H$4, 0) - 1))) -> 20 | E2: =DEC2HEX(ROW(E2)-2, 2) -> 00 | G2: 1D | H2: 1E | I2: 20 | J2: 21 | M2: LD * Rj, AD | N2: R0 | O2: =$G$2 -> 1D | P2: =_xlfn.CONCAT("2", DEC2HEX(IF(ISBLANK(N2), 0, MATCH(N2, 单列下拉值!$H$1:$H$4, 0) - 1))) -> 20 | Q2: =DEC2HEX(ROW(Q2)-2, 2) -> 00 | S2: LD * Rj, AD | T2: R0 | U2: =$G$2 -> 1D | V2: =_xlfn.CONCAT("2", DEC2HEX(IF(ISBLANK(T2), 0, MATCH(T2, 单列下拉值!$H$1:$H$4, 0) - 1))) -> 20 | W2: =DEC2HEX(ROW(W2)-2, 2) -> 00
D3: =C2 -> 1D | E3: =DEC2HEX(ROW(E3)-2, 2) -> 01 | P3: =O2 -> 1D | Q3: =DEC2HEX(ROW(Q3)-2, 2) -> 01 | V3: =U2 -> 1D | W3: =DEC2HEX(ROW(W3)-2, 2) -> 01
A4: LD * Rj, AD | B4: R1 | C4: =$H$2 -> 1E | D4: =_xlfn.CONCAT("2", DEC2HEX(IF(ISBLANK(B4), 0, MATCH(B4, 单列下拉值!$H$1:$H$4, 0) - 1))) -> 21 | E4: =DEC2HEX(ROW(E4)-2, 2) -> 02 | M4: LD * Rj, AD | N4: R1 | O4: =$H$2 -> 1E | P4: =_xlfn.CONCAT("2", DEC2HEX(IF(ISBLANK(N4), 0, MATCH(N4, 单列下拉值!$H$1:$H$4, 0) - 1))) -> 21 | Q4: =DEC2HEX(ROW(Q4)-2, 2) -> 02 | S4: LD * Rj, AD | T4: R1 | U4: =$H$2 -> 1E | V4: =_xlfn.CONCAT("2", DEC2HEX(IF(ISBLANK(T4), 0, MATCH(T4, 单列下拉值!$H$1:$H$4, 0) - 1))) -> 21 | W4: =DEC2HEX(ROW(W4)-2, 2) -> 02
D5: =C4 -> 1E | E5: =DEC2HEX(ROW(E5)-2, 2) -> 03 | P5: =O4 -> 1E | Q5: =DEC2HEX(ROW(Q5)-2, 2) -> 03 | V5: =U4 -> 1E | W5: =DEC2HEX(ROW(W5)-2, 2) -> 03
A6: LD * Rj, #Num | B6: R3 | C6: 08 | D6: =_xlfn.CONCAT("B", DEC2HEX(IF(ISBLANK(B6), 0, MATCH(B6, 单列下拉值!$H$1:$H$4, 0) - 1))) -> B3 | E6: =DEC2HEX(ROW(E6)-2, 2) -> 04 | M6: ADD Ri, Rj | N6: R0 | O6: R1 | P6: =_xlfn.CONCAT("3", DEC2HEX(IF(ISBLANK(N6), 0, MATCH(N6, 单列下拉值!$H$1:$H$4, 0) - 1) * 4 + IF(ISBLANK(O6), 0, MATCH(O6, 单列下拉值!$H$1:$H$4, 0) - 1))) -> 31 | Q6: =DEC2HEX(ROW(Q6)-2, 2) -> 04 | S6: ADD Ri, Rj | T6: R0 | U6: R1 | V6: =_xlfn.CONCAT("3", DEC2HEX(IF(ISBLANK(T6), 0, MATCH(T6, 单列下拉值!$H$1:$H$4, 0) - 1) * 4 + IF(ISBLANK(U6), 0, MATCH(U6, 单列下拉值!$H$1:$H$4, 0) - 1))) -> 31 | W6: =DEC2HEX(ROW(W6)-2, 2) -> 04
D7: =C6 -> 08 | E7: =DEC2HEX(ROW(E7)-2, 2) -> 05 | M7: STA * Rj, AD | N7: R1 | O7: =$I$2 -> 20 | P7: =_xlfn.CONCAT("1", DEC2HEX(IF(ISBLANK(N7), 0, MATCH(N7, 单列下拉值!$H$1:$H$4, 0) - 1))) -> 11 | Q7: =DEC2HEX(ROW(Q7)-2, 2) -> 05 | S7: JX PSW, AD | T7: V溢出 | U7: 03 | V7: =_xlfn.CONCAT("5", DEC2HEX(IF(ISBLANK(T7), 0, MATCH(T7, 单列下拉值!$I$1:$I$4, 0) - 1))) -> 51 | W7: =DEC2HEX(ROW(W7)-2, 2) -> 05
A8: AND * Rj, #Num | B8: R1 | C8: 01 | D8: =_xlfn.CONCAT("A", DEC2HEX(IF(ISBLANK(B8), 0, MATCH(B8, 单列下拉值!$H$1:$H$4, 0) - 1))) -> A1 | E8: =DEC2HEX(ROW(E8)-2, 2) -> 06 | P8: =O7 -> 20 | Q8: =DEC2HEX(ROW(Q8)-2, 2) -> 06 | V8: =U7 -> 03 | W8: =DEC2HEX(ROW(W8)-2, 2) -> 06
D9: =C8 -> 01 | E9: =DEC2HEX(ROW(E9)-2, 2) -> 07 | M9: HALT | N9: 无 | O9: 无 | P9: 40 | Q9: =DEC2HEX(ROW(Q9)-2, 2) -> 07 | S9: STA * Rj, AD | T9: R1 | U9: =$I$2 -> 20 | V9: =_xlfn.CONCAT("1", DEC2HEX(IF(ISBLANK(T9), 0, MATCH(T9, 单列下拉值!$H$1:$H$4, 0) - 1))) -> 11 | W9: =DEC2HEX(ROW(W9)-2, 2) -> 07
A10: JX PSW, AD | B10: Z零值 | C10: 01 | D10: =_xlfn.CONCAT("5", DEC2HEX(IF(ISBLANK(B10), 0, MATCH(B10, 单列下拉值!$I$1:$I$4, 0) - 1))) -> 53 | E10: =DEC2HEX(ROW(E10)-2, 2) -> 08 | V10: =U9 -> 20 | W10: =DEC2HEX(ROW(W10)-2, 2) -> 08
D11: =C10 -> 01 | E11: =DEC2HEX(ROW(E11)-2, 2) -> 09 | S11: HALT | T11: 无 | U11: 无 | V11: 40 | W11: =DEC2HEX(ROW(W11)-2, 2) -> 09
A12: ADD Ri, Rj | B12: R0 | C12: R2 | D12: =_xlfn.CONCAT("3", DEC2HEX(IF(ISBLANK(B12), 0, MATCH(B12, 单列下拉值!$H$1:$H$4, 0) - 1) * 4 + IF(ISBLANK(C12), 0, MATCH(C12, 单列下拉值!$H$1:$H$4, 0) - 1))) -> 32 | E12: =DEC2HEX(ROW(E12)-2, 2) -> 0A | S12: LD * Rj, #Num | T12: R2 | U12: FF | V12: =_xlfn.CONCAT("B", DEC2HEX(IF(ISBLANK(T12), 0, MATCH(T12, 单列下拉值!$H$1:$H$4, 0) - 1))) -> B2 | W12: =DEC2HEX(ROW(W12)-2, 2) -> 0A
A13: SHR * Rj | B13: R2 | C13: 无 | D13: =_xlfn.CONCAT("7", DEC2HEX(IF(ISBLANK(B13), 0, MATCH(B13, 单列下拉值!$H$1:$H$4, 0) - 1))) -> 72 | E13: =DEC2HEX(ROW(E13)-2, 2) -> 0B | V13: =U12 -> FF | W13: =DEC2HEX(ROW(W13)-2, 2) -> 0B
A14: SHRC * Rj | B14: R1 | C14: 无 | D14: =_xlfn.CONCAT("6", DEC2HEX(IF(ISBLANK(B14), 0, MATCH(B14, 单列下拉值!$H$1:$H$4, 0) - 1))) -> 61 | E14: =DEC2HEX(ROW(E14)-2, 2) -> 0C | S14: STA * Rj, AD | T14: R2 | U14: A4 | V14: =_xlfn.CONCAT("1", DEC2HEX(IF(ISBLANK(T14), 0, MATCH(T14, 单列下拉值!$H$1:$H$4, 0) - 1))) -> 12 | W14: =DEC2HEX(ROW(W14)-2, 2) -> 0C
A15: ADD * Rj, #Num | B15: R3 | C15: FF | D15: =_xlfn.CONCAT("C", DEC2HEX(IF(ISBLANK(B15), 0, MATCH(B15, 单列下拉值!$H$1:$H$4, 0) - 1))) -> C3 | E15: =DEC2HEX(ROW(E15)-2, 2) -> 0D | V15: =U14 -> A4 | W15: =DEC2HEX(ROW(W15)-2, 2) -> 0D
D16: =C15 -> FF | E16: =DEC2HEX(ROW(E16)-2, 2) -> 0E | S16: HALT | T16: 无 | U16: 无 | V16: 40 | W16: =DEC2HEX(ROW(W16)-2, 2) -> 0E
A17: JX PSW, AD | B17: Z零值 | C17: 02 | D17: =_xlfn.CONCAT("5", DEC2HEX(IF(ISBLANK(B17), 0, MATCH(B17, 单列下拉值!$I$1:$I$4, 0) - 1))) -> 53 | E17: =DEC2HEX(ROW(E17)-2, 2) -> 0F
D18: =C17 -> 02 | E18: =DEC2HEX(ROW(E18)-2, 2) -> 10
A19: JP AD | B19: 06 | C19: 无 | D19: 80 | E19: =DEC2HEX(ROW(E19)-2, 2) -> 11
D20: =B19 -> 06 | E20: =DEC2HEX(ROW(E20)-2, 2) -> 12
A21: STA * Rj, AD | B21: R2 | C21: =$I$2 -> 20 | D21: =_xlfn.CONCAT("1", DEC2HEX(IF(ISBLANK(B21), 0, MATCH(B21, 单列下拉值!$H$1:$H$4, 0) - 1))) -> 12 | E21: =DEC2HEX(ROW(E21)-2, 2) -> 13
D22: =C21 -> 20 | E22: =DEC2HEX(ROW(E22)-2, 2) -> 14
A23: STA * Rj, AD | B23: R1 | C23: =$J$2 -> 21 | D23: =_xlfn.CONCAT("1", DEC2HEX(IF(ISBLANK(B23), 0, MATCH(B23, 单列下拉值!$H$1:$H$4, 0) - 1))) -> 11 | E23: =DEC2HEX(ROW(E23)-2, 2) -> 15
D24: =C23 -> 21 | E24: =DEC2HEX(ROW(E24)-2, 2) -> 16
A25: HALT | B25: 无 | C25: 无 | D25: 40 | E25: =DEC2HEX(ROW(E25)-2, 2) -> 17

Sheet ALU寄存器选择
A1: μIR9 | B1: μIR8 | C1: 引脚 | D1: 描述
A2: 0 | B2: 0 | C2: Y0 | D2: 什么都不存
A3: 0 | B3: 1 | C3: Y1 | D3: 存入A寄存器
A4: 1 | B4: 0 | C4: Y2 | D4: 存入B寄存器
A5: 1 | B5: 1 | C5: Y3 | D5: 存入Z和PSW
A12: 返回主表

Sheet 运算选择
A1: μIR19 | B1: μIR18 | C1: μIR17 | D1: 引脚 | E1: 描述 | F1: shifter
A2: 0 | B2: 0 | C2: 0 | D2: Y0 | E2: 什么都不做
A3: 0 | B3: 0 | C3: 1 | D3: Y1 | E3: 加法 | F3: 直传
A4: 0 | B4: 1 | C4: 0 | D4: Y2 | E4: 无符号加
A5: 0 | B5: 1 | C5: 1 | D5: Y3 | E5: 逻辑与
A6: 1 | B6: 0 | C6: 0 | D6: Y4 | E6: 左移一位 | F6: 左移
A7: 1 | B7: 0 | C7: 1 | D7: Y5 | E7: 左移带进位
A8: 1 | B8: 1 | C8: 0 | D8: Y6 | E8: 右移一位 | F8: 右移
A9: 1 | B9: 1 | C9: 1 | D9: Y7 | E9: 右移带进位
A12: 返回主表

Sheet CP选择
A1: μIR6 | B1: μIR5 | C1: μIR4 | D1: 引脚 | E1: 描述
A2: 0 | B2: 0 | C2: 0 | D2: Y0 | E2: 无CP
A3: 0 | B3: 0 | C3: 1 | D3: Y1 | E3: CP4Reg
A4: 0 | B4: 1 | C4: 0 | D4: Y2 | E4: CPPC
A5: 0 | B5: 1 | C5: 1 | D5: Y3 | E5: CPIR
A6: 1 | B6: 0 | C6: 0 | D6: Y4 | E6: CPMAR
A7: 1 | B7: 0 | C7: 1 | D7: Y5 | E7: CPMDR
A8: 1 | B8: 1 | C8: 0 | D8: Y6 | E8: 备用
A9: 1 | B9: 1 | C9: 1 | D9: Y7 | E9: 备用
A12: 返回主表

Sheet 后继微地址形成
A1: μIR2 | B1: μIR1 | C1: μIR0 | D1: 引脚 | E1: 描述 | F1: 备注
A2: 0 | B2: 0 | C2: 0 | D2: Y0 | E2: 备用
A3: 0 | B3: 0 | C3: 1 | D3: Y1 | E3: μPC加一
A4: 0 | B4: 1 | C4: 0 | D4: Y2 | E4: 无条件跳转至00H
A5: 0 | B5: 1 | C5: 1 | D5: Y3 | E5: 无条件跳转至IR7-4 | F5: 高四位IR7-IR4，低四位为0
A6: 1 | B6: 0 | C6: 0 | D6: Y4 | E6: 程序状态字条件跳转
A7: 1 | B7: 0 | C7: 1 | D7: Y5 | E7: 停机
A8: 1 | B8: 1 | C8: 0 | D8: Y6 | E8: 发生什么事了？
A9: 1 | B9: 1 | C9: 1 | D9: Y7 | E9: 发生什么事了？
E10: 変身
E11: 发生什么事了？
A12: 返回主表 | E12: 发生什么事了？
E13: 释放自我
E14: 哼啊啊啊啊啊——
E15: 走→我→的↗路，假↓面↑骑↑士↓
E16: 贞→贞→贞→贞↗德↘↗

Sheet A寄存器选择
A1: μIR15 | B1: μIR14 | C1: 引脚 | D1: 描述
A2: 0 | B2: 0 | C2: Y0 | D2: A置0
A3: 0 | B3: 1 | C3: Y1 | D3: A选MDR
A4: 1 | B4: 0 | C4: Y2 | D4: A选通用寄存器
A5: 1 | B5: 1 | C5: Y3 | D5: 无效
A12: 返回主表

Sheet B寄存器选择
A1: μIR13 | B1: μIR12 | C1: 引脚 | D1: 描述 | E1: 备注
A2: 0 | B2: 0 | C2: Y0 | D2: B置0
A3: 0 | B3: 1 | C3: Y1 | D3: B选PC
A4: 1 | B4: 0 | C4: Y2 | D4: B选通用寄存器
A5: 1 | B5: 1 | C5: Y3 | D5: 无效
A12: 返回主表

Sheet 单列下拉值
A1: MDR_MEM/BUS | B1: \WR | C1: \RD | D1: PC+1 | H1: R0 | I1: C进位
A2: 内存→MDR | B2: 不写 | C2: 不读 | D2: 总线(Z)->PC | H2: R1 | I2: V溢出
A3: 总线(Z)→MDR&MDR→内存 | B3: 写 | C3: 读 | D3: 加一 | H3: R2 | I3: N负数
H4: R3 | I4: Z零值
