Workbook

Sheet microprogram
C1: 是公式！不要改！ | E1: (≧▽≦*) | I1: 运算选择 | J1: MDR_MEM/BUS | K1: A寄存器选择 | L1: B寄存器选择 | M1: \WR | N1: \RD | O1: ALU寄存器选择（CP） | P1: PC+1 | Q1: CP选择 | R1: (≧▽≦*) | S1: 后继微地址形成 | U1: 是公式！不要改！O(>﹏<)o
A2: 指令块 | B2: 微指令文字描述 | C2: 地址 | D2: 控存内容 | E2: 23 | F2: 22 | G2: 21 | H2: 20 | I2: 19 | 18 | 17 | J2: 16 | K2: 15 | 14 | L2: 13 | 12 | M2: 11 | N2: 10 | O2: 9 | 8 | P2: 7 | Q2: 6 | 5 | 4 | R2: 3 | S2: 2 | 1 | 0 | U2: 23 | 22 | 21 | 30 | V2: 19 | 18 | 17 | 16 | W2: 15 | 14 | 13 | 12 | X2: 11 | 10 | 9 | 8 | Y2: 7 | 6 | 5 | 4 | Z2: 3 | 2 | 1 | 0
A3: 取指令 | B3: PC->B | C3: =DEC2HEX(ROW(C3)-3, 2) -> 00 | D3: =_xlfn.CONCAT(BIN2HEX(U3), BIN2HEX(V3), " ", BIN2HEX(W3), BIN2HEX(X3), " ", BIN2HEX(Y3), BIN2HEX(Z3)) -> 00 12 01 | L3: B选PC | O3: 存入B寄存器 | S3: μPC加一 | U3: =_xlfn.CONCAT(DEC2BIN(E3), DEC2BIN(F3), DEC2BIN(G3), DEC2BIN(H3)) -> 0000 | V3: =_xlfn.CONCAT(DEC2BIN(IF(ISBLANK(I3), 0, MATCH(I3, 运算选择!$E$2:$E$9, 0) - 1), 3), DEC2BIN(IF(ISBLANK(J3), 0, MATCH(J3, 单列下拉值!$A$2:$A$3, 0) - 1), 1)) -> 0000 | W3: =_xlfn.CONCAT(DEC2BIN(IF(ISBLANK(K3), 0, MATCH(K3, A寄存器选择!$D$2:$D$5, 0) - 1), 2), DEC2BIN(IF(ISBLANK(L3), 0, MATCH(L3, B寄存器选择!$D$2:$D$5, 0) - 1), 2)) -> 0001 | X3: =_xlfn.CONCAT(DEC2BIN(IF(ISBLANK(M3), 0, MATCH(M3, 单列下拉值!$B$2:$B$3, 0) - 1)), DEC2BIN(IF(ISBLANK(N3), 0, MATCH(N3, 单列下拉值!$C$2:$C$3, 0) - 1)), DEC2BIN(IF(ISBLANK(O3), 0, MATCH(O3, ALU寄存器选择!$D$2:$D$5, 0) - 1), 2)) -> 0010 | Y3: =_xlfn.CONCAT(DEC2BIN(IF(ISBLANK(P3),0,MATCH(P3,单列下拉值!$D$2:$D$3,0)-1)), DEC2BIN(IF(ISBLANK(Q3), 0, MATCH(Q3, CP选择!$E$2:$E$9, 0) - 1), 3)) -> 0000 | Z3: =_xlfn.CONCAT(DEC2BIN(R3), DEC2BIN(IF(ISBLANK(S3), 0, MATCH(S3, 后继微地址形成!$E$2:$E$9, 0) - 1), 3)) -> 0001
B4: 0->A | C4: =DEC2HEX(ROW(C4)-3, 2) -> 01 | D4: =_xlfn.CONCAT(BIN2HEX(U4), BIN2HEX(V4), " ", BIN2HEX(W4), BIN2HEX(X4), " ", BIN2HEX(Y4), BIN2HEX(Z4)) -> 00 01 A1 | K4: A置0 | O4: 存入A寄存器 | P4: 加一 | Q4: CPPC | S4: μPC加一 | U4: =_xlfn.CONCAT(DEC2BIN(E4), DEC2BIN(F4), DEC2BIN(G4), DEC2BIN(H4)) -> 0000 | V4: =_xlfn.CONCAT(DEC2BIN(IF(ISBLANK(I4), 0, MATCH(I4, 运算选择!$E$2:$E$9, 0) - 1), 3), DEC2BIN(IF(ISBLANK(J4), 0, MATCH(J4, 单列下拉值!$A$2:$A$3, 0) - 1), 1)) -> 0000 | W4: =_xlfn.CONCAT(DEC2BIN(IF(ISBLANK(K4), 0, MATCH(K4, A寄存器选择!$D$2:$D$5, 0) - 1), 2), DEC2BIN(IF(ISBLANK(L4), 0, MATCH(L4, B寄存器选择!$D$2:$D$5, 0) - 1), 2)) -> 0000 | X4: =_xlfn.CONCAT(DEC2BIN(IF(ISBLANK(M4), 0, MATCH(M4, 单列下拉值!$B$2:$B$3, 0) - 1)), DEC2BIN(IF(ISBLANK(N4), 0, MATCH(N4, 单列下拉值!$C$2:$C$3, 0) - 1)), DEC2BIN(IF(ISBLANK(O4), 0, MATCH(O4, ALU寄存器选择!$D$2:$D$5, 0) - 1), 2)) -> 0001 | Y4: =_xlfn.CONCAT(DEC2BIN(IF(ISBLANK(P4),0,MATCH(P4,单列下拉值!$D$2:$D$3,0)-1)), DEC2BIN(IF(ISBLANK(Q4), 0, MATCH(Q4, CP选择!$E$2:$E$9, 0) - 1), 3)) -> 1010 | Z4: =_xlfn.CONCAT(DEC2BIN(R4), DEC2BIN(IF(ISBLANK(S4), 0, MATCH(S4, 后继微地址形成!$E$2:$E$9, 0) - 1), 3)) -> 0001
B5: PLUS | C5: =DEC2HEX(ROW(C5)-3, 2) -> 02 | D5: =_xlfn.CONCAT(BIN2HEX(U5), BIN2HEX(V5), " ", BIN2HEX(W5), BIN2HEX(X5), " ", BIN2HEX(Y5), BIN2HEX(Z5)) -> 04 03 01 | I5: 无符号加 | O5: 存入Z和PSW | S5: μPC加一 | U5: =_xlfn.CONCAT(DEC2BIN(E5), DEC2BIN(F5), DEC2BIN(G5), DEC2BIN(H5)) -> 0000 | V5: =_xlfn.CONCAT(DEC2BIN(IF(ISBLANK(I5), 0, MATCH(I5, 运算选择!$E$2:$E$9, 0) - 1), 3), DEC2BIN(IF(ISBLANK(J5), 0, MATCH(J5, 单列下拉值!$A$2:$A$3, 0) - 1), 1)) -> 0100 | W5: =_xlfn.CONCAT(DEC2BIN(IF(ISBLANK(K5), 0, MATCH(K5, A寄存器选择!$D$2:$D$5, 0) - 1), 2), DEC2BIN(IF(ISBLANK(L5), 0, MATCH(L5, B寄存器选择!$D$2:$D$5, 0) - 1), 2)) -> 0000 | X5: =_xlfn.CONCAT(DEC2BIN(IF(ISBLANK(M5), 0, MATCH(M5, 单列下拉值!$B$2:$B$3, 0) - 1)), DEC2BIN(IF(ISBLANK(N5), 0, MATCH(N5, 单列下拉值!$C$2:$C$3, 0) - 1)), DEC2BIN(IF(ISBLANK(O5), 0, MATCH(O5, ALU寄存器选择!$D$2:$D$5, 0) - 1), 2)) -> 0011 | Y5: =_xlfn.CONCAT(DEC2BIN(IF(ISBLANK(P5),0,MATCH(P5,单列下拉值!$D$2:$D$3,0)-1)), DEC2BIN(IF(ISBLANK(Q5), 0, MATCH(Q5, CP选择!$E$2:$E$9, 0) - 1), 3)) -> 0000 | Z5: =_xlfn.CONCAT(DEC2BIN(R5), DEC2BIN(IF(ISBLANK(S5), 0, MATCH(S5, 后继微地址形成!$E$2:$E$9, 0) - 1), 3)) -> 0001
B6: Z->MAR | C6: =DEC2HEX(ROW(C6)-3, 2) -> 03 | D6: =_xlfn.CONCAT(BIN2HEX(U6), BIN2HEX(V6), " ", BIN2HEX(W6), BIN2HEX(X6), " ", BIN2HEX(Y6), BIN2HEX(Z6)) -> 00 00 41 | Q6: CPMAR | S6: μPC加一 | U6: =_xlfn.CONCAT(DEC2BIN(E6), DEC2BIN(F6), DEC2BIN(G6), DEC2BIN(H6)) -> 0000 | V6: =_xlfn.CONCAT(DEC2BIN(IF(ISBLANK(I6), 0, MATCH(I6, 运算选择!$E$2:$E$9, 0) - 1), 3), DEC2BIN(IF(ISBLANK(J6), 0, MATCH(J6, 单列下拉值!$A$2:$A$3, 0) - 1), 1)) -> 0000 | W6: =_xlfn.CONCAT(DEC2BIN(IF(ISBLANK(K6), 0, MATCH(K6, A寄存器选择!$D$2:$D$5, 0) - 1), 2), DEC2BIN(IF(ISBLANK(L6), 0, MATCH(L6, B寄存器选择!$D$2:$D$5, 0) - 1), 2)) -> 0000 | X6: =_xlfn.CONCAT(DEC2BIN(IF(ISBLANK(M6), 0, MATCH(M6, 单列下拉值!$B$2:$B$3, 0) - 1)), DEC2BIN(IF(ISBLANK(N6), 0, MATCH(N6, 单列下拉值!$C$2:$C$3, 0) - 1)), DEC2BIN(IF(ISBLANK(O6), 0, MATCH(O6, ALU寄存器选择!$D$2:$D$5, 0) - 1), 2)) -> 0000 | Y6: =_xlfn.CONCAT(DEC2BIN(IF(ISBLANK(P6),0,MATCH(P6,单列下拉值!$D$2:$D$3,0)-1)), DEC2BIN(IF(ISBLANK(Q6), 0, MATCH(Q6, CP选择!$E$2:$E$9, 0) - 1), 3)) -> 0100 | Z6: =_xlfn.CONCAT(DEC2BIN(R6), DEC2BIN(IF(ISBLANK(S6), 0, MATCH(S6, 后继微地址形成!$E$2:$E$9, 0) - 1), 3)) -> 0001
B7: 1->R, MEM->MDR | C7: =DEC2HEX(ROW(C7)-3, 2) -> 04 | D7: =_xlfn.CONCAT(BIN2HEX(U7), BIN2HEX(V7), " ", BIN2HEX(W7), BIN2HEX(X7), " ", BIN2HEX(Y7), BIN2HEX(Z7)) -> 00 04 51 | J7: 内存→MDR | N7: 读 | Q7: CPMDR | S7: μPC加一 | U7: =_xlfn.CONCAT(DEC2BIN(E7), DEC2BIN(F7), DEC2BIN(G7), DEC2BIN(H7)) -> 0000 | V7: =_xlfn.CONCAT(DEC2BIN(IF(ISBLANK(I7), 0, MATCH(I7, 运算选择!$E$2:$E$9, 0) - 1), 3), DEC2BIN(IF(ISBLANK(J7), 0, MATCH(J7, 单列下拉值!$A$2:$A$3, 0) - 1), 1)) -> 0000 | W7: =_xlfn.CONCAT(DEC2BIN(IF(ISBLANK(K7), 0, MATCH(K7, A寄存器选择!$D$2:$D$5, 0) - 1), 2), DEC2BIN(IF(ISBLANK(L7), 0, MATCH(L7, B寄存器选择!$D$2:$D$5, 0) - 1), 2)) -> 0000 | X7: =_xlfn.CONCAT(DEC2BIN(IF(ISBLANK(M7), 0, MATCH(M7, 单列下拉值!$B$2:$B$3, 0) - 1)), DEC2BIN(IF(ISBLANK(N7), 0, MATCH(N7, 单列下拉值!$C$2:$C$3, 0) - 1)), DEC2BIN(IF(ISBLANK(O7), 0, MATCH(O7, ALU寄存器选择!$D$2:$D$5, 0) - 1), 2)) -> 0100 | Y7: =_xlfn.CONCAT(DEC2BIN(IF(ISBLANK(P7),0,MATCH(P7,单列下拉值!$D$2:$D$3,0)-1)), DEC2BIN(IF(ISBLANK(Q7), 0, MATCH(Q7, CP选择!$E$2:$E$9, 0) - 1), 3)) -> 0101 | Z7: =_xlfn.CONCAT(DEC2BIN(R7), DEC2BIN(IF(ISBLANK(S7), 0, MATCH(S7, 后继微地址形成!$E$2:$E$9, 0) - 1), 3)) -> 0001
B8: MDR->A | C8: =DEC2HEX(ROW(C8)-3, 2) -> 05 | D8: =_xlfn.CONCAT(BIN2HEX(U8), BIN2HEX(V8), " ", BIN2HEX(W8), BIN2HEX(X8), " ", BIN2HEX(Y8), BIN2HEX(Z8)) -> 00 41 01 | K8: A选MDR | O8: 存入A寄存器 | S8: μPC加一 | U8: =_xlfn.CONCAT(DEC2BIN(E8), DEC2BIN(F8), DEC2BIN(G8), DEC2BIN(H8)) -> 0000 | V8: =_xlfn.CONCAT(DEC2BIN(IF(ISBLANK(I8), 0, MATCH(I8, 运算选择!$E$2:$E$9, 0) - 1), 3), DEC2BIN(IF(ISBLANK(J8), 0, MATCH(J8, 单列下拉值!$A$2:$A$3, 0) - 1), 1)) -> 0000 | W8: =_xlfn.CONCAT(DEC2BIN(IF(ISBLANK(K8), 0, MATCH(K8, A寄存器选择!$D$2:$D$5, 0) - 1), 2), DEC2BIN(IF(ISBLANK(L8), 0, MATCH(L8, B寄存器选择!$D$2:$D$5, 0) - 1), 2)) -> 0100 | X8: =_xlfn.CONCAT(DEC2BIN(IF(ISBLANK(M8), 0, MATCH(M8, 单列下拉值!$B$2:$B$3, 0) - 1)), DEC2BIN(IF(ISBLANK(N8), 0, MATCH(N8, 单列下拉值!$C$2:$C$3, 0) - 1)), DEC2BIN(IF(ISBLANK(O8), 0, MATCH(O8, ALU寄存器选择!$D$2:$D$5, 0) - 1), 2)) -> 0001 | Y8: =_xlfn.CONCAT(DEC2BIN(IF(ISBLANK(P8),0,MATCH(P8,单列下拉值!$D$2:$D$3,0)-1)), DEC2BIN(IF(ISBLANK(Q8), 0, MATCH(Q8, CP选择!$E$2:$E$9, 0) - 1), 3)) -> 0000 | Z8: =_xlfn.CONCAT(DEC2BIN(R8), DEC2BIN(IF(ISBLANK(S8), 0, MATCH(S8, 后继微地址形成!$E$2:$E$9, 0) - 1), 3)) -> 0001
B9: 0->B | C9: =DEC2HEX(ROW(C9)-3, 2) -> 06 | D9: =_xlfn.CONCAT(BIN2HEX(U9), BIN2HEX(V9), " ", BIN2HEX(W9), BIN2HEX(X9), " ", BIN2HEX(Y9), BIN2HEX(Z9)) -> 00 02 01 | L9: B置0 | O9: 存入B寄存器 | S9: μPC加一 | U9: =_xlfn.CONCAT(DEC2BIN(E9), DEC2BIN(F9), DEC2BIN(G9), DEC2BIN(H9)) -> 0000 | V9: =_xlfn.CONCAT(DEC2BIN(IF(ISBLANK(I9), 0, MATCH(I9, 运算选择!$E$2:$E$9, 0) - 1), 3), DEC2BIN(IF(ISBLANK(J9), 0, MATCH(J9, 单列下拉值!$A$2:$A$3, 0) - 1), 1)) -> 0000 | W9: =_xlfn.CONCAT(DEC2BIN(IF(ISBLANK(K9), 0, MATCH(K9, A寄存器选择!$D$2:$D$5, 0) - 1), 2), DEC2BIN(IF(ISBLANK(L9), 0, MATCH(L9, B寄存器选择!$D$2:$D$5, 0) - 1), 2)) -> 0000 | X9: =_xlfn.CONCAT(DEC2BIN(IF(ISBLANK(M9), 0, MATCH(M9, 单列下拉值!$B$2:$B$3, 0) - 1)), DEC2BIN(IF(ISBLANK(N9), 0, MATCH(N9, 单列下拉值!$C$2:$C$3, 0) - 1)), DEC2BIN(IF(ISBLANK(O9), 0, MATCH(O9, ALU寄存器选择!$D$2:$D$5, 0) - 1), 2)) -> 0010 | Y9: =_xlfn.CONCAT(DEC2BIN(IF(ISBLANK(P9),0,MATCH(P9,单列下拉值!$D$2:$D$3,0)-1)), DEC2BIN(IF(ISBLANK(Q9), 0, MATCH(Q9, CP选择!$E$2:$E$9, 0) - 1), 3)) -> 0000 | Z9: =_xlfn.CONCAT(DEC2BIN(R9), DEC2BIN(IF(ISBLANK(S9), 0, MATCH(S9, 后继微地址形成!$E$2:$E$9, 0) - 1), 3)) -> 0001
B10: PLUS | C10: =DEC2HEX(ROW(C10)-3, 2) -> 07 | D10: =_xlfn.CONCAT(BIN2HEX(U10), BIN2HEX(V10), " ", BIN2HEX(W10), BIN2HEX(X10), " ", BIN2HEX(Y10), BIN2HEX(Z10)) -> 04 03 01 | I10: 无符号加 | O10: 存入Z和PSW | S10: μPC加一 | U10: =_xlfn.CONCAT(DEC2BIN(E10), DEC2BIN(F10), DEC2BIN(G10), DEC2BIN(H10)) -> 0000 | V10: =_xlfn.CONCAT(DEC2BIN(IF(ISBLANK(I10), 0, MATCH(I10, 运算选择!$E$2:$E$9, 0) - 1), 3), DEC2BIN(IF(ISBLANK(J10), 0, MATCH(J10, 单列下拉值!$A$2:$A$3, 0) - 1), 1)) -> 0100 | W10: =_xlfn.CONCAT(DEC2BIN(IF(ISBLANK(K10), 0, MATCH(K10, A寄存器选择!$D$2:$D$5, 0) - 1), 2), DEC2BIN(IF(ISBLANK(L10), 0, MATCH(L10, B寄存器选择!$D$2:$D$5, 0) - 1), 2)) -> 0000 | X10: =_xlfn.CONCAT(DEC2BIN(IF(ISBLANK(M10), 0, MATCH(M10, 单列下拉值!$B$2:$B$3, 0) - 1)), DEC2BIN(IF(ISBLANK(N10), 0, MATCH(N10, 单列下拉值!$C$2:$C$3, 0) - 1)), DEC2BIN(IF(ISBLANK(O10), 0, MATCH(O10, ALU寄存器选择!$D$2:$D$5, 0) - 1), 2)) -> 0011 | Y10: =_xlfn.CONCAT(DEC2BIN(IF(ISBLANK(P10),0,MATCH(P10,单列下拉值!$D$2:$D$3,0)-1)), DEC2BIN(IF(ISBLANK(Q10), 0, MATCH(Q10, CP选择!$E$2:$E$9, 0) - 1), 3)) -> 0000 | Z10: =_xlfn.CONCAT(DEC2BIN(R10), DEC2BIN(IF(ISBLANK(S10), 0, MATCH(S10, 后继微地址形成!$E$2:$E$9, 0) - 1), 3)) -> 0001
B11: Z->IR | C11: =DEC2HEX(ROW(C11)-3, 2) -> 08 | D11: =_xlfn.CONCAT(BIN2HEX(U11), BIN2HEX(V11), " ", BIN2HEX(W11), BIN2HEX(X11), " ", BIN2HEX(Y11), BIN2HEX(Z11)) -> 00 00 31 | Q11: CPIR | S11: μPC加一 | U11: =_xlfn.CONCAT(DEC2BIN(E11), DEC2BIN(F11), DEC2BIN(G11), DEC2BIN(H11)) -> 0000 | V11: =_xlfn.CONCAT(DEC2BIN(IF(ISBLANK(I11), 0, MATCH(I11, 运算选择!$E$2:$E$9, 0) - 1), 3), DEC2BIN(IF(ISBLANK(J11), 0, MATCH(J11, 单列下拉值!$A$2:$A$3, 0) - 1), 1)) -> 0000 | W11: =_xlfn.CONCAT(DEC2BIN(IF(ISBLANK(K11), 0, MATCH(K11, A寄存器选择!$D$2:$D$5, 0) - 1), 2), DEC2BIN(IF(ISBLANK(L11), 0, MATCH(L11, B寄存器选择!$D$2:$D$5, 0) - 1), 2)) -> 0000 | X11: =_xlfn.CONCAT(DEC2BIN(IF(ISBLANK(M11), 0, MATCH(M11, 单列下拉值!$B$2:$B$3, 0) - 1)), DEC2BIN(IF(ISBLANK(N11), 0, MATCH(N11, 单列下拉值!$C$2:$C$3, 0) - 1)), DEC2BIN(IF(ISBLANK(O11), 0, MATCH(O11, ALU寄存器选择!$D$2:$D$5, 0) - 1), 2)) -> 0000 | Y11: =_xlfn.CONCAT(DEC2BIN(IF(ISBLANK(P11),0,MATCH(P11,单列下拉值!$D$2:$D$3,0)-1)), DEC2BIN(IF(ISBLANK(Q11), 0, MATCH(Q11, CP选择!$E$2:$E$9, 0) - 1), 3)) -> 0011 | Z11: =_xlfn.CONCAT(DEC2BIN(R11), DEC2BIN(IF(ISBLANK(S11), 0, MATCH(S11, 后继微地址形成!$E$2:$E$9, 0) - 1), 3)) -> 0001
B12: END | C12: =DEC2HEX(ROW(C12)-3, 2) -> 09 | D12: =_xlfn.CONCAT(BIN2HEX(U12), BIN2HEX(V12), " ", BIN2HEX(W12), BIN2HEX(X12), " ", BIN2HEX(Y12), BIN2HEX(Z12)) -> 00 00 03 | S12: 无条件跳转至IR7-4 | U12: =_xlfn.CONCAT(DEC2BIN(E12), DEC2BIN(F12), DEC2BIN(G12), DEC2BIN(H12)) -> 0000 | V12: =_xlfn.CONCAT(DEC2BIN(IF(ISBLANK(I12), 0, MATCH(I12, 运算选择!$E$2:$E$9, 0) - 1), 3), DEC2BIN(IF(ISBLANK(J12), 0, MATCH(J12, 单列下拉值!$A$2:$A$3, 0) - 1), 1)) -> 0000 | W12: =_xlfn.CONCAT(DEC2BIN(IF(ISBLANK(K12), 0, MATCH(K12, A寄存器选择!$D$2:$D$5, 0) - 1), 2), DEC2BIN(IF(ISBLANK(L12), 0, MATCH(L12, B寄存器选择!$D$2:$D$5, 0) - 1), 2)) -> 0000 | X12: =_xlfn.CONCAT(DEC2BIN(IF(ISBLANK(M12), 0, MATCH(M12, 单列下拉值!$B$2:$B$3, 0) - 1)), DEC2BIN(IF(ISBLANK(N12), 0, MATCH(N12, 单列下拉值!$C$2:$C$3, 0) - 1)), DEC2BIN(IF(ISBLANK(O12), 0, MATCH(O12, ALU寄存器选择!$D$2:$D$5, 0) - 1), 2)) -> 0000 | Y12: =_xlfn.CONCAT(DEC2BIN(IF(ISBLANK(P12),0,MATCH(P12,单列下拉值!$D$2:$D$3,0)-1)), DEC2BIN(IF(ISBLANK(Q12), 0, MATCH(Q12, CP选择!$E$2:$E$9, 0) - 1), 3)) -> 0000 | Z12: =_xlfn.CONCAT(DEC2BIN(R12), DEC2BIN(IF(ISBLANK(S12), 0, MATCH(S12, 后继微地址形成!$E$2:$E$9, 0) - 1), 3)) -> 0011
C13: =DEC2HEX(ROW(C13)-3, 2) -> 0A | D13: =_xlfn.CONCAT(BIN2HEX(U13), BIN2HEX(V13), " ", BIN2HEX(W13), BIN2HEX(X13), " ", BIN2HEX(Y13), BIN2HEX(Z13)) -> 00 00 00 | U13: =_xlfn.CONCAT(DEC2BIN(E13), DEC2BIN(F13), DEC2BIN(G13), DEC2BIN(H13)) -> 0000 | V13: =_xlfn.CONCAT(DEC2BIN(IF(ISBLANK(I13), 0, MATCH(I13, 运算选择!$E$2:$E$9, 0) - 1), 3), DEC2BIN(IF(ISBLANK(J13), 0, MATCH(J13, 单列下拉值!$A$2:$A$3, 0) - 1), 1)) -> 0000 | W13: =_xlfn.CONCAT(DEC2BIN(IF(ISBLANK(K13), 0, MATCH(K13, A寄存器选择!$D$2:$D$5, 0) - 1), 2), DEC2BIN(IF(ISBLANK(L13), 0, MATCH(L13, B寄存器选择!$D$2:$D$5, 0) - 1), 2)) -> 0000 | X13: =_xlfn.CONCAT(DEC2BIN(IF(ISBLANK(M13), 0, MATCH(M13, 单列下拉值!$B$2:$B$3, 0) - 1)), DEC2BIN(IF(ISBLANK(N13), 0, MATCH(N13, 单列下拉值!$C$2:$C$3, 0) - 1)), DEC2BIN(IF(ISBLANK(O13), 0, MATCH(O13, ALU寄存器选择!$D$2:$D$5, 0) - 1), 2)) -> 0000 | Y13: =_xlfn.CONCAT(DEC2BIN(IF(ISBLANK(P13),0,MATCH(P13,单列下拉值!$D$2:$D$3,0)-1)), DEC2BIN(IF(ISBLANK(Q13), 0, MATCH(Q13, CP选择!$E$2:$E$9, 0) - 1), 3)) -> 0000 | Z13: =_xlfn.CONCAT(DEC2BIN(R13), DEC2BIN(IF(ISBLANK(S13), 0, MATCH(S13, 后继微地址形成!$E$2:$E$9, 0) - 1), 3)) -> 0000
C14: =DEC2HEX(ROW(C14)-3, 2) -> 0B | D14: =_xlfn.CONCAT(BIN2HEX(U14), BIN2HEX(V14), " ", BIN2HEX(W14), BIN2HEX(X14), " ", BIN2HEX(Y14), BIN2HEX(Z14)) -> 00 00 00 | U14: =_xlfn.CONCAT(DEC2BIN(E14), DEC2BIN(F14), DEC2BIN(G14), DEC2BIN(H14)) -> 0000 | V14: =_xlfn.CONCAT(DEC2BIN(IF(ISBLANK(I14), 0, MATCH(I14, 运算选择!$E$2:$E$9, 0) - 1), 3), DEC2BIN(IF(ISBLANK(J14), 0, MATCH(J14, 单列下拉值!$A$2:$A$3, 0) - 1), 1)) -> 0000 | W14: =_xlfn.CONCAT(DEC2BIN(IF(ISBLANK(K14), 0, MATCH(K14, A寄存器选择!$D$2:$D$5, 0) - 1), 2), DEC2BIN(IF(ISBLANK(L14), 0, MATCH(L14, B寄存器选择!$D$2:$D$5, 0) - 1), 2)) -> 0000 | X14: =_xlfn.CONCAT(DEC2BIN(IF(ISBLANK(M14), 0, MATCH(M14, 单列下拉值!$B$2:$B$3, 0) - 1)), DEC2BIN(IF(ISBLANK(N14), 0, MATCH(N14, 单列下拉值!$C$2:$C$3, 0) - 1)), DEC2BIN(IF(ISBLANK(O14), 0, MATCH(O14, ALU寄存器选择!$D$2:$D$5, 0) - 1), 2)) -> 0000 | Y14: =_xlfn.CONCAT(DEC2BIN(IF(ISBLANK(P14),0,MATCH(P14,单列下拉值!$D$2:$D$3,0)-1)), DEC2BIN(IF(ISBLANK(Q14), 0, MATCH(Q14, CP选择!$E$2:$E$9, 0) - 1), 3)) -> 0000 | Z14: =_xlfn.CONCAT(DEC2BIN(R14), DEC2BIN(IF(ISBLANK(S14), 0, MATCH(S14, 后继微地址形成!$E$2:$E$9, 0) - 1), 3)) -> 0000
C15: =DEC2HEX(ROW(C15)-3, 2) -> 0C | D15: =_xlfn.CONCAT(BIN2HEX(U15), BIN2HEX(V15), " ", BIN2HEX(W15), BIN2HEX(X15), " ", BIN2HEX(Y15), BIN2HEX(Z15)) -> 00 00 00 | U15: =_xlfn.CONCAT(DEC2BIN(E15), DEC2BIN(F15), DEC2BIN(G15), DEC2BIN(H15)) -> 0000 | V15: =_xlfn.CONCAT(DEC2BIN(IF(ISBLANK(I15), 0, MATCH(I15, 运算选择!$E$2:$E$9, 0) - 1), 3), DEC2BIN(IF(ISBLANK(J15), 0, MATCH(J15, 单列下拉值!$A$2:$A$3, 0) - 1), 1)) -> 0000 | W15: =_xlfn.CONCAT(DEC2BIN(IF(ISBLANK(K15), 0, MATCH(K15, A寄存器选择!$D$2:$D$5, 0) - 1), 2), DEC2BIN(IF(ISBLANK(L15), 0, MATCH(L15, B寄存器选择!$D$2:$D$5, 0) - 1), 2)) -> 0000 | X15: =_xlfn.CONCAT(DEC2BIN(IF(ISBLANK(M15), 0, MATCH(M15, 单列下拉值!$B$2:$B$3, 0) - 1)), DEC2BIN(IF(ISBLANK(N15), 0, MATCH(N15, 单列下拉值!$C$2:$C$3, 0) - 1)), DEC2BIN(IF(ISBLANK(O15), 0, MATCH(O15, ALU寄存器选择!$D$2:$D$5, 0) - 1), 2)) -> 0000 | Y15: =_xlfn.CONCAT(DEC2BIN(IF(ISBLANK(P15),0,MATCH(P15,单列下拉值!$D$2:$D$3,0)-1)), DEC2BIN(IF(ISBLANK(Q15), 0, MATCH(Q15, CP选择!$E$2:$E$9, 0) - 1), 3)) -> 0000 | Z15: =_xlfn.CONCAT(DEC2BIN(R15), DEC2BIN(IF(ISBLANK(S15), 0, MATCH(S15, 后继微地址形成!$E$2:$E$9, 0) - 1), 3)) -> 0000
C16: =DEC2HEX(ROW(C16)-3, 2) -> 0D | D16: =_xlfn.CONCAT(BIN2HEX(U16), BIN2HEX(V16), " ", BIN2HEX(W16), BIN2HEX(X16), " ", BIN2HEX(Y16), BIN2HEX(Z16)) -> 00 00 00 | U16: =_xlfn.CONCAT(DEC2BIN(E16), DEC2BIN(F16), DEC2BIN(G16), DEC2BIN(H16)) -> 0000 | V16: =_xlfn.CONCAT(DEC2BIN(IF(ISBLANK(I16), 0, MATCH(I16, 运算选择!$E$2:$E$9, 0) - 1), 3), DEC2BIN(IF(ISBLANK(J16), 0, MATCH(J16, 单列下拉值!$A$2:$A$3, 0) - 1), 1)) -> 0000 | W16: =_xlfn.CONCAT(DEC2BIN(IF(ISBLANK(K16), 0, MATCH(K16, A寄存器选择!$D$2:$D$5, 0) - 1), 2), DEC2BIN(IF(ISBLANK(L16), 0, MATCH(L16, B寄存器选择!$D$2:$D$5, 0) - 1), 2)) -> 0000 | X16: =_xlfn.CONCAT(DEC2BIN(IF(ISBLANK(M16), 0, MATCH(M16, 单列下拉值!$B$2:$B$3, 0) - 1)), DEC2BIN(IF(ISBLANK(N16), 0, MATCH(N16, 单列下拉值!$C$2:$C$3, 0) - 1)), DEC2BIN(IF(ISBLANK(O16), 0, MATCH(O16, ALU寄存器选择!$D$2:$D$5, 0) - 1), 2)) -> 0000 | Y16: =_xlfn.CONCAT(DEC2BIN(IF(ISBLANK(P16),0,MATCH(P16,单列下拉值!$D$2:$D$3,0)-1)), DEC2BIN(IF(ISBLANK(Q16), 0, MATCH(Q16, CP选择!$E$2:$E$9, 0) - 1), 3)) -> 0000 | Z16: =_xlfn.CONCAT(DEC2BIN(R16), DEC2BIN(IF(ISBLANK(S16), 0, MATCH(S16, 后继微地址形成!$E$2:$E$9, 0) - 1), 3)) -> 0000
C17: =DEC2HEX(ROW(C17)-3, 2) -> 0E | D17: =_xlfn.CONCAT(BIN2HEX(U17), BIN2HEX(V17), " ", BIN2HEX(W17), BIN2HEX(X17), " ", BIN2HEX(Y17), BIN2HEX(Z17)) -> 00 00 00 | U17: =_xlfn.CONCAT(DEC2BIN(E17), DEC2BIN(F17), DEC2BIN(G17), DEC2BIN(H17)) -> 0000 | V17: =_xlfn.CONCAT(DEC2BIN(IF(ISBLANK(I17), 0, MATCH(I17, 运算选择!$E$2:$E$9, 0) - 1), 3), DEC2BIN(IF(ISBLANK(J17), 0, MATCH(J17, 单列下拉值!$A$2:$A$3, 0) - 1), 1)) -> 0000 | W17: =_xlfn.CONCAT(DEC2BIN(IF(ISBLANK(K17), 0, MATCH(K17, A寄存器选择!$D$2:$D$5, 0) - 1), 2), DEC2BIN(IF(ISBLANK(L17), 0, MATCH(L17, B寄存器选择!$D$2:$D$5, 0) - 1), 2)) -> 0000 | X17: =_xlfn.CONCAT(DEC2BIN(IF(ISBLANK(M17), 0, MATCH(M17, 单列下拉值!$B$2:$B$3, 0) - 1)), DEC2BIN(IF(ISBLANK(N17), 0, MATCH(N17, 单列下拉值!$C$2:$C$3, 0) - 1)), DEC2BIN(IF(ISBLANK(O17), 0, MATCH(O17, ALU寄存器选择!$D$2:$D$5, 0) - 1), 2)) -> 0000 | Y17: =_xlfn.CONCAT(DEC2BIN(IF(ISBLANK(P17),0,MATCH(P17,单列下拉值!$D$2:$D$3,0)-1)), DEC2BIN(IF(ISBLANK(Q17), 0, MATCH(Q17, CP选择!$E$2:$E$9, 0) - 1), 3)) -> 0000 | Z17: =_xlfn.CONCAT(DEC2BIN(R17), DEC2BIN(IF(ISBLANK(S17), 0, MATCH(S17, 后继微地址形成!$E$2:$E$9, 0) - 1), 3)) -> 0000
C18: =DEC2HEX(ROW(C18)-3, 2) -> 0F | D18: =_xlfn.CONCAT(BIN2HEX(U18), BIN2HEX(V18), " ", BIN2HEX(W18), BIN2HEX(X18), " ", BIN2HEX(Y18), BIN2HEX(Z18)) -> 00 00 00 | U18: =_xlfn.CONCAT(DEC2BIN(E18), DEC2BIN(F18), DEC2BIN(G18), DEC2BIN(H18)) -> 0000 | V18: =_xlfn.CONCAT(DEC2BIN(IF(ISBLANK(I18), 0, MATCH(I18, 运算选择!$E$2:$E$9, 0) - 1), 3), DEC2BIN(IF(ISBLANK(J18), 0, MATCH(J18, 单列下拉值!$A$2:$A$3, 0) - 1), 1)) -> 0000 | W18: =_xlfn.CONCAT(DEC2BIN(IF(ISBLANK(K18), 0, MATCH(K18, A寄存器选择!$D$2:$D$5, 0) - 1), 2), DEC2BIN(IF(ISBLANK(L18), 0, MATCH(L18, B寄存器选择!$D$2:$D$5, 0) - 1), 2)) -> 0000 | X18: =_xlfn.CONCAT(DEC2BIN(IF(ISBLANK(M18), 0, MATCH(M18, 单列下拉值!$B$2:$B$3, 0) - 1)), DEC2BIN(IF(ISBLANK(N18), 0, MATCH(N18, 单列下拉值!$C$2:$C$3, 0) - 1)), DEC2BIN(IF(ISBLANK(O18), 0, MATCH(O18, ALU寄存器选择!$D$2:$D$5, 0) - 1), 2)) -> 0000 | Y18: =_xlfn.CONCAT(DEC2BIN(IF(ISBLANK(P18),0,MATCH(P18,单列下拉值!$D$2:$D$3,0)-1)), DEC2BIN(IF(ISBLANK(Q18), 0, MATCH(Q18, CP选择!$E$2:$E$9, 0) - 1), 3)) -> 0000 | Z18: =_xlfn.CONCAT(DEC2BIN(R18), DEC2BIN(IF(ISBLANK(S18), 0, MATCH(S18, 后继微地址形成!$E$2:$E$9, 0) - 1), 3)) -> 0000
A19: STA Ri, AD | B19: PC->B | C19: =DEC2HEX(ROW(C19)-3, 2) -> 10 | D19: =_xlfn.CONCAT(BIN2HEX(U19), BIN2HEX(V19), " ", BIN2HEX(W19), BIN2HEX(X19), " ", BIN2HEX(Y19), BIN2HEX(Z19)) -> 00 12 01 | L19: B选PC | O19: 存入B寄存器 | S19: μPC加一 | U19: =_xlfn.CONCAT(DEC2BIN(E19), DEC2BIN(F19), DEC2BIN(G19), DEC2BIN(H19)) -> 0000 | V19: =_xlfn.CONCAT(DEC2BIN(IF(ISBLANK(I19), 0, MATCH(I19, 运算选择!$E$2:$E$9, 0) - 1), 3), DEC2BIN(IF(ISBLANK(J19), 0, MATCH(J19, 单列下拉值!$A$2:$A$3, 0) - 1), 1)) -> 0000 | W19: =_xlfn.CONCAT(DEC2BIN(IF(ISBLANK(K19), 0, MATCH(K19, A寄存器选择!$D$2:$D$5, 0) - 1), 2), DEC2BIN(IF(ISBLANK(L19), 0, MATCH(L19, B寄存器选择!$D$2:$D$5, 0) - 1), 2)) -> 0001 | X19: =_xlfn.CONCAT(DEC2BIN(IF(ISBLANK(M19), 0, MATCH(M19, 单列下拉值!$B$2:$B$3, 0) - 1)), DEC2BIN(IF(ISBLANK(N19), 0, MATCH(N19, 单列下拉值!$C$2:$C$3, 0) - 1)), DEC2BIN(IF(ISBLANK(O19), 0, MATCH(O19, ALU寄存器选择!$D$2:$D$5, 0) - 1), 2)) -> 0010 | Y19: =_xlfn.CONCAT(DEC2BIN(IF(ISBLANK(P19),0,MATCH(P19,单列下拉值!$D$2:$D$3,0)-1)), DEC2BIN(IF(ISBLANK(Q19), 0, MATCH(Q19, CP选择!$E$2:$E$9, 0) - 1), 3)) -> 0000 | Z19: =_xlfn.CONCAT(DEC2BIN(R19), DEC2BIN(IF(ISBLANK(S19), 0, MATCH(S19, 后继微地址形成!$E$2:$E$9, 0) - 1), 3)) -> 0001
B20: 0->A | C20: =DEC2HEX(ROW(C20)-3, 2) -> 11 | D20: =_xlfn.CONCAT(BIN2HEX(U20), BIN2HEX(V20), " ", BIN2HEX(W20), BIN2HEX(X20), " ", BIN2HEX(Y20), BIN2HEX(Z20)) -> 00 01 A1 | K20: A置0 | O20: 存入A寄存器 | P20: 加一 | Q20: CPPC | S20: μPC加一 | U20: =_xlfn.CONCAT(DEC2BIN(E20), DEC2BIN(F20), DEC2BIN(G20), DEC2BIN(H20)) -> 0000 | V20: =_xlfn.CONCAT(DEC2BIN(IF(ISBLANK(I20), 0, MATCH(I20, 运算选择!$E$2:$E$9, 0) - 1), 3), DEC2BIN(IF(ISBLANK(J20), 0, MATCH(J20, 单列下拉值!$A$2:$A$3, 0) - 1), 1)) -> 0000 | W20: =_xlfn.CONCAT(DEC2BIN(IF(ISBLANK(K20), 0, MATCH(K20, A寄存器选择!$D$2:$D$5, 0) - 1), 2), DEC2BIN(IF(ISBLANK(L20), 0, MATCH(L20, B寄存器选择!$D$2:$D$5, 0) - 1), 2)) -> 0000 | X20: =_xlfn.CONCAT(DEC2BIN(IF(ISBLANK(M20), 0, MATCH(M20, 单列下拉值!$B$2:$B$3, 0) - 1)), DEC2BIN(IF(ISBLANK(N20), 0, MATCH(N20, 单列下拉值!$C$2:$C$3, 0) - 1)), DEC2BIN(IF(ISBLANK(O20), 0, MATCH(O20, ALU寄存器选择!$D$2:$D$5, 0) - 1), 2)) -> 0001 | Y20: =_xlfn.CONCAT(DEC2BIN(IF(ISBLANK(P20),0,MATCH(P20,单列下拉值!$D$2:$D$3,0)-1)), DEC2BIN(IF(ISBLANK(Q20), 0, MATCH(Q20, CP选择!$E$2:$E$9, 0) - 1), 3)) -> 1010 | Z20: =_xlfn.CONCAT(DEC2BIN(R20), DEC2BIN(IF(ISBLANK(S20), 0, MATCH(S20, 后继微地址形成!$E$2:$E$9, 0) - 1), 3)) -> 0001
B21: PLUS | C21: =DEC2HEX(ROW(C21)-3, 2) -> 12 | D21: =_xlfn.CONCAT(BIN2HEX(U21), BIN2HEX(V21), " ", BIN2HEX(W21), BIN2HEX(X21), " ", BIN2HEX(Y21), BIN2HEX(Z21)) -> 04 03 01 | I21: 无符号加 | O21: 存入Z和PSW | S21: μPC加一 | U21: =_xlfn.CONCAT(DEC2BIN(E21), DEC2BIN(F21), DEC2BIN(G21), DEC2BIN(H21)) -> 0000 | V21: =_xlfn.CONCAT(DEC2BIN(IF(ISBLANK(I21), 0, MATCH(I21, 运算选择!$E$2:$E$9, 0) - 1), 3), DEC2BIN(IF(ISBLANK(J21), 0, MATCH(J21, 单列下拉值!$A$2:$A$3, 0) - 1), 1)) -> 0100 | W21: =_xlfn.CONCAT(DEC2BIN(IF(ISBLANK(K21), 0, MATCH(K21, A寄存器选择!$D$2:$D$5, 0) - 1), 2), DEC2BIN(IF(ISBLANK(L21), 0, MATCH(L21, B寄存器选择!$D$2:$D$5, 0) - 1), 2)) -> 0000 | X21: =_xlfn.CONCAT(DEC2BIN(IF(ISBLANK(M21), 0, MATCH(M21, 单列下拉值!$B$2:$B$3, 0) - 1)), DEC2BIN(IF(ISBLANK(N21), 0, MATCH(N21, 单列下拉值!$C$2:$C$3, 0) - 1)), DEC2BIN(IF(ISBLANK(O21), 0, MATCH(O21, ALU寄存器选择!$D$2:$D$5, 0) - 1), 2)) -> 0011 | Y21: =_xlfn.CONCAT(DEC2BIN(IF(ISBLANK(P21),0,MATCH(P21,单列下拉值!$D$2:$D$3,0)-1)), DEC2BIN(IF(ISBLANK(Q21), 0, MATCH(Q21, CP选择!$E$2:$E$9, 0) - 1), 3)) -> 0000 | Z21: =_xlfn.CONCAT(DEC2BIN(R21), DEC2BIN(IF(ISBLANK(S21), 0, MATCH(S21, 后继微地址形成!$E$2:$E$9, 0) - 1), 3)) -> 0001
B22: Z->MAR | C22: =DEC2HEX(ROW(C22)-3, 2) -> 13 | D22: =_xlfn.CONCAT(BIN2HEX(U22), BIN2HEX(V22), " ", BIN2HEX(W22), BIN2HEX(X22), " ", BIN2HEX(Y22), BIN2HEX(Z22)) -> 00 00 41 | Q22: CPMAR | S22: μPC加一 | U22: =_xlfn.CONCAT(DEC2BIN(E22), DEC2BIN(F22), DEC2BIN(G22), DEC2BIN(H22)) -> 0000 | V22: =_xlfn.CONCAT(DEC2BIN(IF(ISBLANK(I22), 0, MATCH(I22, 运算选择!$E$2:$E$9, 0) - 1), 3), DEC2BIN(IF(ISBLANK(J22), 0, MATCH(J22, 单列下拉值!$A$2:$A$3, 0) - 1), 1)) -> 0000 | W22: =_xlfn.CONCAT(DEC2BIN(IF(ISBLANK(K22), 0, MATCH(K22, A寄存器选择!$D$2:$D$5, 0) - 1), 2), DEC2BIN(IF(ISBLANK(L22), 0, MATCH(L22, B寄存器选择!$D$2:$D$5, 0) - 1), 2)) -> 0000 | X22: =_xlfn.CONCAT(DEC2BIN(IF(ISBLANK(M22), 0, MATCH(M22, 单列下拉值!$B$2:$B$3, 0) - 1)), DEC2BIN(IF(ISBLANK(N22), 0, MATCH(N22, 单列下拉值!$C$2:$C$3, 0) - 1)), DEC2BIN(IF(ISBLANK(O22), 0, MATCH(O22, ALU寄存器选择!$D$2:$D$5, 0) - 1), 2)) -> 0000 | Y22: =_xlfn.CONCAT(DEC2BIN(IF(ISBLANK(P22),0,MATCH(P22,单列下拉值!$D$2:$D$3,0)-1)), DEC2BIN(IF(ISBLANK(Q22), 0, MATCH(Q22, CP选择!$E$2:$E$9, 0) - 1), 3)) -> 0100 | Z22: =_xlfn.CONCAT(DEC2BIN(R22), DEC2BIN(IF(ISBLANK(S22), 0, MATCH(S22, 后继微地址形成!$E$2:$E$9, 0) - 1), 3)) -> 0001
B23: 1->R, MEM->MDR | C23: =DEC2HEX(ROW(C23)-3, 2) -> 14 | D23: =_xlfn.CONCAT(BIN2HEX(U23), BIN2HEX(V23), " ", BIN2HEX(W23), BIN2HEX(X23), " ", BIN2HEX(Y23), BIN2HEX(Z23)) -> 00 00 51 | J23: 内存→MDR | Q23: CPMDR | S23: μPC加一 | U23: =_xlfn.CONCAT(DEC2BIN(E23), DEC2BIN(F23), DEC2BIN(G23), DEC2BIN(H23)) -> 0000 | V23: =_xlfn.CONCAT(DEC2BIN(IF(ISBLANK(I23), 0, MATCH(I23, 运算选择!$E$2:$E$9, 0) - 1), 3), DEC2BIN(IF(ISBLANK(J23), 0, MATCH(J23, 单列下拉值!$A$2:$A$3, 0) - 1), 1)) -> 0000 | W23: =_xlfn.CONCAT(DEC2BIN(IF(ISBLANK(K23), 0, MATCH(K23, A寄存器选择!$D$2:$D$5, 0) - 1), 2), DEC2BIN(IF(ISBLANK(L23), 0, MATCH(L23, B寄存器选择!$D$2:$D$5, 0) - 1), 2)) -> 0000 | X23: =_xlfn.CONCAT(DEC2BIN(IF(ISBLANK(M23), 0, MATCH(M23, 单列下拉值!$B$2:$B$3, 0) - 1)), DEC2BIN(IF(ISBLANK(N23), 0, MATCH(N23, 单列下拉值!$C$2:$C$3, 0) - 1)), DEC2BIN(IF(ISBLANK(O23), 0, MATCH(O23, ALU寄存器选择!$D$2:$D$5, 0) - 1), 2)) -> 0000 | Y23: =_xlfn.CONCAT(DEC2BIN(IF(ISBLANK(P23),0,MATCH(P23,单列下拉值!$D$2:$D$3,0)-1)), DEC2BIN(IF(ISBLANK(Q23), 0, MATCH(Q23, CP选择!$E$2:$E$9, 0) - 1), 3)) -> 0101 | Z23: =_xlfn.CONCAT(DEC2BIN(R23), DEC2BIN(IF(ISBLANK(S23), 0, MATCH(S23, 后继微地址形成!$E$2:$E$9, 0) - 1), 3)) -> 0001
B24: MDR->A | C24: =DEC2HEX(ROW(C24)-3, 2) -> 15 | D24: =_xlfn.CONCAT(BIN2HEX(U24), BIN2HEX(V24), " ", BIN2HEX(W24), BIN2HEX(X24), " ", BIN2HEX(Y24), BIN2HEX(Z24)) -> 00 41 01 | K24: A选MDR | O24: 存入A寄存器 | S24: μPC加一 | U24: =_xlfn.CONCAT(DEC2BIN(E24), DEC2BIN(F24), DEC2BIN(G24), DEC2BIN(H24)) -> 0000 | V24: =_xlfn.CONCAT(DEC2BIN(IF(ISBLANK(I24), 0, MATCH(I24, 运算选择!$E$2:$E$9, 0) - 1), 3), DEC2BIN(IF(ISBLANK(J24), 0, MATCH(J24, 单列下拉值!$A$2:$A$3, 0) - 1), 1)) -> 0000 | W24: =_xlfn.CONCAT(DEC2BIN(IF(ISBLANK(K24), 0, MATCH(K24, A寄存器选择!$D$2:$D$5, 0) - 1), 2), DEC2BIN(IF(ISBLANK(L24), 0, MATCH(L24, B寄存器选择!$D$2:$D$5, 0) - 1), 2)) -> 0100 | X24: =_xlfn.CONCAT(DEC2BIN(IF(ISBLANK(M24), 0, MATCH(M24, 单列下拉值!$B$2:$B$3, 0) - 1)), DEC2BIN(IF(ISBLANK(N24), 0, MATCH(N24, 单列下拉值!$C$2:$C$3, 0) - 1)), DEC2BIN(IF(ISBLANK(O24), 0, MATCH(O24, ALU寄存器选择!$D$2:$D$5, 0) - 1), 2)) -> 0001 | Y24: =_xlfn.CONCAT(DEC2BIN(IF(ISBLANK(P24),0,MATCH(P24,单列下拉值!$D$2:$D$3,0)-1)), DEC2BIN(IF(ISBLANK(Q24), 0, MATCH(Q24, CP选择!$E$2:$E$9, 0) - 1), 3)) -> 0000 | Z24: =_xlfn.CONCAT(DEC2BIN(R24), DEC2BIN(IF(ISBLANK(S24), 0, MATCH(S24, 后继微地址形成!$E$2:$E$9, 0) - 1), 3)) -> 0001
B25: 0->B | C25: =DEC2HEX(ROW(C25)-3, 2) -> 16 | D25: =_xlfn.CONCAT(BIN2HEX(U25), BIN2HEX(V25), " ", BIN2HEX(W25), BIN2HEX(X25), " ", BIN2HEX(Y25), BIN2HEX(Z25)) -> 00 02 01 | L25: B置0 | O25: 存入B寄存器 | S25: μPC加一 | U25: =_xlfn.CONCAT(DEC2BIN(E25), DEC2BIN(F25), DEC2BIN(G25), DEC2BIN(H25)) -> 0000 | V25: =_xlfn.CONCAT(DEC2BIN(IF(ISBLANK(I25), 0, MATCH(I25, 运算选择!$E$2:$E$9, 0) - 1), 3), DEC2BIN(IF(ISBLANK(J25), 0, MATCH(J25, 单列下拉值!$A$2:$A$3, 0) - 1), 1)) -> 0000 | W25: =_xlfn.CONCAT(DEC2BIN(IF(ISBLANK(K25), 0, MATCH(K25, A寄存器选择!$D$2:$D$5, 0) - 1), 2), DEC2BIN(IF(ISBLANK(L25), 0, MATCH(L25, B寄存器选择!$D$2:$D$5, 0) - 1), 2)) -> 0000 | X25: =_xlfn.CONCAT(DEC2BIN(IF(ISBLANK(M25), 0, MATCH(M25, 单列下拉值!$B$2:$B$3, 0) - 1)), DEC2BIN(IF(ISBLANK(N25), 0, MATCH(N25, 单列下拉值!$C$2:$C$3, 0) - 1)), DEC2BIN(IF(ISBLANK(O25), 0, MATCH(O25, ALU寄存器选择!$D$2:$D$5, 0) - 1), 2)) -> 0010 | Y25: =_xlfn.CONCAT(DEC2BIN(IF(ISBLANK(P25),0,MATCH(P25,单列下拉值!$D$2:$D$3,0)-1)), DEC2BIN(IF(ISBLANK(Q25), 0, MATCH(Q25, CP选择!$E$2:$E$9, 0) - 1), 3)) -> 0000 | Z25: =_xlfn.CONCAT(DEC2BIN(R25), DEC2BIN(IF(ISBLANK(S25), 0, MATCH(S25, 后继微地址形成!$E$2:$E$9, 0) - 1), 3)) -> 0001
B26: PLUS | C26: =DEC2HEX(ROW(C26)-3, 2) -> 17 | D26: =_xlfn.CONCAT(BIN2HEX(U26), BIN2HEX(V26), " ", BIN2HEX(W26), BIN2HEX(X26), " ", BIN2HEX(Y26), BIN2HEX(Z26)) -> 04 03 01 | I26: 无符号加 | O26: 存入Z和PSW | S26: μPC加一 | U26: =_xlfn.CONCAT(DEC2BIN(E26), DEC2BIN(F26), DEC2BIN(G26), DEC2BIN(H26)) -> 0000 | V26: =_xlfn.CONCAT(DEC2BIN(IF(ISBLANK(I26), 0, MATCH(I26, 运算选择!$E$2:$E$9, 0) - 1), 3), DEC2BIN(IF(ISBLANK(J26), 0, MATCH(J26, 单列下拉值!$A$2:$A$3, 0) - 1), 1)) -> 0100 | W26: =_xlfn.CONCAT(DEC2BIN(IF(ISBLANK(K26), 0, MATCH(K26, A寄存器选择!$D$2:$D$5, 0) - 1), 2), DEC2BIN(IF(ISBLANK(L26), 0, MATCH(L26, B寄存器选择!$D$2:$D$5, 0) - 1), 2)) -> 0000 | X26: =_xlfn.CONCAT(DEC2BIN(IF(ISBLANK(M26), 0, MATCH(M26, 单列下拉值!$B$2:$B$3, 0) - 1)), DEC2BIN(IF(ISBLANK(N26), 0, MATCH(N26, 单列下拉值!$C$2:$C$3, 0) - 1)), DEC2BIN(IF(ISBLANK(O26), 0, MATCH(O26, ALU寄存器选择!$D$2:$D$5, 0) - 1), 2)) -> 0011 | Y26: =_xlfn.CONCAT(DEC2BIN(IF(ISBLANK(P26),0,MATCH(P26,单列下拉值!$D$2:$D$3,0)-1)), DEC2BIN(IF(ISBLANK(Q26), 0, MATCH(Q26, CP选择!$E$2:$E$9, 0) - 1), 3)) -> 0000 | Z26: =_xlfn.CONCAT(DEC2BIN(R26), DEC2BIN(IF(ISBLANK(S26), 0, MATCH(S26, 后继微地址形成!$E$2:$E$9, 0) - 1), 3)) -> 0001
B27: Z->MAR | C27: =DEC2HEX(ROW(C27)-3, 2) -> 18 | D27: =_xlfn.CONCAT(BIN2HEX(U27), BIN2HEX(V27), " ", BIN2HEX(W27), BIN2HEX(X27), " ", BIN2HEX(Y27), BIN2HEX(Z27)) -> 00 00 41 | Q27: CPMAR | S27: μPC加一 | U27: =_xlfn.CONCAT(DEC2BIN(E27), DEC2BIN(F27), DEC2BIN(G27), DEC2BIN(H27)) -> 0000 | V27: =_xlfn.CONCAT(DEC2BIN(IF(ISBLANK(I27), 0, MATCH(I27, 运算选择!$E$2:$E$9, 0) - 1), 3), DEC2BIN(IF(ISBLANK(J27), 0, MATCH(J27, 单列下拉值!$A$2:$A$3, 0) - 1), 1)) -> 0000 | W27: =_xlfn.CONCAT(DEC2BIN(IF(ISBLANK(K27), 0, MATCH(K27, A寄存器选择!$D$2:$D$5, 0) - 1), 2), DEC2BIN(IF(ISBLANK(L27), 0, MATCH(L27, B寄存器选择!$D$2:$D$5, 0) - 1), 2)) -> 0000 | X27: =_xlfn.CONCAT(DEC2BIN(IF(ISBLANK(M27), 0, MATCH(M27, 单列下拉值!$B$2:$B$3, 0) - 1)), DEC2BIN(IF(ISBLANK(N27), 0, MATCH(N27, 单列下拉值!$C$2:$C$3, 0) - 1)), DEC2BIN(IF(ISBLANK(O27), 0, MATCH(O27, ALU寄存器选择!$D$2:$D$5, 0) - 1), 2)) -> 0000 | Y27: =_xlfn.CONCAT(DEC2BIN(IF(ISBLANK(P27),0,MATCH(P27,单列下拉值!$D$2:$D$3,0)-1)), DEC2BIN(IF(ISBLANK(Q27), 0, MATCH(Q27, CP选择!$E$2:$E$9, 0) - 1), 3)) -> 0100 | Z27: =_xlfn.CONCAT(DEC2BIN(R27), DEC2BIN(IF(ISBLANK(S27), 0, MATCH(S27, 后继微地址形成!$E$2:$E$9, 0) - 1), 3)) -> 0001
B28: Rx->B | C28: =DEC2HEX(ROW(C28)-3, 2) -> 19 | D28: =_xlfn.CONCAT(BIN2HEX(U28), BIN2HEX(V28), " ", BIN2HEX(W28), BIN2HEX(X28), " ", BIN2HEX(Y28), BIN2HEX(Z28)) -> 00 22 01 | L28: B选通用寄存器 | O28: 存入B寄存器 | S28: μPC加一 | U28: =_xlfn.CONCAT(DEC2BIN(E28), DEC2BIN(F28), DEC2BIN(G28), DEC2BIN(H28)) -> 0000 | V28: =_xlfn.CONCAT(DEC2BIN(IF(ISBLANK(I28), 0, MATCH(I28, 运算选择!$E$2:$E$9, 0) - 1), 3), DEC2BIN(IF(ISBLANK(J28), 0, MATCH(J28, 单列下拉值!$A$2:$A$3, 0) - 1), 1)) -> 0000 | W28: =_xlfn.CONCAT(DEC2BIN(IF(ISBLANK(K28), 0, MATCH(K28, A寄存器选择!$D$2:$D$5, 0) - 1), 2), DEC2BIN(IF(ISBLANK(L28), 0, MATCH(L28, B寄存器选择!$D$2:$D$5, 0) - 1), 2)) -> 0010 | X28: =_xlfn.CONCAT(DEC2BIN(IF(ISBLANK(M28), 0, MATCH(M28, 单列下拉值!$B$2:$B$3, 0) - 1)), DEC2BIN(IF(ISBLANK(N28), 0, MATCH(N28, 单列下拉值!$C$2:$C$3, 0) - 1)), DEC2BIN(IF(ISBLANK(O28), 0, MATCH(O28, ALU寄存器选择!$D$2:$D$5, 0) - 1), 2)) -> 0010 | Y28: =_xlfn.CONCAT(DEC2BIN(IF(ISBLANK(P28),0,MATCH(P28,单列下拉值!$D$2:$D$3,0)-1)), DEC2BIN(IF(ISBLANK(Q28), 0, MATCH(Q28, CP选择!$E$2:$E$9, 0) - 1), 3)) -> 0000 | Z28: =_xlfn.CONCAT(DEC2BIN(R28), DEC2BIN(IF(ISBLANK(S28), 0, MATCH(S28, 后继微地址形成!$E$2:$E$9, 0) - 1), 3)) -> 0001
B29: 0->A | C29: =DEC2HEX(ROW(C29)-3, 2) -> 1A | D29: =_xlfn.CONCAT(BIN2HEX(U29), BIN2HEX(V29), " ", BIN2HEX(W29), BIN2HEX(X29), " ", BIN2HEX(Y29), BIN2HEX(Z29)) -> 00 01 01 | K29: A置0 | O29: 存入A寄存器 | S29: μPC加一 | U29: =_xlfn.CONCAT(DEC2BIN(E29), DEC2BIN(F29), DEC2BIN(G29), DEC2BIN(H29)) -> 0000 | V29: =_xlfn.CONCAT(DEC2BIN(IF(ISBLANK(I29), 0, MATCH(I29, 运算选择!$E$2:$E$9, 0) - 1), 3), DEC2BIN(IF(ISBLANK(J29), 0, MATCH(J29, 单列下拉值!$A$2:$A$3, 0) - 1), 1)) -> 0000 | W29: =_xlfn.CONCAT(DEC2BIN(IF(ISBLANK(K29), 0, MATCH(K29, A寄存器选择!$D$2:$D$5, 0) - 1), 2), DEC2BIN(IF(ISBLANK(L29), 0, MATCH(L29, B寄存器选择!$D$2:$D$5, 0) - 1), 2)) -> 0000 | X29: =_xlfn.CONCAT(DEC2BIN(IF(ISBLANK(M29), 0, MATCH(M29, 单列下拉值!$B$2:$B$3, 0) - 1)), DEC2BIN(IF(ISBLANK(N29), 0, MATCH(N29, 单列下拉值!$C$2:$C$3, 0) - 1)), DEC2BIN(IF(ISBLANK(O29), 0, MATCH(O29, ALU寄存器选择!$D$2:$D$5, 0) - 1), 2)) -> 0001 | Y29: =_xlfn.CONCAT(DEC2BIN(IF(ISBLANK(P29),0,MATCH(P29,单列下拉值!$D$2:$D$3,0)-1)), DEC2BIN(IF(ISBLANK(Q29), 0, MATCH(Q29, CP选择!$E$2:$E$9, 0) - 1), 3)) -> 0000 | Z29: =_xlfn.CONCAT(DEC2BIN(R29), DEC2BIN(IF(ISBLANK(S29), 0, MATCH(S29, 后继微地址形成!$E$2:$E$9, 0) - 1), 3)) -> 0001
B30: PLUS | C30: =DEC2HEX(ROW(C30)-3, 2) -> 1B | D30: =_xlfn.CONCAT(BIN2HEX(U30), BIN2HEX(V30), " ", BIN2HEX(W30), BIN2HEX(X30), " ", BIN2HEX(Y30), BIN2HEX(Z30)) -> 04 03 01 | I30: 无符号加 | O30: 存入Z和PSW | S30: μPC加一 | U30: =_xlfn.CONCAT(DEC2BIN(E30), DEC2BIN(F30), DEC2BIN(G30), DEC2BIN(H30)) -> 0000 | V30: =_xlfn.CONCAT(DEC2BIN(IF(ISBLANK(I30), 0, MATCH(I30, 运算选择!$E$2:$E$9, 0) - 1), 3), DEC2BIN(IF(ISBLANK(J30), 0, MATCH(J30, 单列下拉值!$A$2:$A$3, 0) - 1), 1)) -> 0100 | W30: =_xlfn.CONCAT(DEC2BIN(IF(ISBLANK(K30), 0, MATCH(K30, A寄存器选择!$D$2:$D$5, 0) - 1), 2), DEC2BIN(IF(ISBLANK(L30), 0, MATCH(L30, B寄存器选择!$D$2:$D$5, 0) - 1), 2)) -> 0000 | X30: =_xlfn.CONCAT(DEC2BIN(IF(ISBLANK(M30), 0, MATCH(M30, 单列下拉值!$B$2:$B$3, 0) - 1)), DEC2BIN(IF(ISBLANK(N30), 0, MATCH(N30, 单列下拉值!$C$2:$C$3, 0) - 1)), DEC2BIN(IF(ISBLANK(O30), 0, MATCH(O30, ALU寄存器选择!$D$2:$D$5, 0) - 1), 2)) -> 0011 | Y30: =_xlfn.CONCAT(DEC2BIN(IF(ISBLANK(P30),0,MATCH(P30,单列下拉值!$D$2:$D$3,0)-1)), DEC2BIN(IF(ISBLANK(Q30), 0, MATCH(Q30, CP选择!$E$2:$E$9, 0) - 1), 3)) -> 0000 | Z30: =_xlfn.CONCAT(DEC2BIN(R30), DEC2BIN(IF(ISBLANK(S30), 0, MATCH(S30, 后继微地址形成!$E$2:$E$9, 0) - 1), 3)) -> 0001
B31: Z->MDR | C31: =DEC2HEX(ROW(C31)-3, 2) -> 1C | D31: =_xlfn.CONCAT(BIN2HEX(U31), BIN2HEX(V31), " ", BIN2HEX(W31), BIN2HEX(X31), " ", BIN2HEX(Y31), BIN2HEX(Z31)) -> 01 00 51 | J31: 总线(Z)→MDR&MDR→内存 | Q31: CPMDR | S31: μPC加一 | U31: =_xlfn.CONCAT(DEC2BIN(E31), DEC2BIN(F31), DEC2BIN(G31), DEC2BIN(H31)) -> 0000 | V31: =_xlfn.CONCAT(DEC2BIN(IF(ISBLANK(I31), 0, MATCH(I31, 运算选择!$E$2:$E$9, 0) - 1), 3), DEC2BIN(IF(ISBLANK(J31), 0, MATCH(J31, 单列下拉值!$A$2:$A$3, 0) - 1), 1)) -> 0001 | W31: =_xlfn.CONCAT(DEC2BIN(IF(ISBLANK(K31), 0, MATCH(K31, A寄存器选择!$D$2:$D$5, 0) - 1), 2), DEC2BIN(IF(ISBLANK(L31), 0, MATCH(L31, B寄存器选择!$D$2:$D$5, 0) - 1), 2)) -> 0000 | X31: =_xlfn.CONCAT(DEC2BIN(IF(ISBLANK(M31), 0, MATCH(M31, 单列下拉值!$B$2:$B$3, 0) - 1)), DEC2BIN(IF(ISBLANK(N31), 0, MATCH(N31, 单列下拉值!$C$2:$C$3, 0) - 1)), DEC2BIN(IF(ISBLANK(O31), 0, MATCH(O31, ALU寄存器选择!$D$2:$D$5, 0) - 1), 2)) -> 0000 | Y31: =_xlfn.CONCAT(DEC2BIN(IF(ISBLANK(P31),0,MATCH(P31,单列下拉值!$D$2:$D$3,0)-1)), DEC2BIN(IF(ISBLANK(Q31), 0, MATCH(Q31, CP选择!$E$2:$E$9, 0) - 1), 3)) -> 0101 | Z31: =_xlfn.CONCAT(DEC2BIN(R31), DEC2BIN(IF(ISBLANK(S31), 0, MATCH(S31, 后继微地址形成!$E$2:$E$9, 0) - 1), 3)) -> 0001
B32: 1->W, MDR->MEM | C32: =DEC2HEX(ROW(C32)-3, 2) -> 1D | D32: =_xlfn.CONCAT(BIN2HEX(U32), BIN2HEX(V32), " ", BIN2HEX(W32), BIN2HEX(X32), " ", BIN2HEX(Y32), BIN2HEX(Z32)) -> 01 08 01 | J32: 总线(Z)→MDR&MDR→内存 | M32: 写 | S32: μPC加一 | U32: =_xlfn.CONCAT(DEC2BIN(E32), DEC2BIN(F32), DEC2BIN(G32), DEC2BIN(H32)) -> 0000 | V32: =_xlfn.CONCAT(DEC2BIN(IF(ISBLANK(I32), 0, MATCH(I32, 运算选择!$E$2:$E$9, 0) - 1), 3), DEC2BIN(IF(ISBLANK(J32), 0, MATCH(J32, 单列下拉值!$A$2:$A$3, 0) - 1), 1)) -> 0001 | W32: =_xlfn.CONCAT(DEC2BIN(IF(ISBLANK(K32), 0, MATCH(K32, A寄存器选择!$D$2:$D$5, 0) - 1), 2), DEC2BIN(IF(ISBLANK(L32), 0, MATCH(L32, B寄存器选择!$D$2:$D$5, 0) - 1), 2)) -> 0000 | X32: =_xlfn.CONCAT(DEC2BIN(IF(ISBLANK(M32), 0, MATCH(M32, 单列下拉值!$B$2:$B$3, 0) - 1)), DEC2BIN(IF(ISBLANK(N32), 0, MATCH(N32, 单列下拉值!$C$2:$C$3, 0) - 1)), DEC2BIN(IF(ISBLANK(O32), 0, MATCH(O32, ALU寄存器选择!$D$2:$D$5, 0) - 1), 2)) -> 1000 | Y32: =_xlfn.CONCAT(DEC2BIN(IF(ISBLANK(P32),0,MATCH(P32,单列下拉值!$D$2:$D$3,0)-1)), DEC2BIN(IF(ISBLANK(Q32), 0, MATCH(Q32, CP选择!$E$2:$E$9, 0) - 1), 3)) -> 0000 | Z32: =_xlfn.CONCAT(DEC2BIN(R32), DEC2BIN(IF(ISBLANK(S32), 0, MATCH(S32, 后继微地址形成!$E$2:$E$9, 0) - 1), 3)) -> 0001
B33: END | C33: =DEC2HEX(ROW(C33)-3, 2) -> 1E | D33: =_xlfn.CONCAT(BIN2HEX(U33), BIN2HEX(V33), " ", BIN2HEX(W33), BIN2HEX(X33), " ", BIN2HEX(Y33), BIN2HEX(Z33)) -> 00 00 02 | S33: 无条件跳转至00H | U33: =_xlfn.CONCAT(DEC2BIN(E33), DEC2BIN(F33), DEC2BIN(G33), DEC2BIN(H33)) -> 0000 | V33: =_xlfn.CONCAT(DEC2BIN(IF(ISBLANK(I33), 0, MATCH(I33, 运算选择!$E$2:$E$9, 0) - 1), 3), DEC2BIN(IF(ISBLANK(J33), 0, MATCH(J33, 单列下拉值!$A$2:$A$3, 0) - 1), 1)) -> 0000 | W33: =_xlfn.CONCAT(DEC2BIN(IF(ISBLANK(K33), 0, MATCH(K33, A寄存器选择!$D$2:$D$5, 0) - 1), 2), DEC2BIN(IF(ISBLANK(L33), 0, MATCH(L33, B寄存器选择!$D$2:$D$5, 0) - 1), 2)) -> 0000 | X33: =_xlfn.CONCAT(DEC2BIN(IF(ISBLANK(M33), 0, MATCH(M33, 单列下拉值!$B$2:$B$3, 0) - 1)), DEC2BIN(IF(ISBLANK(N33), 0, MATCH(N33, 单列下拉值!$C$2:$C$3, 0) - 1)), DEC2BIN(IF(ISBLANK(O33), 0, MATCH(O33, ALU寄存器选择!$D$2:$D$5, 0) - 1), 2)) -> 0000 | Y33: =_xlfn.CONCAT(DEC2BIN(IF(ISBLANK(P33),0,MATCH(P33,单列下拉值!$D$2:$D$3,0)-1)), DEC2BIN(IF(ISBLANK(Q33), 0, MATCH(Q33, CP选择!$E$2:$E$9, 0) - 1), 3)) -> 0000 | Z33: =_xlfn.CONCAT(DEC2BIN(R33), DEC2BIN(IF(ISBLANK(S33), 0, MATCH(S33, 后继微地址形成!$E$2:$E$9, 0) - 1), 3)) -> 0010
C34: =DEC2HEX(ROW(C34)-3, 2) -> 1F | D34: =_xlfn.CONCAT(BIN2HEX(U34), BIN2HEX(V34), " ", BIN2HEX(W34), BIN2HEX(X34), " ", BIN2HEX(Y34), BIN2HEX(Z34)) -> 00 00 00 | U34: =_xlfn.CONCAT(DEC2BIN(E34), DEC2BIN(F34), DEC2BIN(G34), DEC2BIN(H34)) -> 0000 | V34: =_xlfn.CONCAT(DEC2BIN(IF(ISBLANK(I34), 0, MATCH(I34, 运算选择!$E$2:$E$9, 0) - 1), 3), DEC2BIN(IF(ISBLANK(J34), 0, MATCH(J34, 单列下拉值!$A$2:$A$3, 0) - 1), 1)) -> 0000 | W34: =_xlfn.CONCAT(DEC2BIN(IF(ISBLANK(K34), 0, MATCH(K34, A寄存器选择!$D$2:$D$5, 0) - 1), 2), DEC2BIN(IF(ISBLANK(L34), 0, MATCH(L34, B寄存器选择!$D$2:$D$5, 0) - 1), 2)) -> 0000 | X34: =_xlfn.CONCAT(DEC2BIN(IF(ISBLANK(M34), 0, MATCH(M34, 单列下拉值!$B$2:$B$3, 0) - 1)), DEC2BIN(IF(ISBLANK(N34), 0, MATCH(N34, 单列下拉值!$C$2:$C$3, 0) - 1)), DEC2BIN(IF(ISBLANK(O34), 0, MATCH(O34, ALU寄存器选择!$D$2:$D$5, 0) - 1), 2)) -> 0000 | Y34: =_xlfn.CONCAT(DEC2BIN(IF(ISBLANK(P34),0,MATCH(P34,单列下拉值!$D$2:$D$3,0)-1)), DEC2BIN(IF(ISBLANK(Q34), 0, MATCH(Q34, CP选择!$E$2:$E$9, 0) - 1), 3)) -> 0000 | Z34: =_xlfn.CONCAT(DEC2BIN(R34), DEC2BIN(IF(ISBLANK(S34), 0, MATCH(S34, 后继微地址形成!$E$2:$E$9, 0) - 1), 3)) -> 0000
A35: LD Ri, AD | B35: PC->B | C35: =DEC2HEX(ROW(C35)-3, 2) -> 20 | D35: =_xlfn.CONCAT(BIN2HEX(U35), BIN2HEX(V35), " ", BIN2HEX(W35), BIN2HEX(X35), " ", BIN2HEX(Y35), BIN2HEX(Z35)) -> 00 12 01 | L35: B选PC | O35: 存入B寄存器 | S35: μPC加一 | U35: =_xlfn.CONCAT(DEC2BIN(E35), DEC2BIN(F35), DEC2BIN(G35), DEC2BIN(H35)) -> 0000 | V35: =_xlfn.CONCAT(DEC2BIN(IF(ISBLANK(I35), 0, MATCH(I35, 运算选择!$E$2:$E$9, 0) - 1), 3), DEC2BIN(IF(ISBLANK(J35), 0, MATCH(J35, 单列下拉值!$A$2:$A$3, 0) - 1), 1)) -> 0000 | W35: =_xlfn.CONCAT(DEC2BIN(IF(ISBLANK(K35), 0, MATCH(K35, A寄存器选择!$D$2:$D$5, 0) - 1), 2), DEC2BIN(IF(ISBLANK(L35), 0, MATCH(L35, B寄存器选择!$D$2:$D$5, 0) - 1), 2)) -> 0001 | X35: =_xlfn.CONCAT(DEC2BIN(IF(ISBLANK(M35), 0, MATCH(M35, 单列下拉值!$B$2:$B$3, 0) - 1)), DEC2BIN(IF(ISBLANK(N35), 0, MATCH(N35, 单列下拉值!$C$2:$C$3, 0) - 1)), DEC2BIN(IF(ISBLANK(O35), 0, MATCH(O35, ALU寄存器选择!$D$2:$D$5, 0) - 1), 2)) -> 0010 | Y35: =_xlfn.CONCAT(DEC2BIN(IF(ISBLANK(P35),0,MATCH(P35,单列下拉值!$D$2:$D$3,0)-1)), DEC2BIN(IF(ISBLANK(Q35), 0, MATCH(Q35, CP选择!$E$2:$E$9, 0) - 1), 3)) -> 0000 | Z35: =_xlfn.CONCAT(DEC2BIN(R35), DEC2BIN(IF(ISBLANK(S35), 0, MATCH(S35, 后继微地址形成!$E$2:$E$9, 0) - 1), 3)) -> 0001
B36: 0->A | C36: =DEC2HEX(ROW(C36)-3, 2) -> 21 | D36: =_xlfn.CONCAT(BIN2HEX(U36), BIN2HEX(V36), " ", BIN2HEX(W36), BIN2HEX(X36), " ", BIN2HEX(Y36), BIN2HEX(Z36)) -> 00 01 A1 | K36: A置0 | O36: 存入A寄存器 | P36: 加一 | Q36: CPPC | S36: μPC加一 | U36: =_xlfn.CONCAT(DEC2BIN(E36), DEC2BIN(F36), DEC2BIN(G36), DEC2BIN(H36)) -> 0000 | V36: =_xlfn.CONCAT(DEC2BIN(IF(ISBLANK(I36), 0, MATCH(I36, 运算选择!$E$2:$E$9, 0) - 1), 3), DEC2BIN(IF(ISBLANK(J36), 0, MATCH(J36, 单列下拉值!$A$2:$A$3, 0) - 1), 1)) -> 0000 | W36: =_xlfn.CONCAT(DEC2BIN(IF(ISBLANK(K36), 0, MATCH(K36, A寄存器选择!$D$2:$D$5, 0) - 1), 2), DEC2BIN(IF(ISBLANK(L36), 0, MATCH(L36, B寄存器选择!$D$2:$D$5, 0) - 1), 2)) -> 0000 | X36: =_xlfn.CONCAT(DEC2BIN(IF(ISBLANK(M36), 0, MATCH(M36, 单列下拉值!$B$2:$B$3, 0) - 1)), DEC2BIN(IF(ISBLANK(N36), 0, MATCH(N36, 单列下拉值!$C$2:$C$3, 0) - 1)), DEC2BIN(IF(ISBLANK(O36), 0, MATCH(O36, ALU寄存器选择!$D$2:$D$5, 0) - 1), 2)) -> 0001 | Y36: =_xlfn.CONCAT(DEC2BIN(IF(ISBLANK(P36),0,MATCH(P36,单列下拉值!$D$2:$D$3,0)-1)), DEC2BIN(IF(ISBLANK(Q36), 0, MATCH(Q36, CP选择!$E$2:$E$9, 0) - 1), 3)) -> 1010 | Z36: =_xlfn.CONCAT(DEC2BIN(R36), DEC2BIN(IF(ISBLANK(S36), 0, MATCH(S36, 后继微地址形成!$E$2:$E$9, 0) - 1), 3)) -> 0001
B37: PLUS | C37: =DEC2HEX(ROW(C37)-3, 2) -> 22 | D37: =_xlfn.CONCAT(BIN2HEX(U37), BIN2HEX(V37), " ", BIN2HEX(W37), BIN2HEX(X37), " ", BIN2HEX(Y37), BIN2HEX(Z37)) -> 04 03 01 | I37: 无符号加 | O37: 存入Z和PSW | S37: μPC加一 | U37: =_xlfn.CONCAT(DEC2BIN(E37), DEC2BIN(F37), DEC2BIN(G37), DEC2BIN(H37)) -> 0000 | V37: =_xlfn.CONCAT(DEC2BIN(IF(ISBLANK(I37), 0, MATCH(I37, 运算选择!$E$2:$E$9, 0) - 1), 3), DEC2BIN(IF(ISBLANK(J37), 0, MATCH(J37, 单列下拉值!$A$2:$A$3, 0) - 1), 1)) -> 0100 | W37: =_xlfn.CONCAT(DEC2BIN(IF(ISBLANK(K37), 0, MATCH(K37, A寄存器选择!$D$2:$D$5, 0) - 1), 2), DEC2BIN(IF(ISBLANK(L37), 0, MATCH(L37, B寄存器选择!$D$2:$D$5, 0) - 1), 2)) -> 0000 | X37: =_xlfn.CONCAT(DEC2BIN(IF(ISBLANK(M37), 0, MATCH(M37, 单列下拉值!$B$2:$B$3, 0) - 1)), DEC2BIN(IF(ISBLANK(N37), 0, MATCH(N37, 单列下拉值!$C$2:$C$3, 0) - 1)), DEC2BIN(IF(ISBLANK(O37), 0, MATCH(O37, ALU寄存器选择!$D$2:$D$5, 0) - 1), 2)) -> 0011 | Y37: =_xlfn.CONCAT(DEC2BIN(IF(ISBLANK(P37),0,MATCH(P37,单列下拉值!$D$2:$D$3,0)-1)), DEC2BIN(IF(ISBLANK(Q37), 0, MATCH(Q37, CP选择!$E$2:$E$9, 0) - 1), 3)) -> 0000 | Z37: =_xlfn.CONCAT(DEC2BIN(R37), DEC2BIN(IF(ISBLANK(S37), 0, MATCH(S37, 后继微地址形成!$E$2:$E$9, 0) - 1), 3)) -> 0001
B38: Z->MAR | C38: =DEC2HEX(ROW(C38)-3, 2) -> 23 | D38: =_xlfn.CONCAT(BIN2HEX(U38), BIN2HEX(V38), " ", BIN2HEX(W38), BIN2HEX(X38), " ", BIN2HEX(Y38), BIN2HEX(Z38)) -> 00 00 41 | Q38: CPMAR | S38: μPC加一 | U38: =_xlfn.CONCAT(DEC2BIN(E38), DEC2BIN(F38), DEC2BIN(G38), DEC2BIN(H38)) -> 0000 | V38: =_xlfn.CONCAT(DEC2BIN(IF(ISBLANK(I38), 0, MATCH(I38, 运算选择!$E$2:$E$9, 0) - 1), 3), DEC2BIN(IF(ISBLANK(J38), 0, MATCH(J38, 单列下拉值!$A$2:$A$3, 0) - 1), 1)) -> 0000 | W38: =_xlfn.CONCAT(DEC2BIN(IF(ISBLANK(K38), 0, MATCH(K38, A寄存器选择!$D$2:$D$5, 0) - 1), 2), DEC2BIN(IF(ISBLANK(L38), 0, MATCH(L38, B寄存器选择!$D$2:$D$5, 0) - 1), 2)) -> 0000 | X38: =_xlfn.CONCAT(DEC2BIN(IF(ISBLANK(M38), 0, MATCH(M38, 单列下拉值!$B$2:$B$3, 0) - 1)), DEC2BIN(IF(ISBLANK(N38), 0, MATCH(N38, 单列下拉值!$C$2:$C$3, 0) - 1)), DEC2BIN(IF(ISBLANK(O38), 0, MATCH(O38, ALU寄存器选择!$D$2:$D$5, 0) - 1), 2)) -> 0000 | Y38: =_xlfn.CONCAT(DEC2BIN(IF(ISBLANK(P38),0,MATCH(P38,单列下拉值!$D$2:$D$3,0)-1)), DEC2BIN(IF(ISBLANK(Q38), 0, MATCH(Q38, CP选择!$E$2:$E$9, 0) - 1), 3)) -> 0100 | Z38: =_xlfn.CONCAT(DEC2BIN(R38), DEC2BIN(IF(ISBLANK(S38), 0, MATCH(S38, 后继微地址形成!$E$2:$E$9, 0) - 1), 3)) -> 0001
B39: 1->R, MEM->MDR | C39: =DEC2HEX(ROW(C39)-3, 2) -> 24 | D39: =_xlfn.CONCAT(BIN2HEX(U39), BIN2HEX(V39), " ", BIN2HEX(W39), BIN2HEX(X39), " ", BIN2HEX(Y39), BIN2HEX(Z39)) -> 00 04 51 | J39: 内存→MDR | N39: 读 | Q39: CPMDR | S39: μPC加一 | U39: =_xlfn.CONCAT(DEC2BIN(E39), DEC2BIN(F39), DEC2BIN(G39), DEC2BIN(H39)) -> 0000 | V39: =_xlfn.CONCAT(DEC2BIN(IF(ISBLANK(I39), 0, MATCH(I39, 运算选择!$E$2:$E$9, 0) - 1), 3), DEC2BIN(IF(ISBLANK(J39), 0, MATCH(J39, 单列下拉值!$A$2:$A$3, 0) - 1), 1)) -> 0000 | W39: =_xlfn.CONCAT(DEC2BIN(IF(ISBLANK(K39), 0, MATCH(K39, A寄存器选择!$D$2:$D$5, 0) - 1), 2), DEC2BIN(IF(ISBLANK(L39), 0, MATCH(L39, B寄存器选择!$D$2:$D$5, 0) - 1), 2)) -> 0000 | X39: =_xlfn.CONCAT(DEC2BIN(IF(ISBLANK(M39), 0, MATCH(M39, 单列下拉值!$B$2:$B$3, 0) - 1)), DEC2BIN(IF(ISBLANK(N39), 0, MATCH(N39, 单列下拉值!$C$2:$C$3, 0) - 1)), DEC2BIN(IF(ISBLANK(O39), 0, MATCH(O39, ALU寄存器选择!$D$2:$D$5, 0) - 1), 2)) -> 0100 | Y39: =_xlfn.CONCAT(DEC2BIN(IF(ISBLANK(P39),0,MATCH(P39,单列下拉值!$D$2:$D$3,0)-1)), DEC2BIN(IF(ISBLANK(Q39), 0, MATCH(Q39, CP选择!$E$2:$E$9, 0) - 1), 3)) -> 0101 | Z39: =_xlfn.CONCAT(DEC2BIN(R39), DEC2BIN(IF(ISBLANK(S39), 0, MATCH(S39, 后继微地址形成!$E$2:$E$9, 0) - 1), 3)) -> 0001
B40: MDR->A | C40: =DEC2HEX(ROW(C40)-3, 2) -> 25 | D40: =_xlfn.CONCAT(BIN2HEX(U40), BIN2HEX(V40), " ", BIN2HEX(W40), BIN2HEX(X40), " ", BIN2HEX(Y40), BIN2HEX(Z40)) -> 00 41 01 | K40: A选MDR | O40: 存入A寄存器 | S40: μPC加一 | U40: =_xlfn.CONCAT(DEC2BIN(E40), DEC2BIN(F40), DEC2BIN(G40), DEC2BIN(H40)) -> 0000 | V40: =_xlfn.CONCAT(DEC2BIN(IF(ISBLANK(I40), 0, MATCH(I40, 运算选择!$E$2:$E$9, 0) - 1), 3), DEC2BIN(IF(ISBLANK(J40), 0, MATCH(J40, 单列下拉值!$A$2:$A$3, 0) - 1), 1)) -> 0000 | W40: =_xlfn.CONCAT(DEC2BIN(IF(ISBLANK(K40), 0, MATCH(K40, A寄存器选择!$D$2:$D$5, 0) - 1), 2), DEC2BIN(IF(ISBLANK(L40), 0, MATCH(L40, B寄存器选择!$D$2:$D$5, 0) - 1), 2)) -> 0100 | X40: =_xlfn.CONCAT(DEC2BIN(IF(ISBLANK(M40), 0, MATCH(M40, 单列下拉值!$B$2:$B$3, 0) - 1)), DEC2BIN(IF(ISBLANK(N40), 0, MATCH(N40, 单列下拉值!$C$2:$C$3, 0) - 1)), DEC2BIN(IF(ISBLANK(O40), 0, MATCH(O40, ALU寄存器选择!$D$2:$D$5, 0) - 1), 2)) -> 0001 | Y40: =_xlfn.CONCAT(DEC2BIN(IF(ISBLANK(P40),0,MATCH(P40,单列下拉值!$D$2:$D$3,0)-1)), DEC2BIN(IF(ISBLANK(Q40), 0, MATCH(Q40, CP选择!$E$2:$E$9, 0) - 1), 3)) -> 0000 | Z40: =_xlfn.CONCAT(DEC2BIN(R40), DEC2BIN(IF(ISBLANK(S40), 0, MATCH(S40, 后继微地址形成!$E$2:$E$9, 0) - 1), 3)) -> 0001
B41: 0->B | C41: =DEC2HEX(ROW(C41)-3, 2) -> 26 | D41: =_xlfn.CONCAT(BIN2HEX(U41), BIN2HEX(V41), " ", BIN2HEX(W41), BIN2HEX(X41), " ", BIN2HEX(Y41), BIN2HEX(Z41)) -> 00 02 01 | L41: B置0 | O41: 存入B寄存器 | S41: μPC加一 | U41: =_xlfn.CONCAT(DEC2BIN(E41), DEC2BIN(F41), DEC2BIN(G41), DEC2BIN(H41)) -> 0000 | V41: =_xlfn.CONCAT(DEC2BIN(IF(ISBLANK(I41), 0, MATCH(I41, 运算选择!$E$2:$E$9, 0) - 1), 3), DEC2BIN(IF(ISBLANK(J41), 0, MATCH(J41, 单列下拉值!$A$2:$A$3, 0) - 1), 1)) -> 0000 | W41: =_xlfn.CONCAT(DEC2BIN(IF(ISBLANK(K41), 0, MATCH(K41, A寄存器选择!$D$2:$D$5, 0) - 1), 2), DEC2BIN(IF(ISBLANK(L41), 0, MATCH(L41, B寄存器选择!$D$2:$D$5, 0) - 1), 2)) -> 0000 | X41: =_xlfn.CONCAT(DEC2BIN(IF(ISBLANK(M41), 0, MATCH(M41, 单列下拉值!$B$2:$B$3, 0) - 1)), DEC2BIN(IF(ISBLANK(N41), 0, MATCH(N41, 单列下拉值!$C$2:$C$3, 0) - 1)), DEC2BIN(IF(ISBLANK(O41), 0, MATCH(O41, ALU寄存器选择!$D$2:$D$5, 0) - 1), 2)) -> 0010 | Y41: =_xlfn.CONCAT(DEC2BIN(IF(ISBLANK(P41),0,MATCH(P41,单列下拉值!$D$2:$D$3,0)-1)), DEC2BIN(IF(ISBLANK(Q41), 0, MATCH(Q41, CP选择!$E$2:$E$9, 0) - 1), 3)) -> 0000 | Z41: =_xlfn.CONCAT(DEC2BIN(R41), DEC2BIN(IF(ISBLANK(S41), 0, MATCH(S41, 后继微地址形成!$E$2:$E$9, 0) - 1), 3)) -> 0001
B42: PLUS | C42: =DEC2HEX(ROW(C42)-3, 2) -> 27 | D42: =_xlfn.CONCAT(BIN2HEX(U42), BIN2HEX(V42), " ", BIN2HEX(W42), BIN2HEX(X42), " ", BIN2HEX(Y42), BIN2HEX(Z42)) -> 04 03 01 | I42: 无符号加 | O42: 存入Z和PSW | S42: μPC加一 | U42: =_xlfn.CONCAT(DEC2BIN(E42), DEC2BIN(F42), DEC2BIN(G42), DEC2BIN(H42)) -> 0000 | V42: =_xlfn.CONCAT(DEC2BIN(IF(ISBLANK(I42), 0, MATCH(I42, 运算选择!$E$2:$E$9, 0) - 1), 3), DEC2BIN(IF(ISBLANK(J42), 0, MATCH(J42, 单列下拉值!$A$2:$A$3, 0) - 1), 1)) -> 0100 | W42: =_xlfn.CONCAT(DEC2BIN(IF(ISBLANK(K42), 0, MATCH(K42, A寄存器选择!$D$2:$D$5, 0) - 1), 2), DEC2BIN(IF(ISBLANK(L42), 0, MATCH(L42, B寄存器选择!$D$2:$D$5, 0) - 1), 2)) -> 0000 | X42: =_xlfn.CONCAT(DEC2BIN(IF(ISBLANK(M42), 0, MATCH(M42, 单列下拉值!$B$2:$B$3, 0) - 1)), DEC2BIN(IF(ISBLANK(N42), 0, MATCH(N42, 单列下拉值!$C$2:$C$3, 0) - 1)), DEC2BIN(IF(ISBLANK(O42), 0, MATCH(O42, ALU寄存器选择!$D$2:$D$5, 0) - 1), 2)) -> 0011 | Y42: =_xlfn.CONCAT(DEC2BIN(IF(ISBLANK(P42),0,MATCH(P42,单列下拉值!$D$2:$D$3,0)-1)), DEC2BIN(IF(ISBLANK(Q42), 0, MATCH(Q42, CP选择!$E$2:$E$9, 0) - 1), 3)) -> 0000 | Z42: =_xlfn.CONCAT(DEC2BIN(R42), DEC2BIN(IF(ISBLANK(S42), 0, MATCH(S42, 后继微地址形成!$E$2:$E$9, 0) - 1), 3)) -> 0001
B43: Z->MAR | C43: =DEC2HEX(ROW(C43)-3, 2) -> 28 | D43: =_xlfn.CONCAT(BIN2HEX(U43), BIN2HEX(V43), " ", BIN2HEX(W43), BIN2HEX(X43), " ", BIN2HEX(Y43), BIN2HEX(Z43)) -> 00 00 41 | Q43: CPMAR | S43: μPC加一 | U43: =_xlfn.CONCAT(DEC2BIN(E43), DEC2BIN(F43), DEC2BIN(G43), DEC2BIN(H43)) -> 0000 | V43: =_xlfn.CONCAT(DEC2BIN(IF(ISBLANK(I43), 0, MATCH(I43, 运算选择!$E$2:$E$9, 0) - 1), 3), DEC2BIN(IF(ISBLANK(J43), 0, MATCH(J43, 单列下拉值!$A$2:$A$3, 0) - 1), 1)) -> 0000 | W43: =_xlfn.CONCAT(DEC2BIN(IF(ISBLANK(K43), 0, MATCH(K43, A寄存器选择!$D$2:$D$5, 0) - 1), 2), DEC2BIN(IF(ISBLANK(L43), 0, MATCH(L43, B寄存器选择!$D$2:$D$5, 0) - 1), 2)) -> 0000 | X43: =_xlfn.CONCAT(DEC2BIN(IF(ISBLANK(M43), 0, MATCH(M43, 单列下拉值!$B$2:$B$3, 0) - 1)), DEC2BIN(IF(ISBLANK(N43), 0, MATCH(N43, 单列下拉值!$C$2:$C$3, 0) - 1)), DEC2BIN(IF(ISBLANK(O43), 0, MATCH(O43, ALU寄存器选择!$D$2:$D$5, 0) - 1), 2)) -> 0000 | Y43: =_xlfn.CONCAT(DEC2BIN(IF(ISBLANK(P43),0,MATCH(P43,单列下拉值!$D$2:$D$3,0)-1)), DEC2BIN(IF(ISBLANK(Q43), 0, MATCH(Q43, CP选择!$E$2:$E$9, 0) - 1), 3)) -> 0100 | Z43: =_xlfn.CONCAT(DEC2BIN(R43), DEC2BIN(IF(ISBLANK(S43), 0, MATCH(S43, 后继微地址形成!$E$2:$E$9, 0) - 1), 3)) -> 0001
B44: 1->R, MEM->MDR | C44: =DEC2HEX(ROW(C44)-3, 2) -> 29 | D44: =_xlfn.CONCAT(BIN2HEX(U44), BIN2HEX(V44), " ", BIN2HEX(W44), BIN2HEX(X44), " ", BIN2HEX(Y44), BIN2HEX(Z44)) -> 00 04 51 | J44: 内存→MDR | N44: 读 | Q44: CPMDR | S44: μPC加一 | U44: =_xlfn.CONCAT(DEC2BIN(E44), DEC2BIN(F44), DEC2BIN(G44), DEC2BIN(H44)) -> 0000 | V44: =_xlfn.CONCAT(DEC2BIN(IF(ISBLANK(I44), 0, MATCH(I44, 运算选择!$E$2:$E$9, 0) - 1), 3), DEC2BIN(IF(ISBLANK(J44), 0, MATCH(J44, 单列下拉值!$A$2:$A$3, 0) - 1), 1)) -> 0000 | W44: =_xlfn.CONCAT(DEC2BIN(IF(ISBLANK(K44), 0, MATCH(K44, A寄存器选择!$D$2:$D$5, 0) - 1), 2), DEC2BIN(IF(ISBLANK(L44), 0, MATCH(L44, B寄存器选择!$D$2:$D$5, 0) - 1), 2)) -> 0000 | X44: =_xlfn.CONCAT(DEC2BIN(IF(ISBLANK(M44), 0, MATCH(M44, 单列下拉值!$B$2:$B$3, 0) - 1)), DEC2BIN(IF(ISBLANK(N44), 0, MATCH(N44, 单列下拉值!$C$2:$C$3, 0) - 1)), DEC2BIN(IF(ISBLANK(O44), 0, MATCH(O44, ALU寄存器选择!$D$2:$D$5, 0) - 1), 2)) -> 0100 | Y44: =_xlfn.CONCAT(DEC2BIN(IF(ISBLANK(P44),0,MATCH(P44,单列下拉值!$D$2:$D$3,0)-1)), DEC2BIN(IF(ISBLANK(Q44), 0, MATCH(Q44, CP选择!$E$2:$E$9, 0) - 1), 3)) -> 0101 | Z44: =_xlfn.CONCAT(DEC2BIN(R44), DEC2BIN(IF(ISBLANK(S44), 0, MATCH(S44, 后继微地址形成!$E$2:$E$9, 0) - 1), 3)) -> 0001
B45: MDR->A | C45: =DEC2HEX(ROW(C45)-3, 2) -> 2A | D45: =_xlfn.CONCAT(BIN2HEX(U45), BIN2HEX(V45), " ", BIN2HEX(W45), BIN2HEX(X45), " ", BIN2HEX(Y45), BIN2HEX(Z45)) -> 00 41 01 | K45: A选MDR | O45: 存入A寄存器 | S45: μPC加一 | U45: =_xlfn.CONCAT(DEC2BIN(E45), DEC2BIN(F45), DEC2BIN(G45), DEC2BIN(H45)) -> 0000 | V45: =_xlfn.CONCAT(DEC2BIN(IF(ISBLANK(I45), 0, MATCH(I45, 运算选择!$E$2:$E$9, 0) - 1), 3), DEC2BIN(IF(ISBLANK(J45), 0, MATCH(J45, 单列下拉值!$A$2:$A$3, 0) - 1), 1)) -> 0000 | W45: =_xlfn.CONCAT(DEC2BIN(IF(ISBLANK(K45), 0, MATCH(K45, A寄存器选择!$D$2:$D$5, 0) - 1), 2), DEC2BIN(IF(ISBLANK(L45), 0, MATCH(L45, B寄存器选择!$D$2:$D$5, 0) - 1), 2)) -> 0100 | X45: =_xlfn.CONCAT(DEC2BIN(IF(ISBLANK(M45), 0, MATCH(M45, 单列下拉值!$B$2:$B$3, 0) - 1)), DEC2BIN(IF(ISBLANK(N45), 0, MATCH(N45, 单列下拉值!$C$2:$C$3, 0) - 1)), DEC2BIN(IF(ISBLANK(O45), 0, MATCH(O45, ALU寄存器选择!$D$2:$D$5, 0) - 1), 2)) -> 0001 | Y45: =_xlfn.CONCAT(DEC2BIN(IF(ISBLANK(P45),0,MATCH(P45,单列下拉值!$D$2:$D$3,0)-1)), DEC2BIN(IF(ISBLANK(Q45), 0, MATCH(Q45, CP选择!$E$2:$E$9, 0) - 1), 3)) -> 0000 | Z45: =_xlfn.CONCAT(DEC2BIN(R45), DEC2BIN(IF(ISBLANK(S45), 0, MATCH(S45, 后继微地址形成!$E$2:$E$9, 0) - 1), 3)) -> 0001
B46: 0->B | C46: =DEC2HEX(ROW(C46)-3, 2) -> 2B | D46: =_xlfn.CONCAT(BIN2HEX(U46), BIN2HEX(V46), " ", BIN2HEX(W46), BIN2HEX(X46), " ", BIN2HEX(Y46), BIN2HEX(Z46)) -> 00 02 01 | L46: B置0 | O46: 存入B寄存器 | S46: μPC加一 | U46: =_xlfn.CONCAT(DEC2BIN(E46), DEC2BIN(F46), DEC2BIN(G46), DEC2BIN(H46)) -> 0000 | V46: =_xlfn.CONCAT(DEC2BIN(IF(ISBLANK(I46), 0, MATCH(I46, 运算选择!$E$2:$E$9, 0) - 1), 3), DEC2BIN(IF(ISBLANK(J46), 0, MATCH(J46, 单列下拉值!$A$2:$A$3, 0) - 1), 1)) -> 0000 | W46: =_xlfn.CONCAT(DEC2BIN(IF(ISBLANK(K46), 0, MATCH(K46, A寄存器选择!$D$2:$D$5, 0) - 1), 2), DEC2BIN(IF(ISBLANK(L46), 0, MATCH(L46, B寄存器选择!$D$2:$D$5, 0) - 1), 2)) -> 0000 | X46: =_xlfn.CONCAT(DEC2BIN(IF(ISBLANK(M46), 0, MATCH(M46, 单列下拉值!$B$2:$B$3, 0) - 1)), DEC2BIN(IF(ISBLANK(N46), 0, MATCH(N46, 单列下拉值!$C$2:$C$3, 0) - 1)), DEC2BIN(IF(ISBLANK(O46), 0, MATCH(O46, ALU寄存器选择!$D$2:$D$5, 0) - 1), 2)) -> 0010 | Y46: =_xlfn.CONCAT(DEC2BIN(IF(ISBLANK(P46),0,MATCH(P46,单列下拉值!$D$2:$D$3,0)-1)), DEC2BIN(IF(ISBLANK(Q46), 0, MATCH(Q46, CP选择!$E$2:$E$9, 0) - 1), 3)) -> 0000 | Z46: =_xlfn.CONCAT(DEC2BIN(R46), DEC2BIN(IF(ISBLANK(S46), 0, MATCH(S46, 后继微地址形成!$E$2:$E$9, 0) - 1), 3)) -> 0001
B47: PLUS | C47: =DEC2HEX(ROW(C47)-3, 2) -> 2C | D47: =_xlfn.CONCAT(BIN2HEX(U47), BIN2HEX(V47), " ", BIN2HEX(W47), BIN2HEX(X47), " ", BIN2HEX(Y47), BIN2HEX(Z47)) -> 04 03 01 | I47: 无符号加 | O47: 存入Z和PSW | S47: μPC加一 | U47: =_xlfn.CONCAT(DEC2BIN(E47), DEC2BIN(F47), DEC2BIN(G47), DEC2BIN(H47)) -> 0000 | V47: =_xlfn.CONCAT(DEC2BIN(IF(ISBLANK(I47), 0, MATCH(I47, 运算选择!$E$2:$E$9, 0) - 1), 3), DEC2BIN(IF(ISBLANK(J47), 0, MATCH(J47, 单列下拉值!$A$2:$A$3, 0) - 1), 1)) -> 0100 | W47: =_xlfn.CONCAT(DEC2BIN(IF(ISBLANK(K47), 0, MATCH(K47, A寄存器选择!$D$2:$D$5, 0) - 1), 2), DEC2BIN(IF(ISBLANK(L47), 0, MATCH(L47, B寄存器选择!$D$2:$D$5, 0) - 1), 2)) -> 0000 | X47: =_xlfn.CONCAT(DEC2BIN(IF(ISBLANK(M47), 0, MATCH(M47, 单列下拉值!$B$2:$B$3, 0) - 1)), DEC2BIN(IF(ISBLANK(N47), 0, MATCH(N47, 单列下拉值!$C$2:$C$3, 0) - 1)), DEC2BIN(IF(ISBLANK(O47), 0, MATCH(O47, ALU寄存器选择!$D$2:$D$5, 0) - 1), 2)) -> 0011 | Y47: =_xlfn.CONCAT(DEC2BIN(IF(ISBLANK(P47),0,MATCH(P47,单列下拉值!$D$2:$D$3,0)-1)), DEC2BIN(IF(ISBLANK(Q47), 0, MATCH(Q47, CP选择!$E$2:$E$9, 0) - 1), 3)) -> 0000 | Z47: =_xlfn.CONCAT(DEC2BIN(R47), DEC2BIN(IF(ISBLANK(S47), 0, MATCH(S47, 后继微地址形成!$E$2:$E$9, 0) - 1), 3)) -> 0001
B48: Z->Rx | C48: =DEC2HEX(ROW(C48)-3, 2) -> 2D | D48: =_xlfn.CONCAT(BIN2HEX(U48), BIN2HEX(V48), " ", BIN2HEX(W48), BIN2HEX(X48), " ", BIN2HEX(Y48), BIN2HEX(Z48)) -> 00 00 11 | Q48: CP4Reg | S48: μPC加一 | U48: =_xlfn.CONCAT(DEC2BIN(E48), DEC2BIN(F48), DEC2BIN(G48), DEC2BIN(H48)) -> 0000 | V48: =_xlfn.CONCAT(DEC2BIN(IF(ISBLANK(I48), 0, MATCH(I48, 运算选择!$E$2:$E$9, 0) - 1), 3), DEC2BIN(IF(ISBLANK(J48), 0, MATCH(J48, 单列下拉值!$A$2:$A$3, 0) - 1), 1)) -> 0000 | W48: =_xlfn.CONCAT(DEC2BIN(IF(ISBLANK(K48), 0, MATCH(K48, A寄存器选择!$D$2:$D$5, 0) - 1), 2), DEC2BIN(IF(ISBLANK(L48), 0, MATCH(L48, B寄存器选择!$D$2:$D$5, 0) - 1), 2)) -> 0000 | X48: =_xlfn.CONCAT(DEC2BIN(IF(ISBLANK(M48), 0, MATCH(M48, 单列下拉值!$B$2:$B$3, 0) - 1)), DEC2BIN(IF(ISBLANK(N48), 0, MATCH(N48, 单列下拉值!$C$2:$C$3, 0) - 1)), DEC2BIN(IF(ISBLANK(O48), 0, MATCH(O48, ALU寄存器选择!$D$2:$D$5, 0) - 1), 2)) -> 0000 | Y48: =_xlfn.CONCAT(DEC2BIN(IF(ISBLANK(P48),0,MATCH(P48,单列下拉值!$D$2:$D$3,0)-1)), DEC2BIN(IF(ISBLANK(Q48), 0, MATCH(Q48, CP选择!$E$2:$E$9, 0) - 1), 3)) -> 0001 | Z48: =_xlfn.CONCAT(DEC2BIN(R48), DEC2BIN(IF(ISBLANK(S48), 0, MATCH(S48, 后继微地址形成!$E$2:$E$9, 0) - 1), 3)) -> 0001
B49: END | C49: =DEC2HEX(ROW(C49)-3, 2) -> 2E | D49: =_xlfn.CONCAT(BIN2HEX(U49), BIN2HEX(V49), " ", BIN2HEX(W49), BIN2HEX(X49), " ", BIN2HEX(Y49), BIN2HEX(Z49)) -> 00 00 02 | S49: 无条件跳转至00H | U49: =_xlfn.CONCAT(DEC2BIN(E49), DEC2BIN(F49), DEC2BIN(G49), DEC2BIN(H49)) -> 0000 | V49: =_xlfn.CONCAT(DEC2BIN(IF(ISBLANK(I49), 0, MATCH(I49, 运算选择!$E$2:$E$9, 0) - 1), 3), DEC2BIN(IF(ISBLANK(J49), 0, MATCH(J49, 单列下拉值!$A$2:$A$3, 0) - 1), 1)) -> 0000 | W49: =_xlfn.CONCAT(DEC2BIN(IF(ISBLANK(K49), 0, MATCH(K49, A寄存器选择!$D$2:$D$5, 0) - 1), 2), DEC2BIN(IF(ISBLANK(L49), 0, MATCH(L49, B寄存器选择!$D$2:$D$5, 0) - 1), 2)) -> 0000 | X49: =_xlfn.CONCAT(DEC2BIN(IF(ISBLANK(M49), 0, MATCH(M49, 单列下拉值!$B$2:$B$3, 0) - 1)), DEC2BIN(IF(ISBLANK(N49), 0, MATCH(N49, 单列下拉值!$C$2:$C$3, 0) - 1)), DEC2BIN(IF(ISBLANK(O49), 0, MATCH(O49, ALU寄存器选择!$D$2:$D$5, 0) - 1), 2)) -> 0000 | Y49: =_xlfn.CONCAT(DEC2BIN(IF(ISBLANK(P49),0,MATCH(P49,单列下拉值!$D$2:$D$3,0)-1)), DEC2BIN(IF(ISBLANK(Q49), 0, MATCH(Q49, CP选择!$E$2:$E$9, 0) - 1), 3)) -> 0000 | Z49: =_xlfn.CONCAT(DEC2BIN(R49), DEC2BIN(IF(ISBLANK(S49), 0, MATCH(S49, 后继微地址形成!$E$2:$E$9, 0) - 1), 3)) -> 0010
C50: =DEC2HEX(ROW(C50)-3, 2) -> 2F | D50: =_xlfn.CONCAT(BIN2HEX(U50), BIN2HEX(V50), " ", BIN2HEX(W50), BIN2HEX(X50), " ", BIN2HEX(Y50), BIN2HEX(Z50)) -> 00 00 00 | U50: =_xlfn.CONCAT(DEC2BIN(E50), DEC2BIN(F50), DEC2BIN(G50), DEC2BIN(H50)) -> 0000 | V50: =_xlfn.CONCAT(DEC2BIN(IF(ISBLANK(I50), 0, MATCH(I50, 运算选择!$E$2:$E$9, 0) - 1), 3), DEC2BIN(IF(ISBLANK(J50), 0, MATCH(J50, 单列下拉值!$A$2:$A$3, 0) - 1), 1)) -> 0000 | W50: =_xlfn.CONCAT(DEC2BIN(IF(ISBLANK(K50), 0, MATCH(K50, A寄存器选择!$D$2:$D$5, 0) - 1), 2), DEC2BIN(IF(ISBLANK(L50), 0, MATCH(L50, B寄存器选择!$D$2:$D$5, 0) - 1), 2)) -> 0000 | X50: =_xlfn.CONCAT(DEC2BIN(IF(ISBLANK(M50), 0, MATCH(M50, 单列下拉值!$B$2:$B$3, 0) - 1)), DEC2BIN(IF(ISBLANK(N50), 0, MATCH(N50, 单列下拉值!$C$2:$C$3, 0) - 1)), DEC2BIN(IF(ISBLANK(O50), 0, MATCH(O50, ALU寄存器选择!$D$2:$D$5, 0) - 1), 2)) -> 0000 | Y50: =_xlfn.CONCAT(DEC2BIN(IF(ISBLANK(P50),0,MATCH(P50,单列下拉值!$D$2:$D$3,0)-1)), DEC2BIN(IF(ISBLANK(Q50), 0, MATCH(Q50, CP选择!$E$2:$E$9, 0) - 1), 3)) -> 0000 | Z50: =_xlfn.CONCAT(DEC2BIN(R50), DEC2BIN(IF(ISBLANK(S50), 0, MATCH(S50, 后继微地址形成!$E$2:$E$9, 0) - 1), 3)) -> 0000
A51: ADD Ri, Rj(Ri + Rj → Rj) | B51: Rj->B | C51: =DEC2HEX(ROW(C51)-3, 2) -> 30 | D51: =_xlfn.CONCAT(BIN2HEX(U51), BIN2HEX(V51), " ", BIN2HEX(W51), BIN2HEX(X51), " ", BIN2HEX(Y51), BIN2HEX(Z51)) -> 00 22 01 | L51: B选通用寄存器 | O51: 存入B寄存器 | S51: μPC加一 | U51: =_xlfn.CONCAT(DEC2BIN(E51), DEC2BIN(F51), DEC2BIN(G51), DEC2BIN(H51)) -> 0000 | V51: =_xlfn.CONCAT(DEC2BIN(IF(ISBLANK(I51), 0, MATCH(I51, 运算选择!$E$2:$E$9, 0) - 1), 3), DEC2BIN(IF(ISBLANK(J51), 0, MATCH(J51, 单列下拉值!$A$2:$A$3, 0) - 1), 1)) -> 0000 | W51: =_xlfn.CONCAT(DEC2BIN(IF(ISBLANK(K51), 0, MATCH(K51, A寄存器选择!$D$2:$D$5, 0) - 1), 2), DEC2BIN(IF(ISBLANK(L51), 0, MATCH(L51, B寄存器选择!$D$2:$D$5, 0) - 1), 2)) -> 0010 | X51: =_xlfn.CONCAT(DEC2BIN(IF(ISBLANK(M51), 0, MATCH(M51, 单列下拉值!$B$2:$B$3, 0) - 1)), DEC2BIN(IF(ISBLANK(N51), 0, MATCH(N51, 单列下拉值!$C$2:$C$3, 0) - 1)), DEC2BIN(IF(ISBLANK(O51), 0, MATCH(O51, ALU寄存器选择!$D$2:$D$5, 0) - 1), 2)) -> 0010 | Y51: =_xlfn.CONCAT(DEC2BIN(IF(ISBLANK(P51),0,MATCH(P51,单列下拉值!$D$2:$D$3,0)-1)), DEC2BIN(IF(ISBLANK(Q51), 0, MATCH(Q51, CP选择!$E$2:$E$9, 0) - 1), 3)) -> 0000 | Z51: =_xlfn.CONCAT(DEC2BIN(R51), DEC2BIN(IF(ISBLANK(S51), 0, MATCH(S51, 后继微地址形成!$E$2:$E$9, 0) - 1), 3)) -> 0001
B52: Ri->A | C52: =DEC2HEX(ROW(C52)-3, 2) -> 31 | D52: =_xlfn.CONCAT(BIN2HEX(U52), BIN2HEX(V52), " ", BIN2HEX(W52), BIN2HEX(X52), " ", BIN2HEX(Y52), BIN2HEX(Z52)) -> 00 81 01 | K52: A选通用寄存器 | O52: 存入A寄存器 | S52: μPC加一 | U52: =_xlfn.CONCAT(DEC2BIN(E52), DEC2BIN(F52), DEC2BIN(G52), DEC2BIN(H52)) -> 0000 | V52: =_xlfn.CONCAT(DEC2BIN(IF(ISBLANK(I52), 0, MATCH(I52, 运算选择!$E$2:$E$9, 0) - 1), 3), DEC2BIN(IF(ISBLANK(J52), 0, MATCH(J52, 单列下拉值!$A$2:$A$3, 0) - 1), 1)) -> 0000 | W52: =_xlfn.CONCAT(DEC2BIN(IF(ISBLANK(K52), 0, MATCH(K52, A寄存器选择!$D$2:$D$5, 0) - 1), 2), DEC2BIN(IF(ISBLANK(L52), 0, MATCH(L52, B寄存器选择!$D$2:$D$5, 0) - 1), 2)) -> 1000 | X52: =_xlfn.CONCAT(DEC2BIN(IF(ISBLANK(M52), 0, MATCH(M52, 单列下拉值!$B$2:$B$3, 0) - 1)), DEC2BIN(IF(ISBLANK(N52), 0, MATCH(N52, 单列下拉值!$C$2:$C$3, 0) - 1)), DEC2BIN(IF(ISBLANK(O52), 0, MATCH(O52, ALU寄存器选择!$D$2:$D$5, 0) - 1), 2)) -> 0001 | Y52: =_xlfn.CONCAT(DEC2BIN(IF(ISBLANK(P52),0,MATCH(P52,单列下拉值!$D$2:$D$3,0)-1)), DEC2BIN(IF(ISBLANK(Q52), 0, MATCH(Q52, CP选择!$E$2:$E$9, 0) - 1), 3)) -> 0000 | Z52: =_xlfn.CONCAT(DEC2BIN(R52), DEC2BIN(IF(ISBLANK(S52), 0, MATCH(S52, 后继微地址形成!$E$2:$E$9, 0) - 1), 3)) -> 0001
B53: STRICT PLUS | C53: =DEC2HEX(ROW(C53)-3, 2) -> 32 | D53: =_xlfn.CONCAT(BIN2HEX(U53), BIN2HEX(V53), " ", BIN2HEX(W53), BIN2HEX(X53), " ", BIN2HEX(Y53), BIN2HEX(Z53)) -> 02 03 01 | I53: 加法 | O53: 存入Z和PSW | S53: μPC加一 | U53: =_xlfn.CONCAT(DEC2BIN(E53), DEC2BIN(F53), DEC2BIN(G53), DEC2BIN(H53)) -> 0000 | V53: =_xlfn.CONCAT(DEC2BIN(IF(ISBLANK(I53), 0, MATCH(I53, 运算选择!$E$2:$E$9, 0) - 1), 3), DEC2BIN(IF(ISBLANK(J53), 0, MATCH(J53, 单列下拉值!$A$2:$A$3, 0) - 1), 1)) -> 0010 | W53: =_xlfn.CONCAT(DEC2BIN(IF(ISBLANK(K53), 0, MATCH(K53, A寄存器选择!$D$2:$D$5, 0) - 1), 2), DEC2BIN(IF(ISBLANK(L53), 0, MATCH(L53, B寄存器选择!$D$2:$D$5, 0) - 1), 2)) -> 0000 | X53: =_xlfn.CONCAT(DEC2BIN(IF(ISBLANK(M53), 0, MATCH(M53, 单列下拉值!$B$2:$B$3, 0) - 1)), DEC2BIN(IF(ISBLANK(N53), 0, MATCH(N53, 单列下拉值!$C$2:$C$3, 0) - 1)), DEC2BIN(IF(ISBLANK(O53), 0, MATCH(O53, ALU寄存器选择!$D$2:$D$5, 0) - 1), 2)) -> 0011 | Y53: =_xlfn.CONCAT(DEC2BIN(IF(ISBLANK(P53),0,MATCH(P53,单列下拉值!$D$2:$D$3,0)-1)), DEC2BIN(IF(ISBLANK(Q53), 0, MATCH(Q53, CP选择!$E$2:$E$9, 0) - 1), 3)) -> 0000 | Z53: =_xlfn.CONCAT(DEC2BIN(R53), DEC2BIN(IF(ISBLANK(S53), 0, MATCH(S53, 后继微地址形成!$E$2:$E$9, 0) - 1), 3)) -> 0001
B54: Z->Rj | C54: =DEC2HEX(ROW(C54)-3, 2) -> 33 | D54: =_xlfn.CONCAT(BIN2HEX(U54), BIN2HEX(V54), " ", BIN2HEX(W54), BIN2HEX(X54), " ", BIN2HEX(Y54), BIN2HEX(Z54)) -> 00 00 11 | Q54: CP4Reg | S54: μPC加一 | U54: =_xlfn.CONCAT(DEC2BIN(E54), DEC2BIN(F54), DEC2BIN(G54), DEC2BIN(H54)) -> 0000 | V54: =_xlfn.CONCAT(DEC2BIN(IF(ISBLANK(I54), 0, MATCH(I54, 运算选择!$E$2:$E$9, 0) - 1), 3), DEC2BIN(IF(ISBLANK(J54), 0, MATCH(J54, 单列下拉值!$A$2:$A$3, 0) - 1), 1)) -> 0000 | W54: =_xlfn.CONCAT(DEC2BIN(IF(ISBLANK(K54), 0, MATCH(K54, A寄存器选择!$D$2:$D$5, 0) - 1), 2), DEC2BIN(IF(ISBLANK(L54), 0, MATCH(L54, B寄存器选择!$D$2:$D$5, 0) - 1), 2)) -> 0000 | X54: =_xlfn.CONCAT(DEC2BIN(IF(ISBLANK(M54), 0, MATCH(M54, 单列下拉值!$B$2:$B$3, 0) - 1)), DEC2BIN(IF(ISBLANK(N54), 0, MATCH(N54, 单列下拉值!$C$2:$C$3, 0) - 1)), DEC2BIN(IF(ISBLANK(O54), 0, MATCH(O54, ALU寄存器选择!$D$2:$D$5, 0) - 1), 2)) -> 0000 | Y54: =_xlfn.CONCAT(DEC2BIN(IF(ISBLANK(P54),0,MATCH(P54,单列下拉值!$D$2:$D$3,0)-1)), DEC2BIN(IF(ISBLANK(Q54), 0, MATCH(Q54, CP选择!$E$2:$E$9, 0) - 1), 3)) -> 0001 | Z54: =_xlfn.CONCAT(DEC2BIN(R54), DEC2BIN(IF(ISBLANK(S54), 0, MATCH(S54, 后继微地址形成!$E$2:$E$9, 0) - 1), 3)) -> 0001
B55: END | C55: =DEC2HEX(ROW(C55)-3, 2) -> 34 | D55: =_xlfn.CONCAT(BIN2HEX(U55), BIN2HEX(V55), " ", BIN2HEX(W55), BIN2HEX(X55), " ", BIN2HEX(Y55), BIN2HEX(Z55)) -> 00 00 02 | S55: 无条件跳转至00H | U55: =_xlfn.CONCAT(DEC2BIN(E55), DEC2BIN(F55), DEC2BIN(G55), DEC2BIN(H55)) -> 0000 | V55: =_xlfn.CONCAT(DEC2BIN(IF(ISBLANK(I55), 0, MATCH(I55, 运算选择!$E$2:$E$9, 0) - 1), 3), DEC2BIN(IF(ISBLANK(J55), 0, MATCH(J55, 单列下拉值!$A$2:$A$3, 0) - 1), 1)) -> 0000 | W55: =_xlfn.CONCAT(DEC2BIN(IF(ISBLANK(K55), 0, MATCH(K55, A寄存器选择!$D$2:$D$5, 0) - 1), 2), DEC2BIN(IF(ISBLANK(L55), 0, MATCH(L55, B寄存器选择!$D$2:$D$5, 0) - 1), 2)) -> 0000 | X55: =_xlfn.CONCAT(DEC2BIN(IF(ISBLANK(M55), 0, MATCH(M55, 单列下拉值!$B$2:$B$3, 0) - 1)), DEC2BIN(IF(ISBLANK(N55), 0, MATCH(N55, 单列下拉值!$C$2:$C$3, 0) - 1)), DEC2BIN(IF(ISBLANK(O55), 0, MATCH(O55, ALU寄存器选择!$D$2:$D$5, 0) - 1), 2)) -> 0000 | Y55: =_xlfn.CONCAT(DEC2BIN(IF(ISBLANK(P55),0,MATCH(P55,单列下拉值!$D$2:$D$3,0)-1)), DEC2BIN(IF(ISBLANK(Q55), 0, MATCH(Q55, CP选择!$E$2:$E$9, 0) - 1), 3)) -> 0000 | Z55: =_xlfn.CONCAT(DEC2BIN(R55), DEC2BIN(IF(ISBLANK(S55), 0, MATCH(S55, 后继微地址形成!$E$2:$E$9, 0) - 1), 3)) -> 0010
C56: =DEC2HEX(ROW(C56)-3, 2) -> 35 | D56: =_xlfn.CONCAT(BIN2HEX(U56), BIN2HEX(V56), " ", BIN2HEX(W56), BIN2HEX(X56), " ", BIN2HEX(Y56), BIN2HEX(Z56)) -> 00 00 00 | U56: =_xlfn.CONCAT(DEC2BIN(E56), DEC2BIN(F56), DEC2BIN(G56), DEC2BIN(H56)) -> 0000 | V56: =_xlfn.CONCAT(DEC2BIN(IF(ISBLANK(I56), 0, MATCH(I56, 运算选择!$E$2:$E$9, 0) - 1), 3), DEC2BIN(IF(ISBLANK(J56), 0, MATCH(J56, 单列下拉值!$A$2:$A$3, 0) - 1), 1)) -> 0000 | W56: =_xlfn.CONCAT(DEC2BIN(IF(ISBLANK(K56), 0, MATCH(K56, A寄存器选择!$D$2:$D$5, 0) - 1), 2), DEC2BIN(IF(ISBLANK(L56), 0, MATCH(L56, B寄存器选择!$D$2:$D$5, 0) - 1), 2)) -> 0000 | X56: =_xlfn.CONCAT(DEC2BIN(IF(ISBLANK(M56), 0, MATCH(M56, 单列下拉值!$B$2:$B$3, 0) - 1)), DEC2BIN(IF(ISBLANK(N56), 0, MATCH(N56, 单列下拉值!$C$2:$C$3, 0) - 1)), DEC2BIN(IF(ISBLANK(O56), 0, MATCH(O56, ALU寄存器选择!$D$2:$D$5, 0) - 1), 2)) -> 0000 | Y56: =_xlfn.CONCAT(DEC2BIN(IF(ISBLANK(P56),0,MATCH(P56,单列下拉值!$D$2:$D$3,0)-1)), DEC2BIN(IF(ISBLANK(Q56), 0, MATCH(Q56, CP选择!$E$2:$E$9, 0) - 1), 3)) -> 0000 | Z56: =_xlfn.CONCAT(DEC2BIN(R56), DEC2BIN(IF(ISBLANK(S56), 0, MATCH(S56, 后继微地址形成!$E$2:$E$9, 0) - 1), 3)) -> 0000
C57: =DEC2HEX(ROW(C57)-3, 2) -> 36 | D57: =_xlfn.CONCAT(BIN2HEX(U57), BIN2HEX(V57), " ", BIN2HEX(W57), BIN2HEX(X57), " ", BIN2HEX(Y57), BIN2HEX(Z57)) -> 00 00 00 | U57: =_xlfn.CONCAT(DEC2BIN(E57), DEC2BIN(F57), DEC2BIN(G57), DEC2BIN(H57)) -> 0000 | V57: =_xlfn.CONCAT(DEC2BIN(IF(ISBLANK(I57), 0, MATCH(I57, 运算选择!$E$2:$E$9, 0) - 1), 3), DEC2BIN(IF(ISBLANK(J57), 0, MATCH(J57, 单列下拉值!$A$2:$A$3, 0) - 1), 1)) -> 0000 | W57: =_xlfn.CONCAT(DEC2BIN(IF(ISBLANK(K57), 0, MATCH(K57, A寄存器选择!$D$2:$D$5, 0) - 1), 2), DEC2BIN(IF(ISBLANK(L57), 0, MATCH(L57, B寄存器选择!$D$2:$D$5, 0) - 1), 2)) -> 0000 | X57: =_xlfn.CONCAT(DEC2BIN(IF(ISBLANK(M57), 0, MATCH(M57, 单列下拉值!$B$2:$B$3, 0) - 1)), DEC2BIN(IF(ISBLANK(N57), 0, MATCH(N57, 单列下拉值!$C$2:$C$3, 0) - 1)), DEC2BIN(IF(ISBLANK(O57), 0, MATCH(O57, ALU寄存器选择!$D$2:$D$5, 0) - 1), 2)) -> 0000 | Y57: =_xlfn.CONCAT(DEC2BIN(IF(ISBLANK(P57),0,MATCH(P57,单列下拉值!$D$2:$D$3,0)-1)), DEC2BIN(IF(ISBLANK(Q57), 0, MATCH(Q57, CP选择!$E$2:$E$9, 0) - 1), 3)) -> 0000 | Z57: =_xlfn.CONCAT(DEC2BIN(R57), DEC2BIN(IF(ISBLANK(S57), 0, MATCH(S57, 后继微地址形成!$E$2:$E$9, 0) - 1), 3)) -> 0000
C58: =DEC2HEX(ROW(C58)-3, 2) -> 37 | D58: =_xlfn.CONCAT(BIN2HEX(U58), BIN2HEX(V58), " ", BIN2HEX(W58), BIN2HEX(X58), " ", BIN2HEX(Y58), BIN2HEX(Z58)) -> 00 00 00 | U58: =_xlfn.CONCAT(DEC2BIN(E58), DEC2BIN(F58), DEC2BIN(G58), DEC2BIN(H58)) -> 0000 | V58: =_xlfn.CONCAT(DEC2BIN(IF(ISBLANK(I58), 0, MATCH(I58, 运算选择!$E$2:$E$9, 0) - 1), 3), DEC2BIN(IF(ISBLANK(J58), 0, MATCH(J58, 单列下拉值!$A$2:$A$3, 0) - 1), 1)) -> 0000 | W58: =_xlfn.CONCAT(DEC2BIN(IF(ISBLANK(K58), 0, MATCH(K58, A寄存器选择!$D$2:$D$5, 0) - 1), 2), DEC2BIN(IF(ISBLANK(L58), 0, MATCH(L58, B寄存器选择!$D$2:$D$5, 0) - 1), 2)) -> 0000 | X58: =_xlfn.CONCAT(DEC2BIN(IF(ISBLANK(M58), 0, MATCH(M58, 单列下拉值!$B$2:$B$3, 0) - 1)), DEC2BIN(IF(ISBLANK(N58), 0, MATCH(N58, 单列下拉值!$C$2:$C$3, 0) - 1)), DEC2BIN(IF(ISBLANK(O58), 0, MATCH(O58, ALU寄存器选择!$D$2:$D$5, 0) - 1), 2)) -> 0000 | Y58: =_xlfn.CONCAT(DEC2BIN(IF(ISBLANK(P58),0,MATCH(P58,单列下拉值!$D$2:$D$3,0)-1)), DEC2BIN(IF(ISBLANK(Q58), 0, MATCH(Q58, CP选择!$E$2:$E$9, 0) - 1), 3)) -> 0000 | Z58: =_xlfn.CONCAT(DEC2BIN(R58), DEC2BIN(IF(ISBLANK(S58), 0, MATCH(S58, 后继微地址形成!$E$2:$E$9, 0) - 1), 3)) -> 0000
C59: =DEC2HEX(ROW(C59)-3, 2) -> 38 | D59: =_xlfn.CONCAT(BIN2HEX(U59), BIN2HEX(V59), " ", BIN2HEX(W59), BIN2HEX(X59), " ", BIN2HEX(Y59), BIN2HEX(Z59)) -> 00 00 00 | U59: =_xlfn.CONCAT(DEC2BIN(E59), DEC2BIN(F59), DEC2BIN(G59), DEC2BIN(H59)) -> 0000 | V59: =_xlfn.CONCAT(DEC2BIN(IF(ISBLANK(I59), 0, MATCH(I59, 运算选择!$E$2:$E$9, 0) - 1), 3), DEC2BIN(IF(ISBLANK(J59), 0, MATCH(J59, 单列下拉值!$A$2:$A$3, 0) - 1), 1)) -> 0000 | W59: =_xlfn.CONCAT(DEC2BIN(IF(ISBLANK(K59), 0, MATCH(K59, A寄存器选择!$D$2:$D$5, 0) - 1), 2), DEC2BIN(IF(ISBLANK(L59), 0, MATCH(L59, B寄存器选择!$D$2:$D$5, 0) - 1), 2)) -> 0000 | X59: =_xlfn.CONCAT(DEC2BIN(IF(ISBLANK(M59), 0, MATCH(M59, 单列下拉值!$B$2:$B$3, 0) - 1)), DEC2BIN(IF(ISBLANK(N59), 0, MATCH(N59, 单列下拉值!$C$2:$C$3, 0) - 1)), DEC2BIN(IF(ISBLANK(O59), 0, MATCH(O59, ALU寄存器选择!$D$2:$D$5, 0) - 1), 2)) -> 0000 | Y59: =_xlfn.CONCAT(DEC2BIN(IF(ISBLANK(P59),0,MATCH(P59,单列下拉值!$D$2:$D$3,0)-1)), DEC2BIN(IF(ISBLANK(Q59), 0, MATCH(Q59, CP选择!$E$2:$E$9, 0) - 1), 3)) -> 0000 | Z59: =_xlfn.CONCAT(DEC2BIN(R59), DEC2BIN(IF(ISBLANK(S59), 0, MATCH(S59, 后继微地址形成!$E$2:$E$9, 0) - 1), 3)) -> 0000
C60: =DEC2HEX(ROW(C60)-3, 2) -> 39 | D60: =_xlfn.CONCAT(BIN2HEX(U60), BIN2HEX(V60), " ", BIN2HEX(W60), BIN2HEX(X60), " ", BIN2HEX(Y60), BIN2HEX(Z60)) -> 00 00 00 | U60: =_xlfn.CONCAT(DEC2BIN(E60), DEC2BIN(F60), DEC2BIN(G60), DEC2BIN(H60)) -> 0000 | V60: =_xlfn.CONCAT(DEC2BIN(IF(ISBLANK(I60), 0, MATCH(I60, 运算选择!$E$2:$E$9, 0) - 1), 3), DEC2BIN(IF(ISBLANK(J60), 0, MATCH(J60, 单列下拉值!$A$2:$A$3, 0) - 1), 1)) -> 0000 | W60: =_xlfn.CONCAT(DEC2BIN(IF(ISBLANK(K60), 0, MATCH(K60, A寄存器选择!$D$2:$D$5, 0) - 1), 2), DEC2BIN(IF(ISBLANK(L60), 0, MATCH(L60, B寄存器选择!$D$2:$D$5, 0) - 1), 2)) -> 0000 | X60: =_xlfn.CONCAT(DEC2BIN(IF(ISBLANK(M60), 0, MATCH(M60, 单列下拉值!$B$2:$B$3, 0) - 1)), DEC2BIN(IF(ISBLANK(N60), 0, MATCH(N60, 单列下拉值!$C$2:$C$3, 0) - 1)), DEC2BIN(IF(ISBLANK(O60), 0, MATCH(O60, ALU寄存器选择!$D$2:$D$5, 0) - 1), 2)) -> 0000 | Y60: =_xlfn.CONCAT(DEC2BIN(IF(ISBLANK(P60),0,MATCH(P60,单列下拉值!$D$2:$D$3,0)-1)), DEC2BIN(IF(ISBLANK(Q60), 0, MATCH(Q60, CP选择!$E$2:$E$9, 0) - 1), 3)) -> 0000 | Z60: =_xlfn.CONCAT(DEC2BIN(R60), DEC2BIN(IF(ISBLANK(S60), 0, MATCH(S60, 后继微地址形成!$E$2:$E$9, 0) - 1), 3)) -> 0000
C61: =DEC2HEX(ROW(C61)-3, 2) -> 3A | D61: =_xlfn.CONCAT(BIN2HEX(U61), BIN2HEX(V61), " ", BIN2HEX(W61), BIN2HEX(X61), " ", BIN2HEX(Y61), BIN2HEX(Z61)) -> 00 00 00 | U61: =_xlfn.CONCAT(DEC2BIN(E61), DEC2BIN(F61), DEC2BIN(G61), DEC2BIN(H61)) -> 0000 | V61: =_xlfn.CONCAT(DEC2BIN(IF(ISBLANK(I61), 0, MATCH(I61, 运算选择!$E$2:$E$9, 0) - 1), 3), DEC2BIN(IF(ISBLANK(J61), 0, MATCH(J61, 单列下拉值!$A$2:$A$3, 0) - 1), 1)) -> 0000 | W61: =_xlfn.CONCAT(DEC2BIN(IF(ISBLANK(K61), 0, MATCH(K61, A寄存器选择!$D$2:$D$5, 0) - 1), 2), DEC2BIN(IF(ISBLANK(L61), 0, MATCH(L61, B寄存器选择!$D$2:$D$5, 0) - 1), 2)) -> 0000 | X61: =_xlfn.CONCAT(DEC2BIN(IF(ISBLANK(M61), 0, MATCH(M61, 单列下拉值!$B$2:$B$3, 0) - 1)), DEC2BIN(IF(ISBLANK(N61), 0, MATCH(N61, 单列下拉值!$C$2:$C$3, 0) - 1)), DEC2BIN(IF(ISBLANK(O61), 0, MATCH(O61, ALU寄存器选择!$D$2:$D$5, 0) - 1), 2)) -> 0000 | Y61: =_xlfn.CONCAT(DEC2BIN(IF(ISBLANK(P61),0,MATCH(P61,单列下拉值!$D$2:$D$3,0)-1)), DEC2BIN(IF(ISBLANK(Q61), 0, MATCH(Q61, CP选择!$E$2:$E$9, 0) - 1), 3)) -> 0000 | Z61: =_xlfn.CONCAT(DEC2BIN(R61), DEC2BIN(IF(ISBLANK(S61), 0, MATCH(S61, 后继微地址形成!$E$2:$E$9, 0) - 1), 3)) -> 0000
C62: =DEC2HEX(ROW(C62)-3, 2) -> 3B | D62: =_xlfn.CONCAT(BIN2HEX(U62), BIN2HEX(V62), " ", BIN2HEX(W62), BIN2HEX(X62), " ", BIN2HEX(Y62), BIN2HEX(Z62)) -> 00 00 00 | U62: =_xlfn.CONCAT(DEC2BIN(E62), DEC2BIN(F62), DEC2BIN(G62), DEC2BIN(H62)) -> 0000 | V62: =_xlfn.CONCAT(DEC2BIN(IF(ISBLANK(I62), 0, MATCH(I62, 运算选择!$E$2:$E$9, 0) - 1), 3), DEC2BIN(IF(ISBLANK(J62), 0, MATCH(J62, 单列下拉值!$A$2:$A$3, 0) - 1), 1)) -> 0000 | W62: =_xlfn.CONCAT(DEC2BIN(IF(ISBLANK(K62), 0, MATCH(K62, A寄存器选择!$D$2:$D$5, 0) - 1), 2), DEC2BIN(IF(ISBLANK(L62), 0, MATCH(L62, B寄存器选择!$D$2:$D$5, 0) - 1), 2)) -> 0000 | X62: =_xlfn.CONCAT(DEC2BIN(IF(ISBLANK(M62), 0, MATCH(M62, 单列下拉值!$B$2:$B$3, 0) - 1)), DEC2BIN(IF(ISBLANK(N62), 0, MATCH(N62, 单列下拉值!$C$2:$C$3, 0) - 1)), DEC2BIN(IF(ISBLANK(O62), 0, MATCH(O62, ALU寄存器选择!$D$2:$D$5, 0) - 1), 2)) -> 0000 | Y62: =_xlfn.CONCAT(DEC2BIN(IF(ISBLANK(P62),0,MATCH(P62,单列下拉值!$D$2:$D$3,0)-1)), DEC2BIN(IF(ISBLANK(Q62), 0, MATCH(Q62, CP选择!$E$2:$E$9, 0) - 1), 3)) -> 0000 | Z62: =_xlfn.CONCAT(DEC2BIN(R62), DEC2BIN(IF(ISBLANK(S62), 0, MATCH(S62, 后继微地址形成!$E$2:$E$9, 0) - 1), 3)) -> 0000
C63: =DEC2HEX(ROW(C63)-3, 2) -> 3C | D63: =_xlfn.CONCAT(BIN2HEX(U63), BIN2HEX(V63), " ", BIN2HEX(W63), BIN2HEX(X63), " ", BIN2HEX(Y63), BIN2HEX(Z63)) -> 00 00 00 | U63: =_xlfn.CONCAT(DEC2BIN(E63), DEC2BIN(F63), DEC2BIN(G63), DEC2BIN(H63)) -> 0000 | V63: =_xlfn.CONCAT(DEC2BIN(IF(ISBLANK(I63), 0, MATCH(I63, 运算选择!$E$2:$E$9, 0) - 1), 3), DEC2BIN(IF(ISBLANK(J63), 0, MATCH(J63, 单列下拉值!$A$2:$A$3, 0) - 1), 1)) -> 0000 | W63: =_xlfn.CONCAT(DEC2BIN(IF(ISBLANK(K63), 0, MATCH(K63, A寄存器选择!$D$2:$D$5, 0) - 1), 2), DEC2BIN(IF(ISBLANK(L63), 0, MATCH(L63, B寄存器选择!$D$2:$D$5, 0) - 1), 2)) -> 0000 | X63: =_xlfn.CONCAT(DEC2BIN(IF(ISBLANK(M63), 0, MATCH(M63, 单列下拉值!$B$2:$B$3, 0) - 1)), DEC2BIN(IF(ISBLANK(N63), 0, MATCH(N63, 单列下拉值!$C$2:$C$3, 0) - 1)), DEC2BIN(IF(ISBLANK(O63), 0, MATCH(O63, ALU寄存器选择!$D$2:$D$5, 0) - 1), 2)) -> 0000 | Y63: =_xlfn.CONCAT(DEC2BIN(IF(ISBLANK(P63),0,MATCH(P63,单列下拉值!$D$2:$D$3,0)-1)), DEC2BIN(IF(ISBLANK(Q63), 0, MATCH(Q63, CP选择!$E$2:$E$9, 0) - 1), 3)) -> 0000 | Z63: =_xlfn.CONCAT(DEC2BIN(R63), DEC2BIN(IF(ISBLANK(S63), 0, MATCH(S63, 后继微地址形成!$E$2:$E$9, 0) - 1), 3)) -> 0000
C64: =DEC2HEX(ROW(C64)-3, 2) -> 3D | D64: =_xlfn.CONCAT(BIN2HEX(U64), BIN2HEX(V64), " ", BIN2HEX(W64), BIN2HEX(X64), " ", BIN2HEX(Y64), BIN2HEX(Z64)) -> 00 00 00 | U64: =_xlfn.CONCAT(DEC2BIN(E64), DEC2BIN(F64), DEC2BIN(G64), DEC2BIN(H64)) -> 0000 | V64: =_xlfn.CONCAT(DEC2BIN(IF(ISBLANK(I64), 0, MATCH(I64, 运算选择!$E$2:$E$9, 0) - 1), 3), DEC2BIN(IF(ISBLANK(J64), 0, MATCH(J64, 单列下拉值!$A$2:$A$3, 0) - 1), 1)) -> 0000 | W64: =_xlfn.CONCAT(DEC2BIN(IF(ISBLANK(K64), 0, MATCH(K64, A寄存器选择!$D$2:$D$5, 0) - 1), 2), DEC2BIN(IF(ISBLANK(L64), 0, MATCH(L64, B寄存器选择!$D$2:$D$5, 0) - 1), 2)) -> 0000 | X64: =_xlfn.CONCAT(DEC2BIN(IF(ISBLANK(M64), 0, MATCH(M64, 单列下拉值!$B$2:$B$3, 0) - 1)), DEC2BIN(IF(ISBLANK(N64), 0, MATCH(N64, 单列下拉值!$C$2:$C$3, 0) - 1)), DEC2BIN(IF(ISBLANK(O64), 0, MATCH(O64, ALU寄存器选择!$D$2:$D$5, 0) - 1), 2)) -> 0000 | Y64: =_xlfn.CONCAT(DEC2BIN(IF(ISBLANK(P64),0,MATCH(P64,单列下拉值!$D$2:$D$3,0)-1)), DEC2BIN(IF(ISBLANK(Q64), 0, MATCH(Q64, CP选择!$E$2:$E$9, 0) - 1), 3)) -> 0000 | Z64: =_xlfn.CONCAT(DEC2BIN(R64), DEC2BIN(IF(ISBLANK(S64), 0, MATCH(S64, 后继微地址形成!$E$2:$E$9, 0) - 1), 3)) -> 0000
C65: =DEC2HEX(ROW(C65)-3, 2) -> 3E | D65: =_xlfn.CONCAT(BIN2HEX(U65), BIN2HEX(V65), " ", BIN2HEX(W65), BIN2HEX(X65), " ", BIN2HEX(Y65), BIN2HEX(Z65)) -> 00 00 00 | U65: =_xlfn.CONCAT(DEC2BIN(E65), DEC2BIN(F65), DEC2BIN(G65), DEC2BIN(H65)) -> 0000 | V65: =_xlfn.CONCAT(DEC2BIN(IF(ISBLANK(I65), 0, MATCH(I65, 运算选择!$E$2:$E$9, 0) - 1), 3), DEC2BIN(IF(ISBLANK(J65), 0, MATCH(J65, 单列下拉值!$A$2:$A$3, 0) - 1), 1)) -> 0000 | W65: =_xlfn.CONCAT(DEC2BIN(IF(ISBLANK(K65), 0, MATCH(K65, A寄存器选择!$D$2:$D$5, 0) - 1), 2), DEC2BIN(IF(ISBLANK(L65), 0, MATCH(L65, B寄存器选择!$D$2:$D$5, 0) - 1), 2)) -> 0000 | X65: =_xlfn.CONCAT(DEC2BIN(IF(ISBLANK(M65), 0, MATCH(M65, 单列下拉值!$B$2:$B$3, 0) - 1)), DEC2BIN(IF(ISBLANK(N65), 0, MATCH(N65, 单列下拉值!$C$2:$C$3, 0) - 1)), DEC2BIN(IF(ISBLANK(O65), 0, MATCH(O65, ALU寄存器选择!$D$2:$D$5, 0) - 1), 2)) -> 0000 | Y65: =_xlfn.CONCAT(DEC2BIN(IF(ISBLANK(P65),0,MATCH(P65,单列下拉值!$D$2:$D$3,0)-1)), DEC2BIN(IF(ISBLANK(Q65), 0, MATCH(Q65, CP选择!$E$2:$E$9, 0) - 1), 3)) -> 0000 | Z65: =_xlfn.CONCAT(DEC2BIN(R65), DEC2BIN(IF(ISBLANK(S65), 0, MATCH(S65, 后继微地址形成!$E$2:$E$9, 0) - 1), 3)) -> 0000
C66: =DEC2HEX(ROW(C66)-3, 2) -> 3F | D66: =_xlfn.CONCAT(BIN2HEX(U66), BIN2HEX(V66), " ", BIN2HEX(W66), BIN2HEX(X66), " ", BIN2HEX(Y66), BIN2HEX(Z66)) -> 00 00 00 | U66: =_xlfn.CONCAT(DEC2BIN(E66), DEC2BIN(F66), DEC2BIN(G66), DEC2BIN(H66)) -> 0000 | V66: =_xlfn.CONCAT(DEC2BIN(IF(ISBLANK(I66), 0, MATCH(I66, 运算选择!$E$2:$E$9, 0) - 1), 3), DEC2BIN(IF(ISBLANK(J66), 0, MATCH(J66, 单列下拉值!$A$2:$A$3, 0) - 1), 1)) -> 0000 | W66: =_xlfn.CONCAT(DEC2BIN(IF(ISBLANK(K66), 0, MATCH(K66, A寄存器选择!$D$2:$D$5, 0) - 1), 2), DEC2BIN(IF(ISBLANK(L66), 0, MATCH(L66, B寄存器选择!$D$2:$D$5, 0) - 1), 2)) -> 0000 | X66: =_xlfn.CONCAT(DEC2BIN(IF(ISBLANK(M66), 0, MATCH(M66, 单列下拉值!$B$2:$B$3, 0) - 1)), DEC2BIN(IF(ISBLANK(N66), 0, MATCH(N66, 单列下拉值!$C$2:$C$3, 0) - 1)), DEC2BIN(IF(ISBLANK(O66), 0, MATCH(O66, ALU寄存器选择!$D$2:$D$5, 0) - 1), 2)) -> 0000 | Y66: =_xlfn.CONCAT(DEC2BIN(IF(ISBLANK(P66),0,MATCH(P66,单列下拉值!$D$2:$D$3,0)-1)), DEC2BIN(IF(ISBLANK(Q66), 0, MATCH(Q66, CP选择!$E$2:$E$9, 0) - 1), 3)) -> 0000 | Z66: =_xlfn.CONCAT(DEC2BIN(R66), DEC2BIN(IF(ISBLANK(S66), 0, MATCH(S66, 后继微地址形成!$E$2:$E$9, 0) - 1), 3)) -> 0000
A67: HALT | C67: =DEC2HEX(ROW(C67)-3, 2) -> 40 | D67: =_xlfn.CONCAT(BIN2HEX(U67), BIN2HEX(V67), " ", BIN2HEX(W67), BIN2HEX(X67), " ", BIN2HEX(Y67), BIN2HEX(Z67)) -> 00 00 05 | S67: 停机 | U67: =_xlfn.CONCAT(DEC2BIN(E67), DEC2BIN(F67), DEC2BIN(G67), DEC2BIN(H67)) -> 0000 | V67: =_xlfn.CONCAT(DEC2BIN(IF(ISBLANK(I67), 0, MATCH(I67, 运算选择!$E$2:$E$9, 0) - 1), 3), DEC2BIN(IF(ISBLANK(J67), 0, MATCH(J67, 单列下拉值!$A$2:$A$3, 0) - 1), 1)) -> 0000 | W67: =_xlfn.CONCAT(DEC2BIN(IF(ISBLANK(K67), 0, MATCH(K67, A寄存器选择!$D$2:$D$5, 0) - 1), 2), DEC2BIN(IF(ISBLANK(L67), 0, MATCH(L67, B寄存器选择!$D$2:$D$5, 0) - 1), 2)) -> 0000 | X67: =_xlfn.CONCAT(DEC2BIN(IF(ISBLANK(M67), 0, MATCH(M67, 单列下拉值!$B$2:$B$3, 0) - 1)), DEC2BIN(IF(ISBLANK(N67), 0, MATCH(N67, 单列下拉值!$C$2:$C$3, 0) - 1)), DEC2BIN(IF(ISBLANK(O67), 0, MATCH(O67, ALU寄存器选择!$D$2:$D$5, 0) - 1), 2)) -> 0000 | Y67: =_xlfn.CONCAT(DEC2BIN(IF(ISBLANK(P67),0,MATCH(P67,单列下拉值!$D$2:$D$3,0)-1)), DEC2BIN(IF(ISBLANK(Q67), 0, MATCH(Q67, CP选择!$E$2:$E$9, 0) - 1), 3)) -> 0000 | Z67: =_xlfn.CONCAT(DEC2BIN(R67), DEC2BIN(IF(ISBLANK(S67), 0, MATCH(S67, 后继微地址形成!$E$2:$E$9, 0) - 1), 3)) -> 0101
C68: =DEC2HEX(ROW(C68)-3, 2) -> 41 | D68: =_xlfn.CONCAT(BIN2HEX(U68), BIN2HEX(V68), " ", BIN2HEX(W68), BIN2HEX(X68), " ", BIN2HEX(Y68), BIN2HEX(Z68)) -> 00 00 00 | U68: =_xlfn.CONCAT(DEC2BIN(E68), DEC2BIN(F68), DEC2BIN(G68), DEC2BIN(H68)) -> 0000 | V68: =_xlfn.CONCAT(DEC2BIN(IF(ISBLANK(I68), 0, MATCH(I68, 运算选择!$E$2:$E$9, 0) - 1), 3), DEC2BIN(IF(ISBLANK(J68), 0, MATCH(J68, 单列下拉值!$A$2:$A$3, 0) - 1), 1)) -> 0000 | W68: =_xlfn.CONCAT(DEC2BIN(IF(ISBLANK(K68), 0, MATCH(K68, A寄存器选择!$D$2:$D$5, 0) - 1), 2), DEC2BIN(IF(ISBLANK(L68), 0, MATCH(L68, B寄存器选择!$D$2:$D$5, 0) - 1), 2)) -> 0000 | X68: =_xlfn.CONCAT(DEC2BIN(IF(ISBLANK(M68), 0, MATCH(M68, 单列下拉值!$B$2:$B$3, 0) - 1)), DEC2BIN(IF(ISBLANK(N68), 0, MATCH(N68, 单列下拉值!$C$2:$C$3, 0) - 1)), DEC2BIN(IF(ISBLANK(O68), 0, MATCH(O68, ALU寄存器选择!$D$2:$D$5, 0) - 1), 2)) -> 0000 | Y68: =_xlfn.CONCAT(DEC2BIN(IF(ISBLANK(P68),0,MATCH(P68,单列下拉值!$D$2:$D$3,0)-1)), DEC2BIN(IF(ISBLANK(Q68), 0, MATCH(Q68, CP选择!$E$2:$E$9, 0) - 1), 3)) -> 0000 | Z68: =_xlfn.CONCAT(DEC2BIN(R68), DEC2BIN(IF(ISBLANK(S68), 0, MATCH(S68, 后继微地址形成!$E$2:$E$9, 0) - 1), 3)) -> 0000
C69: =DEC2HEX(ROW(C69)-3, 2) -> 42 | D69: =_xlfn.CONCAT(BIN2HEX(U69), BIN2HEX(V69), " ", BIN2HEX(W69), BIN2HEX(X69), " ", BIN2HEX(Y69), BIN2HEX(Z69)) -> 00 00 00 | U69: =_xlfn.CONCAT(DEC2BIN(E69), DEC2BIN(F69), DEC2BIN(G69), DEC2BIN(H69)) -> 0000 | V69: =_xlfn.CONCAT(DEC2BIN(IF(ISBLANK(I69), 0, MATCH(I69, 运算选择!$E$2:$E$9, 0) - 1), 3), DEC2BIN(IF(ISBLANK(J69), 0, MATCH(J69, 单列下拉值!$A$2:$A$3, 0) - 1), 1)) -> 0000 | W69: =_xlfn.CONCAT(DEC2BIN(IF(ISBLANK(K69), 0, MATCH(K69, A寄存器选择!$D$2:$D$5, 0) - 1), 2), DEC2BIN(IF(ISBLANK(L69), 0, MATCH(L69, B寄存器选择!$D$2:$D$5, 0) - 1), 2)) -> 0000 | X69: =_xlfn.CONCAT(DEC2BIN(IF(ISBLANK(M69), 0, MATCH(M69, 单列下拉值!$B$2:$B$3, 0) - 1)), DEC2BIN(IF(ISBLANK(N69), 0, MATCH(N69, 单列下拉值!$C$2:$C$3, 0) - 1)), DEC2BIN(IF(ISBLANK(O69), 0, MATCH(O69, ALU寄存器选择!$D$2:$D$5, 0) - 1), 2)) -> 0000 | Y69: =_xlfn.CONCAT(DEC2BIN(IF(ISBLANK(P69),0,MATCH(P69,单列下拉值!$D$2:$D$3,0)-1)), DEC2BIN(IF(ISBLANK(Q69), 0, MATCH(Q69, CP选择!$E$2:$E$9, 0) - 1), 3)) -> 0000 | Z69: =_xlfn.CONCAT(DEC2BIN(R69), DEC2BIN(IF(ISBLANK(S69), 0, MATCH(S69, 后继微地址形成!$E$2:$E$9, 0) - 1), 3)) -> 0000
C70: =DEC2HEX(ROW(C70)-3, 2) -> 43 | D70: =_xlfn.CONCAT(BIN2HEX(U70), BIN2HEX(V70), " ", BIN2HEX(W70), BIN2HEX(X70), " ", BIN2HEX(Y70), BIN2HEX(Z70)) -> 00 00 00 | U70: =_xlfn.CONCAT(DEC2BIN(E70), DEC2BIN(F70), DEC2BIN(G70), DEC2BIN(H70)) -> 0000 | V70: =_xlfn.CONCAT(DEC2BIN(IF(ISBLANK(I70), 0, MATCH(I70, 运算选择!$E$2:$E$9, 0) - 1), 3), DEC2BIN(IF(ISBLANK(J70), 0, MATCH(J70, 单列下拉值!$A$2:$A$3, 0) - 1), 1)) -> 0000 | W70: =_xlfn.CONCAT(DEC2BIN(IF(ISBLANK(K70), 0, MATCH(K70, A寄存器选择!$D$2:$D$5, 0) - 1), 2), DEC2BIN(IF(ISBLANK(L70), 0, MATCH(L70, B寄存器选择!$D$2:$D$5, 0) - 1), 2)) -> 0000 | X70: =_xlfn.CONCAT(DEC2BIN(IF(ISBLANK(M70), 0, MATCH(M70, 单列下拉值!$B$2:$B$3, 0) - 1)), DEC2BIN(IF(ISBLANK(N70), 0, MATCH(N70, 单列下拉值!$C$2:$C$3, 0) - 1)), DEC2BIN(IF(ISBLANK(O70), 0, MATCH(O70, ALU寄存器选择!$D$2:$D$5, 0) - 1), 2)) -> 0000 | Y70: =_xlfn.CONCAT(DEC2BIN(IF(ISBLANK(P70),0,MATCH(P70,单列下拉值!$D$2:$D$3,0)-1)), DEC2BIN(IF(ISBLANK(Q70), 0, MATCH(Q70, CP选择!$E$2:$E$9, 0) - 1), 3)) -> 0000 | Z70: =_xlfn.CONCAT(DEC2BIN(R70), DEC2BIN(IF(ISBLANK(S70), 0, MATCH(S70, 后继微地址形成!$E$2:$E$9, 0) - 1), 3)) -> 0000
C71: =DEC2HEX(ROW(C71)-3, 2) -> 44 | D71: =_xlfn.CONCAT(BIN2HEX(U71), BIN2HEX(V71), " ", BIN2HEX(W71), BIN2HEX(X71), " ", BIN2HEX(Y71), BIN2HEX(Z71)) -> 00 00 00 | U71: =_xlfn.CONCAT(DEC2BIN(E71), DEC2BIN(F71), DEC2BIN(G71), DEC2BIN(H71)) -> 0000 | V71: =_xlfn.CONCAT(DEC2BIN(IF(ISBLANK(I71), 0, MATCH(I71, 运算选择!$E$2:$E$9, 0) - 1), 3), DEC2BIN(IF(ISBLANK(J71), 0, MATCH(J71, 单列下拉值!$A$2:$A$3, 0) - 1), 1)) -> 0000 | W71: =_xlfn.CONCAT(DEC2BIN(IF(ISBLANK(K71), 0, MATCH(K71, A寄存器选择!$D$2:$D$5, 0) - 1), 2), DEC2BIN(IF(ISBLANK(L71), 0, MATCH(L71, B寄存器选择!$D$2:$D$5, 0) - 1), 2)) -> 0000 | X71: =_xlfn.CONCAT(DEC2BIN(IF(ISBLANK(M71), 0, MATCH(M71, 单列下拉值!$B$2:$B$3, 0) - 1)), DEC2BIN(IF(ISBLANK(N71), 0, MATCH(N71, 单列下拉值!$C$2:$C$3, 0) - 1)), DEC2BIN(IF(ISBLANK(O71), 0, MATCH(O71, ALU寄存器选择!$D$2:$D$5, 0) - 1), 2)) -> 0000 | Y71: =_xlfn.CONCAT(DEC2BIN(IF(ISBLANK(P71),0,MATCH(P71,单列下拉值!$D$2:$D$3,0)-1)), DEC2BIN(IF(ISBLANK(Q71), 0, MATCH(Q71, CP选择!$E$2:$E$9, 0) - 1), 3)) -> 0000 | Z71: =_xlfn.CONCAT(DEC2BIN(R71), DEC2BIN(IF(ISBLANK(S71), 0, MATCH(S71, 后继微地址形成!$E$2:$E$9, 0) - 1), 3)) -> 0000
C72: =DEC2HEX(ROW(C72)-3, 2) -> 45 | D72: =_xlfn.CONCAT(BIN2HEX(U72), BIN2HEX(V72), " ", BIN2HEX(W72), BIN2HEX(X72), " ", BIN2HEX(Y72), BIN2HEX(Z72)) -> 00 00 00 | U72: =_xlfn.CONCAT(DEC2BIN(E72), DEC2BIN(F72), DEC2BIN(G72), DEC2BIN(H72)) -> 0000 | V72: =_xlfn.CONCAT(DEC2BIN(IF(ISBLANK(I72), 0, MATCH(I72, 运算选择!$E$2:$E$9, 0) - 1), 3), DEC2BIN(IF(ISBLANK(J72), 0, MATCH(J72, 单列下拉值!$A$2:$A$3, 0) - 1), 1)) -> 0000 | W72: =_xlfn.CONCAT(DEC2BIN(IF(ISBLANK(K72), 0, MATCH(K72, A寄存器选择!$D$2:$D$5, 0) - 1), 2), DEC2BIN(IF(ISBLANK(L72), 0, MATCH(L72, B寄存器选择!$D$2:$D$5, 0) - 1), 2)) -> 0000 | X72: =_xlfn.CONCAT(DEC2BIN(IF(ISBLANK(M72), 0, MATCH(M72, 单列下拉值!$B$2:$B$3, 0) - 1)), DEC2BIN(IF(ISBLANK(N72), 0, MATCH(N72, 单列下拉值!$C$2:$C$3, 0) - 1)), DEC2BIN(IF(ISBLANK(O72), 0, MATCH(O72, ALU寄存器选择!$D$2:$D$5, 0) - 1), 2)) -> 0000 | Y72: =_xlfn.CONCAT(DEC2BIN(IF(ISBLANK(P72),0,MATCH(P72,单列下拉值!$D$2:$D$3,0)-1)), DEC2BIN(IF(ISBLANK(Q72), 0, MATCH(Q72, CP选择!$E$2:$E$9, 0) - 1), 3)) -> 0000 | Z72: =_xlfn.CONCAT(DEC2BIN(R72), DEC2BIN(IF(ISBLANK(S72), 0, MATCH(S72, 后继微地址形成!$E$2:$E$9, 0) - 1), 3)) -> 0000
C73: =DEC2HEX(ROW(C73)-3, 2) -> 46 | D73: =_xlfn.CONCAT(BIN2HEX(U73), BIN2HEX(V73), " ", BIN2HEX(W73), BIN2HEX(X73), " ", BIN2HEX(Y73), BIN2HEX(Z73)) -> 00 00 00 | U73: =_xlfn.CONCAT(DEC2BIN(E73), DEC2BIN(F73), DEC2BIN(G73), DEC2BIN(H73)) -> 0000 | V73: =_xlfn.CONCAT(DEC2BIN(IF(ISBLANK(I73), 0, MATCH(I73, 运算选择!$E$2:$E$9, 0) - 1), 3), DEC2BIN(IF(ISBLANK(J73), 0, MATCH(J73, 单列下拉值!$A$2:$A$3, 0) - 1), 1)) -> 0000 | W73: =_xlfn.CONCAT(DEC2BIN(IF(ISBLANK(K73), 0, MATCH(K73, A寄存器选择!$D$2:$D$5, 0) - 1), 2), DEC2BIN(IF(ISBLANK(L73), 0, MATCH(L73, B寄存器选择!$D$2:$D$5, 0) - 1), 2)) -> 0000 | X73: =_xlfn.CONCAT(DEC2BIN(IF(ISBLANK(M73), 0, MATCH(M73, 单列下拉值!$B$2:$B$3, 0) - 1)), DEC2BIN(IF(ISBLANK(N73), 0, MATCH(N73, 单列下拉值!$C$2:$C$3, 0) - 1)), DEC2BIN(IF(ISBLANK(O73), 0, MATCH(O73, ALU寄存器选择!$D$2:$D$5, 0) - 1), 2)) -> 0000 | Y73: =_xlfn.CONCAT(DEC2BIN(IF(ISBLANK(P73),0,MATCH(P73,单列下拉值!$D$2:$D$3,0)-1)), DEC2BIN(IF(ISBLANK(Q73), 0, MATCH(Q73, CP选择!$E$2:$E$9, 0) - 1), 3)) -> 0000 | Z73: =_xlfn.CONCAT(DEC2BIN(R73), DEC2BIN(IF(ISBLANK(S73), 0, MATCH(S73, 后继微地址形成!$E$2:$E$9, 0) - 1), 3)) -> 0000
C74: =DEC2HEX(ROW(C74)-3, 2) -> 47 | D74: =_xlfn.CONCAT(BIN2HEX(U74), BIN2HEX(V74), " ", BIN2HEX(W74), BIN2HEX(X74), " ", BIN2HEX(Y74), BIN2HEX(Z74)) -> 00 00 00 | U74: =_xlfn.CONCAT(DEC2BIN(E74), DEC2BIN(F74), DEC2BIN(G74), DEC2BIN(H74)) -> 0000 | V74: =_xlfn.CONCAT(DEC2BIN(IF(ISBLANK(I74), 0, MATCH(I74, 运算选择!$E$2:$E$9, 0) - 1), 3), DEC2BIN(IF(ISBLANK(J74), 0, MATCH(J74, 单列下拉值!$A$2:$A$3, 0) - 1), 1)) -> 0000 | W74: =_xlfn.CONCAT(DEC2BIN(IF(ISBLANK(K74), 0, MATCH(K74, A寄存器选择!$D$2:$D$5, 0) - 1), 2), DEC2BIN(IF(ISBLANK(L74), 0, MATCH(L74, B寄存器选择!$D$2:$D$5, 0) - 1), 2)) -> 0000 | X74: =_xlfn.CONCAT(DEC2BIN(IF(ISBLANK(M74), 0, MATCH(M74, 单列下拉值!$B$2:$B$3, 0) - 1)), DEC2BIN(IF(ISBLANK(N74), 0, MATCH(N74, 单列下拉值!$C$2:$C$3, 0) - 1)), DEC2BIN(IF(ISBLANK(O74), 0, MATCH(O74, ALU寄存器选择!$D$2:$D$5, 0) - 1), 2)) -> 0000 | Y74: =_xlfn.CONCAT(DEC2BIN(IF(ISBLANK(P74),0,MATCH(P74,单列下拉值!$D$2:$D$3,0)-1)), DEC2BIN(IF(ISBLANK(Q74), 0, MATCH(Q74, CP选择!$E$2:$E$9, 0) - 1), 3)) -> 0000 | Z74: =_xlfn.CONCAT(DEC2BIN(R74), DEC2BIN(IF(ISBLANK(S74), 0, MATCH(S74, 后继微地址形成!$E$2:$E$9, 0) - 1), 3)) -> 0000
C75: =DEC2HEX(ROW(C75)-3, 2) -> 48 | D75: =_xlfn.CONCAT(BIN2HEX(U75), BIN2HEX(V75), " ", BIN2HEX(W75), BIN2HEX(X75), " ", BIN2HEX(Y75), BIN2HEX(Z75)) -> 00 00 00 | U75: =_xlfn.CONCAT(DEC2BIN(E75), DEC2BIN(F75), DEC2BIN(G75), DEC2BIN(H75)) -> 0000 | V75: =_xlfn.CONCAT(DEC2BIN(IF(ISBLANK(I75), 0, MATCH(I75, 运算选择!$E$2:$E$9, 0) - 1), 3), DEC2BIN(IF(ISBLANK(J75), 0, MATCH(J75, 单列下拉值!$A$2:$A$3, 0) - 1), 1)) -> 0000 | W75: =_xlfn.CONCAT(DEC2BIN(IF(ISBLANK(K75), 0, MATCH(K75, A寄存器选择!$D$2:$D$5, 0) - 1), 2), DEC2BIN(IF(ISBLANK(L75), 0, MATCH(L75, B寄存器选择!$D$2:$D$5, 0) - 1), 2)) -> 0000 | X75: =_xlfn.CONCAT(DEC2BIN(IF(ISBLANK(M75), 0, MATCH(M75, 单列下拉值!$B$2:$B$3, 0) - 1)), DEC2BIN(IF(ISBLANK(N75), 0, MATCH(N75, 单列下拉值!$C$2:$C$3, 0) - 1)), DEC2BIN(IF(ISBLANK(O75), 0, MATCH(O75, ALU寄存器选择!$D$2:$D$5, 0) - 1), 2)) -> 0000 | Y75: =_xlfn.CONCAT(DEC2BIN(IF(ISBLANK(P75),0,MATCH(P75,单列下拉值!$D$2:$D$3,0)-1)), DEC2BIN(IF(ISBLANK(Q75), 0, MATCH(Q75, CP选择!$E$2:$E$9, 0) - 1), 3)) -> 0000 | Z75: =_xlfn.CONCAT(DEC2BIN(R75), DEC2BIN(IF(ISBLANK(S75), 0, MATCH(S75, 后继微地址形成!$E$2:$E$9, 0) - 1), 3)) -> 0000
C76: =DEC2HEX(ROW(C76)-3, 2) -> 49 | D76: =_xlfn.CONCAT(BIN2HEX(U76), BIN2HEX(V76), " ", BIN2HEX(W76), BIN2HEX(X76), " ", BIN2HEX(Y76), BIN2HEX(Z76)) -> 00 00 00 | U76: =_xlfn.CONCAT(DEC2BIN(E76), DEC2BIN(F76), DEC2BIN(G76), DEC2BIN(H76)) -> 0000 | V76: =_xlfn.CONCAT(DEC2BIN(IF(ISBLANK(I76), 0, MATCH(I76, 运算选择!$E$2:$E$9, 0) - 1), 3), DEC2BIN(IF(ISBLANK(J76), 0, MATCH(J76, 单列下拉值!$A$2:$A$3, 0) - 1), 1)) -> 0000 | W76: =_xlfn.CONCAT(DEC2BIN(IF(ISBLANK(K76), 0, MATCH(K76, A寄存器选择!$D$2:$D$5, 0) - 1), 2), DEC2BIN(IF(ISBLANK(L76), 0, MATCH(L76, B寄存器选择!$D$2:$D$5, 0) - 1), 2)) -> 0000 | X76: =_xlfn.CONCAT(DEC2BIN(IF(ISBLANK(M76), 0, MATCH(M76, 单列下拉值!$B$2:$B$3, 0) - 1)), DEC2BIN(IF(ISBLANK(N76), 0, MATCH(N76, 单列下拉值!$C$2:$C$3, 0) - 1)), DEC2BIN(IF(ISBLANK(O76), 0, MATCH(O76, ALU寄存器选择!$D$2:$D$5, 0) - 1), 2)) -> 0000 | Y76: =_xlfn.CONCAT(DEC2BIN(IF(ISBLANK(P76),0,MATCH(P76,单列下拉值!$D$2:$D$3,0)-1)), DEC2BIN(IF(ISBLANK(Q76), 0, MATCH(Q76, CP选择!$E$2:$E$9, 0) - 1), 3)) -> 0000 | Z76: =_xlfn.CONCAT(DEC2BIN(R76), DEC2BIN(IF(ISBLANK(S76), 0, MATCH(S76, 后继微地址形成!$E$2:$E$9, 0) - 1), 3)) -> 0000
C77: =DEC2HEX(ROW(C77)-3, 2) -> 4A | D77: =_xlfn.CONCAT(BIN2HEX(U77), BIN2HEX(V77), " ", BIN2HEX(W77), BIN2HEX(X77), " ", BIN2HEX(Y77), BIN2HEX(Z77)) -> 00 00 00 | U77: =_xlfn.CONCAT(DEC2BIN(E77), DEC2BIN(F77), DEC2BIN(G77), DEC2BIN(H77)) -> 0000 | V77: =_xlfn.CONCAT(DEC2BIN(IF(ISBLANK(I77), 0, MATCH(I77, 运算选择!$E$2:$E$9, 0) - 1), 3), DEC2BIN(IF(ISBLANK(J77), 0, MATCH(J77, 单列下拉值!$A$2:$A$3, 0) - 1), 1)) -> 0000 | W77: =_xlfn.CONCAT(DEC2BIN(IF(ISBLANK(K77), 0, MATCH(K77, A寄存器选择!$D$2:$D$5, 0) - 1), 2), DEC2BIN(IF(ISBLANK(L77), 0, MATCH(L77, B寄存器选择!$D$2:$D$5, 0) - 1), 2)) -> 0000 | X77: =_xlfn.CONCAT(DEC2BIN(IF(ISBLANK(M77), 0, MATCH(M77, 单列下拉值!$B$2:$B$3, 0) - 1)), DEC2BIN(IF(ISBLANK(N77), 0, MATCH(N77, 单列下拉值!$C$2:$C$3, 0) - 1)), DEC2BIN(IF(ISBLANK(O77), 0, MATCH(O77, ALU寄存器选择!$D$2:$D$5, 0) - 1), 2)) -> 0000 | Y77: =_xlfn.CONCAT(DEC2BIN(IF(ISBLANK(P77),0,MATCH(P77,单列下拉值!$D$2:$D$3,0)-1)), DEC2BIN(IF(ISBLANK(Q77), 0, MATCH(Q77, CP选择!$E$2:$E$9, 0) - 1), 3)) -> 0000 | Z77: =_xlfn.CONCAT(DEC2BIN(R77), DEC2BIN(IF(ISBLANK(S77), 0, MATCH(S77, 后继微地址形成!$E$2:$E$9, 0) - 1), 3)) -> 0000
C78: =DEC2HEX(ROW(C78)-3, 2) -> 4B | D78: =_xlfn.CONCAT(BIN2HEX(U78), BIN2HEX(V78), " ", BIN2HEX(W78), BIN2HEX(X78), " ", BIN2HEX(Y78), BIN2HEX(Z78)) -> 00 00 00 | U78: =_xlfn.CONCAT(DEC2BIN(E78), DEC2BIN(F78), DEC2BIN(G78), DEC2BIN(H78)) -> 0000 | V78: =_xlfn.CONCAT(DEC2BIN(IF(ISBLANK(I78), 0, MATCH(I78, 运算选择!$E$2:$E$9, 0) - 1), 3), DEC2BIN(IF(ISBLANK(J78), 0, MATCH(J78, 单列下拉值!$A$2:$A$3, 0) - 1), 1)) -> 0000 | W78: =_xlfn.CONCAT(DEC2BIN(IF(ISBLANK(K78), 0, MATCH(K78, A寄存器选择!$D$2:$D$5, 0) - 1), 2), DEC2BIN(IF(ISBLANK(L78), 0, MATCH(L78, B寄存器选择!$D$2:$D$5, 0) - 1), 2)) -> 0000 | X78: =_xlfn.CONCAT(DEC2BIN(IF(ISBLANK(M78), 0, MATCH(M78, 单列下拉值!$B$2:$B$3, 0) - 1)), DEC2BIN(IF(ISBLANK(N78), 0, MATCH(N78, 单列下拉值!$C$2:$C$3, 0) - 1)), DEC2BIN(IF(ISBLANK(O78), 0, MATCH(O78, ALU寄存器选择!$D$2:$D$5, 0) - 1), 2)) -> 0000 | Y78: =_xlfn.CONCAT(DEC2BIN(IF(ISBLANK(P78),0,MATCH(P78,单列下拉值!$D$2:$D$3,0)-1)), DEC2BIN(IF(ISBLANK(Q78), 0, MATCH(Q78, CP选择!$E$2:$E$9, 0) - 1), 3)) -> 0000 | Z78: =_xlfn.CONCAT(DEC2BIN(R78), DEC2BIN(IF(ISBLANK(S78), 0, MATCH(S78, 后继微地址形成!$E$2:$E$9, 0) - 1), 3)) -> 0000
C79: =DEC2HEX(ROW(C79)-3, 2) -> 4C | D79: =_xlfn.CONCAT(BIN2HEX(U79), BIN2HEX(V79), " ", BIN2HEX(W79), BIN2HEX(X79), " ", BIN2HEX(Y79), BIN2HEX(Z79)) -> 00 00 00 | U79: =_xlfn.CONCAT(DEC2BIN(E79), DEC2BIN(F79), DEC2BIN(G79), DEC2BIN(H79)) -> 0000 | V79: =_xlfn.CONCAT(DEC2BIN(IF(ISBLANK(I79), 0, MATCH(I79, 运算选择!$E$2:$E$9, 0) - 1), 3), DEC2BIN(IF(ISBLANK(J79), 0, MATCH(J79, 单列下拉值!$A$2:$A$3, 0) - 1), 1)) -> 0000 | W79: =_xlfn.CONCAT(DEC2BIN(IF(ISBLANK(K79), 0, MATCH(K79, A寄存器选择!$D$2:$D$5, 0) - 1), 2), DEC2BIN(IF(ISBLANK(L79), 0, MATCH(L79, B寄存器选择!$D$2:$D$5, 0) - 1), 2)) -> 0000 | X79: =_xlfn.CONCAT(DEC2BIN(IF(ISBLANK(M79), 0, MATCH(M79, 单列下拉值!$B$2:$B$3, 0) - 1)), DEC2BIN(IF(ISBLANK(N79), 0, MATCH(N79, 单列下拉值!$C$2:$C$3, 0) - 1)), DEC2BIN(IF(ISBLANK(O79), 0, MATCH(O79, ALU寄存器选择!$D$2:$D$5, 0) - 1), 2)) -> 0000 | Y79: =_xlfn.CONCAT(DEC2BIN(IF(ISBLANK(P79),0,MATCH(P79,单列下拉值!$D$2:$D$3,0)-1)), DEC2BIN(IF(ISBLANK(Q79), 0, MATCH(Q79, CP选择!$E$2:$E$9, 0) - 1), 3)) -> 0000 | Z79: =_xlfn.CONCAT(DEC2BIN(R79), DEC2BIN(IF(ISBLANK(S79), 0, MATCH(S79, 后继微地址形成!$E$2:$E$9, 0) - 1), 3)) -> 0000
... C82: =DEC2HEX(ROW(C82)-3, 2) -> 4F | D82: =_xlfn.CONCAT(BIN2HEX(U82), BIN2HEX(V82), " ", BIN2HEX(W82), BIN2HEX(X82), " ", BIN2HEX(Y82), BIN2HEX(Z82)) -> 00 00 00 | U82: =_xlfn.CONCAT(DEC2BIN(E82), DEC2BIN(F82), DEC2BIN(G82), DEC2BIN(H82)) -> 0000 | V82: =_xlfn.CONCAT(DEC2BIN(IF(ISBLANK(I82), 0, MATCH(I82, 运算选择!$E$2:$E$9, 0) - 1), 3), DEC2BIN(IF(ISBLANK(J82), 0, MATCH(J82, 单列下拉值!$A$2:$A$3, 0) - 1), 1)) -> 0000 | W82: =_xlfn.CONCAT(DEC2BIN(IF(ISBLANK(K82), 0, MATCH(K82, A寄存器选择!$D$2:$D$5, 0) - 1), 2), DEC2BIN(IF(ISBLANK(L82), 0, MATCH(L82, B寄存器选择!$D$2:$D$5, 0) - 1), 2)) -> 0000 | X82: =_xlfn.CONCAT(DEC2BIN(IF(ISBLANK(M82), 0, MATCH(M82, 单列下拉值!$B$2:$B$3, 0) - 1)), DEC2BIN(IF(ISBLANK(N82), 0, MATCH(N82, 单列下拉值!$C$2:$C$3, 0) - 1)), DEC2BIN(IF(ISBLANK(O82), 0, MATCH(O82, ALU寄存器选择!$D$2:$D$5, 0) - 1), 2)) -> 0000 | Y82: =_xlfn.CONCAT(DEC2BIN(IF(ISBLANK(P82),0,MATCH(P82,单列下拉值!$D$2:$D$3,0)-1)), DEC2BIN(IF(ISBLANK(Q82), 0, MATCH(Q82, CP选择!$E$2:$E$9, 0) - 1), 3)) -> 0000 | Z82: =_xlfn.CONCAT(DEC2BIN(R82), DEC2BIN(IF(ISBLANK(S82), 0, MATCH(S82, 后继微地址形成!$E$2:$E$9, 0) - 1), 3)) -> 0000
A83: JX PSW, AD | C83: =DEC2HEX(ROW(C83)-3, 2) -> 50 | D83: =_xlfn.CONCAT(BIN2HEX(U83), BIN2HEX(V83), " ", BIN2HEX(W83), BIN2HEX(X83), " ", BIN2HEX(Y83), BIN2HEX(Z83)) -> 00 00 00 | U83: =_xlfn.CONCAT(DEC2BIN(E83), DEC2BIN(F83), DEC2BIN(G83), DEC2BIN(H83)) -> 0000 | V83: =_xlfn.CONCAT(DEC2BIN(IF(ISBLANK(I83), 0, MATCH(I83, 运算选择!$E$2:$E$9, 0) - 1), 3), DEC2BIN(IF(ISBLANK(J83), 0, MATCH(J83, 单列下拉值!$A$2:$A$3, 0) - 1), 1)) -> 0000 | W83: =_xlfn.CONCAT(DEC2BIN(IF(ISBLANK(K83), 0, MATCH(K83, A寄存器选择!$D$2:$D$5, 0) - 1), 2), DEC2BIN(IF(ISBLANK(L83), 0, MATCH(L83, B寄存器选择!$D$2:$D$5, 0) - 1), 2)) -> 0000 | X83: =_xlfn.CONCAT(DEC2BIN(IF(ISBLANK(M83), 0, MATCH(M83, 单列下拉值!$B$2:$B$3, 0) - 1)), DEC2BIN(IF(ISBLANK(N83), 0, MATCH(N83, 单列下拉值!$C$2:$C$3, 0) - 1)), DEC2BIN(IF(ISBLANK(O83), 0, MATCH(O83, ALU寄存器选择!$D$2:$D$5, 0) - 1), 2)) -> 0000 | Y83: =_xlfn.CONCAT(DEC2BIN(IF(ISBLANK(P83),0,MATCH(P83,单列下拉值!$D$2:$D$3,0)-1)), DEC2BIN(IF(ISBLANK(Q83), 0, MATCH(Q83, CP选择!$E$2:$E$9, 0) - 1), 3)) -> 0000 | Z83: =_xlfn.CONCAT(DEC2BIN(R83), DEC2BIN(IF(ISBLANK(S83), 0, MATCH(S83, 后继微地址形成!$E$2:$E$9, 0) - 1), 3)) -> 0000
C84: =DEC2HEX(ROW(C84)-3, 2) -> 51 | D84: =_xlfn.CONCAT(BIN2HEX(U84), BIN2HEX(V84), " ", BIN2HEX(W84), BIN2HEX(X84), " ", BIN2HEX(Y84), BIN2HEX(Z84)) -> 00 00 00 | U84: =_xlfn.CONCAT(DEC2BIN(E84), DEC2BIN(F84), DEC2BIN(G84), DEC2BIN(H84)) -> 0000 | V84: =_xlfn.CONCAT(DEC2BIN(IF(ISBLANK(I84), 0, MATCH(I84, 运算选择!$E$2:$E$9, 0) - 1), 3), DEC2BIN(IF(ISBLANK(J84), 0, MATCH(J84, 单列下拉值!$A$2:$A$3, 0) - 1), 1)) -> 0000 | W84: =_xlfn.CONCAT(DEC2BIN(IF(ISBLANK(K84), 0, MATCH(K84, A寄存器选择!$D$2:$D$5, 0) - 1), 2), DEC2BIN(IF(ISBLANK(L84), 0, MATCH(L84, B寄存器选择!$D$2:$D$5, 0) - 1), 2)) -> 0000 | X84: =_xlfn.CONCAT(DEC2BIN(IF(ISBLANK(M84), 0, MATCH(M84, 单列下拉值!$B$2:$B$3, 0) - 1)), DEC2BIN(IF(ISBLANK(N84), 0, MATCH(N84, 单列下拉值!$C$2:$C$3, 0) - 1)), DEC2BIN(IF(ISBLANK(O84), 0, MATCH(O84, ALU寄存器选择!$D$2:$D$5, 0) - 1), 2)) -> 0000 | Y84: =_xlfn.CONCAT(DEC2BIN(IF(ISBLANK(P84),0,MATCH(P84,单列下拉值!$D$2:$D$3,0)-1)), DEC2BIN(IF(ISBLANK(Q84), 0, MATCH(Q84, CP选择!$E$2:$E$9, 0) - 1), 3)) -> 0000 | Z84: =_xlfn.CONCAT(DEC2BIN(R84), DEC2BIN(IF(ISBLANK(S84), 0, MATCH(S84, 后继微地址形成!$E$2:$E$9, 0) - 1), 3)) -> 0000
C85: =DEC2HEX(ROW(C85)-3, 2) -> 52 | D85: =_xlfn.CONCAT(BIN2HEX(U85), BIN2HEX(V85), " ", BIN2HEX(W85), BIN2HEX(X85), " ", BIN2HEX(Y85), BIN2HEX(Z85)) -> 00 00 00 | U85: =_xlfn.CONCAT(DEC2BIN(E85), DEC2BIN(F85), DEC2BIN(G85), DEC2BIN(H85)) -> 0000 | V85: =_xlfn.CONCAT(DEC2BIN(IF(ISBLANK(I85), 0, MATCH(I85, 运算选择!$E$2:$E$9, 0) - 1), 3), DEC2BIN(IF(ISBLANK(J85), 0, MATCH(J85, 单列下拉值!$A$2:$A$3, 0) - 1), 1)) -> 0000 | W85: =_xlfn.CONCAT(DEC2BIN(IF(ISBLANK(K85), 0, MATCH(K85, A寄存器选择!$D$2:$D$5, 0) - 1), 2), DEC2BIN(IF(ISBLANK(L85), 0, MATCH(L85, B寄存器选择!$D$2:$D$5, 0) - 1), 2)) -> 0000 | X85: =_xlfn.CONCAT(DEC2BIN(IF(ISBLANK(M85), 0, MATCH(M85, 单列下拉值!$B$2:$B$3, 0) - 1)), DEC2BIN(IF(ISBLANK(N85), 0, MATCH(N85, 单列下拉值!$C$2:$C$3, 0) - 1)), DEC2BIN(IF(ISBLANK(O85), 0, MATCH(O85, ALU寄存器选择!$D$2:$D$5, 0) - 1), 2)) -> 0000 | Y85: =_xlfn.CONCAT(DEC2BIN(IF(ISBLANK(P85),0,MATCH(P85,单列下拉值!$D$2:$D$3,0)-1)), DEC2BIN(IF(ISBLANK(Q85), 0, MATCH(Q85, CP选择!$E$2:$E$9, 0) - 1), 3)) -> 0000 | Z85: =_xlfn.CONCAT(DEC2BIN(R85), DEC2BIN(IF(ISBLANK(S85), 0, MATCH(S85, 后继微地址形成!$E$2:$E$9, 0) - 1), 3)) -> 0000
C86: =DEC2HEX(ROW(C86)-3, 2) -> 53 | D86: =_xlfn.CONCAT(BIN2HEX(U86), BIN2HEX(V86), " ", BIN2HEX(W86), BIN2HEX(X86), " ", BIN2HEX(Y86), BIN2HEX(Z86)) -> 00 00 00 | U86: =_xlfn.CONCAT(DEC2BIN(E86), DEC2BIN(F86), DEC2BIN(G86), DEC2BIN(H86)) -> 0000 | V86: =_xlfn.CONCAT(DEC2BIN(IF(ISBLANK(I86), 0, MATCH(I86, 运算选择!$E$2:$E$9, 0) - 1), 3), DEC2BIN(IF(ISBLANK(J86), 0, MATCH(J86, 单列下拉值!$A$2:$A$3, 0) - 1), 1)) -> 0000 | W86: =_xlfn.CONCAT(DEC2BIN(IF(ISBLANK(K86), 0, MATCH(K86, A寄存器选择!$D$2:$D$5, 0) - 1), 2), DEC2BIN(IF(ISBLANK(L86), 0, MATCH(L86, B寄存器选择!$D$2:$D$5, 0) - 1), 2)) -> 0000 | X86: =_xlfn.CONCAT(DEC2BIN(IF(ISBLANK(M86), 0, MATCH(M86, 单列下拉值!$B$2:$B$3, 0) - 1)), DEC2BIN(IF(ISBLANK(N86), 0, MATCH(N86, 单列下拉值!$C$2:$C$3, 0) - 1)), DEC2BIN(IF(ISBLANK(O86), 0, MATCH(O86, ALU寄存器选择!$D$2:$D$5, 0) - 1), 2)) -> 0000 | Y86: =_xlfn.CONCAT(DEC2BIN(IF(ISBLANK(P86),0,MATCH(P86,单列下拉值!$D$2:$D$3,0)-1)), DEC2BIN(IF(ISBLANK(Q86), 0, MATCH(Q86, CP选择!$E$2:$E$9, 0) - 1), 3)) -> 0000 | Z86: =_xlfn.CONCAT(DEC2BIN(R86), DEC2BIN(IF(ISBLANK(S86), 0, MATCH(S86, 后继微地址形成!$E$2:$E$9, 0) - 1), 3)) -> 0000
C87: =DEC2HEX(ROW(C87)-3, 2) -> 54 | D87: =_xlfn.CONCAT(BIN2HEX(U87), BIN2HEX(V87), " ", BIN2HEX(W87), BIN2HEX(X87), " ", BIN2HEX(Y87), BIN2HEX(Z87)) -> 00 00 00 | U87: =_xlfn.CONCAT(DEC2BIN(E87), DEC2BIN(F87), DEC2BIN(G87), DEC2BIN(H87)) -> 0000 | V87: =_xlfn.CONCAT(DEC2BIN(IF(ISBLANK(I87), 0, MATCH(I87, 运算选择!$E$2:$E$9, 0) - 1), 3), DEC2BIN(IF(ISBLANK(J87), 0, MATCH(J87, 单列下拉值!$A$2:$A$3, 0) - 1), 1)) -> 0000 | W87: =_xlfn.CONCAT(DEC2BIN(IF(ISBLANK(K87), 0, MATCH(K87, A寄存器选择!$D$2:$D$5, 0) - 1), 2), DEC2BIN(IF(ISBLANK(L87), 0, MATCH(L87, B寄存器选择!$D$2:$D$5, 0) - 1), 2)) -> 0000 | X87: =_xlfn.CONCAT(DEC2BIN(IF(ISBLANK(M87), 0, MATCH(M87, 单列下拉值!$B$2:$B$3, 0) - 1)), DEC2BIN(IF(ISBLANK(N87), 0, MATCH(N87, 单列下拉值!$C$2:$C$3, 0) - 1)), DEC2BIN(IF(ISBLANK(O87), 0, MATCH(O87, ALU寄存器选择!$D$2:$D$5, 0) - 1), 2)) -> 0000 | Y87: =_xlfn.CONCAT(DEC2BIN(IF(ISBLANK(P87),0,MATCH(P87,单列下拉值!$D$2:$D$3,0)-1)), DEC2BIN(IF(ISBLANK(Q87), 0, MATCH(Q87, CP选择!$E$2:$E$9, 0) - 1), 3)) -> 0000 | Z87: =_xlfn.CONCAT(DEC2BIN(R87), DEC2BIN(IF(ISBLANK(S87), 0, MATCH(S87, 后继微地址形成!$E$2:$E$9, 0) - 1), 3)) -> 0000
C88: =DEC2HEX(ROW(C88)-3, 2) -> 55 | D88: =_xlfn.CONCAT(BIN2HEX(U88), BIN2HEX(V88), " ", BIN2HEX(W88), BIN2HEX(X88), " ", BIN2HEX(Y88), BIN2HEX(Z88)) -> 00 00 00 | U88: =_xlfn.CONCAT(DEC2BIN(E88), DEC2BIN(F88), DEC2BIN(G88), DEC2BIN(H88)) -> 0000 | V88: =_xlfn.CONCAT(DEC2BIN(IF(ISBLANK(I88), 0, MATCH(I88, 运算选择!$E$2:$E$9, 0) - 1), 3), DEC2BIN(IF(ISBLANK(J88), 0, MATCH(J88, 单列下拉值!$A$2:$A$3, 0) - 1), 1)) -> 0000 | W88: =_xlfn.CONCAT(DEC2BIN(IF(ISBLANK(K88), 0, MATCH(K88, A寄存器选择!$D$2:$D$5, 0) - 1), 2), DEC2BIN(IF(ISBLANK(L88), 0, MATCH(L88, B寄存器选择!$D$2:$D$5, 0) - 1), 2)) -> 0000 | X88: =_xlfn.CONCAT(DEC2BIN(IF(ISBLANK(M88), 0, MATCH(M88, 单列下拉值!$B$2:$B$3, 0) - 1)), DEC2BIN(IF(ISBLANK(N88), 0, MATCH(N88, 单列下拉值!$C$2:$C$3, 0) - 1)), DEC2BIN(IF(ISBLANK(O88), 0, MATCH(O88, ALU寄存器选择!$D$2:$D$5, 0) - 1), 2)) -> 0000 | Y88: =_xlfn.CONCAT(DEC2BIN(IF(ISBLANK(P88),0,MATCH(P88,单列下拉值!$D$2:$D$3,0)-1)), DEC2BIN(IF(ISBLANK(Q88), 0, MATCH(Q88, CP选择!$E$2:$E$9, 0) - 1), 3)) -> 0000 | Z88: =_xlfn.CONCAT(DEC2BIN(R88), DEC2BIN(IF(ISBLANK(S88), 0, MATCH(S88, 后继微地址形成!$E$2:$E$9, 0) - 1), 3)) -> 0000
C89: =DEC2HEX(ROW(C89)-3, 2) -> 56 | D89: =_xlfn.CONCAT(BIN2HEX(U89), BIN2HEX(V89), " ", BIN2HEX(W89), BIN2HEX(X89), " ", BIN2HEX(Y89), BIN2HEX(Z89)) -> 00 00 00 | U89: =_xlfn.CONCAT(DEC2BIN(E89), DEC2BIN(F89), DEC2BIN(G89), DEC2BIN(H89)) -> 0000 | V89: =_xlfn.CONCAT(DEC2BIN(IF(ISBLANK(I89), 0, MATCH(I89, 运算选择!$E$2:$E$9, 0) - 1), 3), DEC2BIN(IF(ISBLANK(J89), 0, MATCH(J89, 单列下拉值!$A$2:$A$3, 0) - 1), 1)) -> 0000 | W89: =_xlfn.CONCAT(DEC2BIN(IF(ISBLANK(K89), 0, MATCH(K89, A寄存器选择!$D$2:$D$5, 0) - 1), 2), DEC2BIN(IF(ISBLANK(L89), 0, MATCH(L89, B寄存器选择!$D$2:$D$5, 0) - 1), 2)) -> 0000 | X89: =_xlfn.CONCAT(DEC2BIN(IF(ISBLANK(M89), 0, MATCH(M89, 单列下拉值!$B$2:$B$3, 0) - 1)), DEC2BIN(IF(ISBLANK(N89), 0, MATCH(N89, 单列下拉值!$C$2:$C$3, 0) - 1)), DEC2BIN(IF(ISBLANK(O89), 0, MATCH(O89, ALU寄存器选择!$D$2:$D$5, 0) - 1), 2)) -> 0000 | Y89: =_xlfn.CONCAT(DEC2BIN(IF(ISBLANK(P89),0,MATCH(P89,单列下拉值!$D$2:$D$3,0)-1)), DEC2BIN(IF(ISBLANK(Q89), 0, MATCH(Q89, CP选择!$E$2:$E$9, 0) - 1), 3)) -> 0000 | Z89: =_xlfn.CONCAT(DEC2BIN(R89), DEC2BIN(IF(ISBLANK(S89), 0, MATCH(S89, 后继微地址形成!$E$2:$E$9, 0) - 1), 3)) -> 0000
C90: =DEC2HEX(ROW(C90)-3, 2) -> 57 | D90: =_xlfn.CONCAT(BIN2HEX(U90), BIN2HEX(V90), " ", BIN2HEX(W90), BIN2HEX(X90), " ", BIN2HEX(Y90), BIN2HEX(Z90)) -> 00 00 00 | U90: =_xlfn.CONCAT(DEC2BIN(E90), DEC2BIN(F90), DEC2BIN(G90), DEC2BIN(H90)) -> 0000 | V90: =_xlfn.CONCAT(DEC2BIN(IF(ISBLANK(I90), 0, MATCH(I90, 运算选择!$E$2:$E$9, 0) - 1), 3), DEC2BIN(IF(ISBLANK(J90), 0, MATCH(J90, 单列下拉值!$A$2:$A$3, 0) - 1), 1)) -> 0000 | W90: =_xlfn.CONCAT(DEC2BIN(IF(ISBLANK(K90), 0, MATCH(K90, A寄存器选择!$D$2:$D$5, 0) - 1), 2), DEC2BIN(IF(ISBLANK(L90), 0, MATCH(L90, B寄存器选择!$D$2:$D$5, 0) - 1), 2)) -> 0000 | X90: =_xlfn.CONCAT(DEC2BIN(IF(ISBLANK(M90), 0, MATCH(M90, 单列下拉值!$B$2:$B$3, 0) - 1)), DEC2BIN(IF(ISBLANK(N90), 0, MATCH(N90, 单列下拉值!$C$2:$C$3, 0) - 1)), DEC2BIN(IF(ISBLANK(O90), 0, MATCH(O90, ALU寄存器选择!$D$2:$D$5, 0) - 1), 2)) -> 0000 | Y90: =_xlfn.CONCAT(DEC2BIN(IF(ISBLANK(P90),0,MATCH(P90,单列下拉值!$D$2:$D$3,0)-1)), DEC2BIN(IF(ISBLANK(Q90), 0, MATCH(Q90, CP选择!$E$2:$E$9, 0) - 1), 3)) -> 0000 | Z90: =_xlfn.CONCAT(DEC2BIN(R90), DEC2BIN(IF(ISBLANK(S90), 0, MATCH(S90, 后继微地址形成!$E$2:$E$9, 0) - 1), 3)) -> 0000
C91: =DEC2HEX(ROW(C91)-3, 2) -> 58 | D91: =_xlfn.CONCAT(BIN2HEX(U91), BIN2HEX(V91), " ", BIN2HEX(W91), BIN2HEX(X91), " ", BIN2HEX(Y91), BIN2HEX(Z91)) -> 00 00 00 | U91: =_xlfn.CONCAT(DEC2BIN(E91), DEC2BIN(F91), DEC2BIN(G91), DEC2BIN(H91)) -> 0000 | V91: =_xlfn.CONCAT(DEC2BIN(IF(ISBLANK(I91), 0, MATCH(I91, 运算选择!$E$2:$E$9, 0) - 1), 3), DEC2BIN(IF(ISBLANK(J91), 0, MATCH(J91, 单列下拉值!$A$2:$A$3, 0) - 1), 1)) -> 0000 | W91: =_xlfn.CONCAT(DEC2BIN(IF(ISBLANK(K91), 0, MATCH(K91, A寄存器选择!$D$2:$D$5, 0) - 1), 2), DEC2BIN(IF(ISBLANK(L91), 0, MATCH(L91, B寄存器选择!$D$2:$D$5, 0) - 1), 2)) -> 0000 | X91: =_xlfn.CONCAT(DEC2BIN(IF(ISBLANK(M91), 0, MATCH(M91, 单列下拉值!$B$2:$B$3, 0) - 1)), DEC2BIN(IF(ISBLANK(N91), 0, MATCH(N91, 单列下拉值!$C$2:$C$3, 0) - 1)), DEC2BIN(IF(ISBLANK(O91), 0, MATCH(O91, ALU寄存器选择!$D$2:$D$5, 0) - 1), 2)) -> 0000 | Y91: =_xlfn.CONCAT(DEC2BIN(IF(ISBLANK(P91),0,MATCH(P91,单列下拉值!$D$2:$D$3,0)-1)), DEC2BIN(IF(ISBLANK(Q91), 0, MATCH(Q91, CP选择!$E$2:$E$9, 0) - 1), 3)) -> 0000 | Z91: =_xlfn.CONCAT(DEC2BIN(R91), DEC2BIN(IF(ISBLANK(S91), 0, MATCH(S91, 后继微地址形成!$E$2:$E$9, 0) - 1), 3)) -> 0000
C92: =DEC2HEX(ROW(C92)-3, 2) -> 59 | D92: =_xlfn.CONCAT(BIN2HEX(U92), BIN2HEX(V92), " ", BIN2HEX(W92), BIN2HEX(X92), " ", BIN2HEX(Y92), BIN2HEX(Z92)) -> 00 00 00 | U92: =_xlfn.CONCAT(DEC2BIN(E92), DEC2BIN(F92), DEC2BIN(G92), DEC2BIN(H92)) -> 0000 | V92: =_xlfn.CONCAT(DEC2BIN(IF(ISBLANK(I92), 0, MATCH(I92, 运算选择!$E$2:$E$9, 0) - 1), 3), DEC2BIN(IF(ISBLANK(J92), 0, MATCH(J92, 单列下拉值!$A$2:$A$3, 0) - 1), 1)) -> 0000 | W92: =_xlfn.CONCAT(DEC2BIN(IF(ISBLANK(K92), 0, MATCH(K92, A寄存器选择!$D$2:$D$5, 0) - 1), 2), DEC2BIN(IF(ISBLANK(L92), 0, MATCH(L92, B寄存器选择!$D$2:$D$5, 0) - 1), 2)) -> 0000 | X92: =_xlfn.CONCAT(DEC2BIN(IF(ISBLANK(M92), 0, MATCH(M92, 单列下拉值!$B$2:$B$3, 0) - 1)), DEC2BIN(IF(ISBLANK(N92), 0, MATCH(N92, 单列下拉值!$C$2:$C$3, 0) - 1)), DEC2BIN(IF(ISBLANK(O92), 0, MATCH(O92, ALU寄存器选择!$D$2:$D$5, 0) - 1), 2)) -> 0000 | Y92: =_xlfn.CONCAT(DEC2BIN(IF(ISBLANK(P92),0,MATCH(P92,单列下拉值!$D$2:$D$3,0)-1)), DEC2BIN(IF(ISBLANK(Q92), 0, MATCH(Q92, CP选择!$E$2:$E$9, 0) - 1), 3)) -> 0000 | Z92: =_xlfn.CONCAT(DEC2BIN(R92), DEC2BIN(IF(ISBLANK(S92), 0, MATCH(S92, 后继微地址形成!$E$2:$E$9, 0) - 1), 3)) -> 0000
C93: =DEC2HEX(ROW(C93)-3, 2) -> 5A | D93: =_xlfn.CONCAT(BIN2HEX(U93), BIN2HEX(V93), " ", BIN2HEX(W93), BIN2HEX(X93), " ", BIN2HEX(Y93), BIN2HEX(Z93)) -> 00 00 00 | U93: =_xlfn.CONCAT(DEC2BIN(E93), DEC2BIN(F93), DEC2BIN(G93), DEC2BIN(H93)) -> 0000 | V93: =_xlfn.CONCAT(DEC2BIN(IF(ISBLANK(I93), 0, MATCH(I93, 运算选择!$E$2:$E$9, 0) - 1), 3), DEC2BIN(IF(ISBLANK(J93), 0, MATCH(J93, 单列下拉值!$A$2:$A$3, 0) - 1), 1)) -> 0000 | W93: =_xlfn.CONCAT(DEC2BIN(IF(ISBLANK(K93), 0, MATCH(K93, A寄存器选择!$D$2:$D$5, 0) - 1), 2), DEC2BIN(IF(ISBLANK(L93), 0, MATCH(L93, B寄存器选择!$D$2:$D$5, 0) - 1), 2)) -> 0000 | X93: =_xlfn.CONCAT(DEC2BIN(IF(ISBLANK(M93), 0, MATCH(M93, 单列下拉值!$B$2:$B$3, 0) - 1)), DEC2BIN(IF(ISBLANK(N93), 0, MATCH(N93, 单列下拉值!$C$2:$C$3, 0) - 1)), DEC2BIN(IF(ISBLANK(O93), 0, MATCH(O93, ALU寄存器选择!$D$2:$D$5, 0) - 1), 2)) -> 0000 | Y93: =_xlfn.CONCAT(DEC2BIN(IF(ISBLANK(P93),0,MATCH(P93,单列下拉值!$D$2:$D$3,0)-1)), DEC2BIN(IF(ISBLANK(Q93), 0, MATCH(Q93, CP选择!$E$2:$E$9, 0) - 1), 3)) -> 0000 | Z93: =_xlfn.CONCAT(DEC2BIN(R93), DEC2BIN(IF(ISBLANK(S93), 0, MATCH(S93, 后继微地址形成!$E$2:$E$9, 0) - 1), 3)) -> 0000
C94: =DEC2HEX(ROW(C94)-3, 2) -> 5B | D94: =_xlfn.CONCAT(BIN2HEX(U94), BIN2HEX(V94), " ", BIN2HEX(W94), BIN2HEX(X94), " ", BIN2HEX(Y94), BIN2HEX(Z94)) -> 00 00 00 | U94: =_xlfn.CONCAT(DEC2BIN(E94), DEC2BIN(F94), DEC2BIN(G94), DEC2BIN(H94)) -> 0000 | V94: =_xlfn.CONCAT(DEC2BIN(IF(ISBLANK(I94), 0, MATCH(I94, 运算选择!$E$2:$E$9, 0) - 1), 3), DEC2BIN(IF(ISBLANK(J94), 0, MATCH(J94, 单列下拉值!$A$2:$A$3, 0) - 1), 1)) -> 0000 | W94: =_xlfn.CONCAT(DEC2BIN(IF(ISBLANK(K94), 0, MATCH(K94, A寄存器选择!$D$2:$D$5, 0) - 1), 2), DEC2BIN(IF(ISBLANK(L94), 0, MATCH(L94, B寄存器选择!$D$2:$D$5, 0) - 1), 2)) -> 0000 | X94: =_xlfn.CONCAT(DEC2BIN(IF(ISBLANK(M94), 0, MATCH(M94, 单列下拉值!$B$2:$B$3, 0) - 1)), DEC2BIN(IF(ISBLANK(N94), 0, MATCH(N94, 单列下拉值!$C$2:$C$3, 0) - 1)), DEC2BIN(IF(ISBLANK(O94), 0, MATCH(O94, ALU寄存器选择!$D$2:$D$5, 0) - 1), 2)) -> 0000 | Y94: =_xlfn.CONCAT(DEC2BIN(IF(ISBLANK(P94),0,MATCH(P94,单列下拉值!$D$2:$D$3,0)-1)), DEC2BIN(IF(ISBLANK(Q94), 0, MATCH(Q94, CP选择!$E$2:$E$9, 0) - 1), 3)) -> 0000 | Z94: =_xlfn.CONCAT(DEC2BIN(R94), DEC2BIN(IF(ISBLANK(S94), 0, MATCH(S94, 后继微地址形成!$E$2:$E$9, 0) - 1), 3)) -> 0000
C95: =DEC2HEX(ROW(C95)-3, 2) -> 5C | D95: =_xlfn.CONCAT(BIN2HEX(U95), BIN2HEX(V95), " ", BIN2HEX(W95), BIN2HEX(X95), " ", BIN2HEX(Y95), BIN2HEX(Z95)) -> 00 00 00 | U95: =_xlfn.CONCAT(DEC2BIN(E95), DEC2BIN(F95), DEC2BIN(G95), DEC2BIN(H95)) -> 0000 | V95: =_xlfn.CONCAT(DEC2BIN(IF(ISBLANK(I95), 0, MATCH(I95, 运算选择!$E$2:$E$9, 0) - 1), 3), DEC2BIN(IF(ISBLANK(J95), 0, MATCH(J95, 单列下拉值!$A$2:$A$3, 0) - 1), 1)) -> 0000 | W95: =_xlfn.CONCAT(DEC2BIN(IF(ISBLANK(K95), 0, MATCH(K95, A寄存器选择!$D$2:$D$5, 0) - 1), 2), DEC2BIN(IF(ISBLANK(L95), 0, MATCH(L95, B寄存器选择!$D$2:$D$5, 0) - 1), 2)) -> 0000 | X95: =_xlfn.CONCAT(DEC2BIN(IF(ISBLANK(M95), 0, MATCH(M95, 单列下拉值!$B$2:$B$3, 0) - 1)), DEC2BIN(IF(ISBLANK(N95), 0, MATCH(N95, 单列下拉值!$C$2:$C$3, 0) - 1)), DEC2BIN(IF(ISBLANK(O95), 0, MATCH(O95, ALU寄存器选择!$D$2:$D$5, 0) - 1), 2)) -> 0000 | Y95: =_xlfn.CONCAT(DEC2BIN(IF(ISBLANK(P95),0,MATCH(P95,单列下拉值!$D$2:$D$3,0)-1)), DEC2BIN(IF(ISBLANK(Q95), 0, MATCH(Q95, CP选择!$E$2:$E$9, 0) - 1), 3)) -> 0000 | Z95: =_xlfn.CONCAT(DEC2BIN(R95), DEC2BIN(IF(ISBLANK(S95), 0, MATCH(S95, 后继微地址形成!$E$2:$E$9, 0) - 1), 3)) -> 0000
... C98: =DEC2HEX(ROW(C98)-3, 2) -> 5F | D98: =_xlfn.CONCAT(BIN2HEX(U98), BIN2HEX(V98), " ", BIN2HEX(W98), BIN2HEX(X98), " ", BIN2HEX(Y98), BIN2HEX(Z98)) -> 00 00 00 | U98: =_xlfn.CONCAT(DEC2BIN(E98), DEC2BIN(F98), DEC2BIN(G98), DEC2BIN(H98)) -> 0000 | V98: =_xlfn.CONCAT(DEC2BIN(IF(ISBLANK(I98), 0, MATCH(I98, 运算选择!$E$2:$E$9, 0) - 1), 3), DEC2BIN(IF(ISBLANK(J98), 0, MATCH(J98, 单列下拉值!$A$2:$A$3, 0) - 1), 1)) -> 0000 | W98: =_xlfn.CONCAT(DEC2BIN(IF(ISBLANK(K98), 0, MATCH(K98, A寄存器选择!$D$2:$D$5, 0) - 1), 2), DEC2BIN(IF(ISBLANK(L98), 0, MATCH(L98, B寄存器选择!$D$2:$D$5, 0) - 1), 2)) -> 0000 | X98: =_xlfn.CONCAT(DEC2BIN(IF(ISBLANK(M98), 0, MATCH(M98, 单列下拉值!$B$2:$B$3, 0) - 1)), DEC2BIN(IF(ISBLANK(N98), 0, MATCH(N98, 单列下拉值!$C$2:$C$3, 0) - 1)), DEC2BIN(IF(ISBLANK(O98), 0, MATCH(O98, ALU寄存器选择!$D$2:$D$5, 0) - 1), 2)) -> 0000 | Y98: =_xlfn.CONCAT(DEC2BIN(IF(ISBLANK(P98),0,MATCH(P98,单列下拉值!$D$2:$D$3,0)-1)), DEC2BIN(IF(ISBLANK(Q98), 0, MATCH(Q98, CP选择!$E$2:$E$9, 0) - 1), 3)) -> 0000 | Z98: =_xlfn.CONCAT(DEC2BIN(R98), DEC2BIN(IF(ISBLANK(S98), 0, MATCH(S98, 后继微地址形成!$E$2:$E$9, 0) - 1), 3)) -> 0000
A99: SHLD Rh, Rl | C99: =DEC2HEX(ROW(C99)-3, 2) -> 60 | D99: =_xlfn.CONCAT(BIN2HEX(U99), BIN2HEX(V99), " ", BIN2HEX(W99), BIN2HEX(X99), " ", BIN2HEX(Y99), BIN2HEX(Z99)) -> 00 00 00 | U99: =_xlfn.CONCAT(DEC2BIN(E99), DEC2BIN(F99), DEC2BIN(G99), DEC2BIN(H99)) -> 0000 | V99: =_xlfn.CONCAT(DEC2BIN(IF(ISBLANK(I99), 0, MATCH(I99, 运算选择!$E$2:$E$9, 0) - 1), 3), DEC2BIN(IF(ISBLANK(J99), 0, MATCH(J99, 单列下拉值!$A$2:$A$3, 0) - 1), 1)) -> 0000 | W99: =_xlfn.CONCAT(DEC2BIN(IF(ISBLANK(K99), 0, MATCH(K99, A寄存器选择!$D$2:$D$5, 0) - 1), 2), DEC2BIN(IF(ISBLANK(L99), 0, MATCH(L99, B寄存器选择!$D$2:$D$5, 0) - 1), 2)) -> 0000 | X99: =_xlfn.CONCAT(DEC2BIN(IF(ISBLANK(M99), 0, MATCH(M99, 单列下拉值!$B$2:$B$3, 0) - 1)), DEC2BIN(IF(ISBLANK(N99), 0, MATCH(N99, 单列下拉值!$C$2:$C$3, 0) - 1)), DEC2BIN(IF(ISBLANK(O99), 0, MATCH(O99, ALU寄存器选择!$D$2:$D$5, 0) - 1), 2)) -> 0000 | Y99: =_xlfn.CONCAT(DEC2BIN(IF(ISBLANK(P99),0,MATCH(P99,单列下拉值!$D$2:$D$3,0)-1)), DEC2BIN(IF(ISBLANK(Q99), 0, MATCH(Q99, CP选择!$E$2:$E$9, 0) - 1), 3)) -> 0000 | Z99: =_xlfn.CONCAT(DEC2BIN(R99), DEC2BIN(IF(ISBLANK(S99), 0, MATCH(S99, 后继微地址形成!$E$2:$E$9, 0) - 1), 3)) -> 0000
C100: =DEC2HEX(ROW(C100)-3, 2) -> 61 | D100: =_xlfn.CONCAT(BIN2HEX(U100), BIN2HEX(V100), " ", BIN2HEX(W100), BIN2HEX(X100), " ", BIN2HEX(Y100), BIN2HEX(Z100)) -> 00 00 00 | U100: =_xlfn.CONCAT(DEC2BIN(E100), DEC2BIN(F100), DEC2BIN(G100), DEC2BIN(H100)) -> 0000 | V100: =_xlfn.CONCAT(DEC2BIN(IF(ISBLANK(I100), 0, MATCH(I100, 运算选择!$E$2:$E$9, 0) - 1), 3), DEC2BIN(IF(ISBLANK(J100), 0, MATCH(J100, 单列下拉值!$A$2:$A$3, 0) - 1), 1)) -> 0000 | W100: =_xlfn.CONCAT(DEC2BIN(IF(ISBLANK(K100), 0, MATCH(K100, A寄存器选择!$D$2:$D$5, 0) - 1), 2), DEC2BIN(IF(ISBLANK(L100), 0, MATCH(L100, B寄存器选择!$D$2:$D$5, 0) - 1), 2)) -> 0000 | X100: =_xlfn.CONCAT(DEC2BIN(IF(ISBLANK(M100), 0, MATCH(M100, 单列下拉值!$B$2:$B$3, 0) - 1)), DEC2BIN(IF(ISBLANK(N100), 0, MATCH(N100, 单列下拉值!$C$2:$C$3, 0) - 1)), DEC2BIN(IF(ISBLANK(O100), 0, MATCH(O100, ALU寄存器选择!$D$2:$D$5, 0) - 1), 2)) -> 0000 | Y100: =_xlfn.CONCAT(DEC2BIN(IF(ISBLANK(P100),0,MATCH(P100,单列下拉值!$D$2:$D$3,0)-1)), DEC2BIN(IF(ISBLANK(Q100), 0, MATCH(Q100, CP选择!$E$2:$E$9, 0) - 1), 3)) -> 0000 | Z100: =_xlfn.CONCAT(DEC2BIN(R100), DEC2BIN(IF(ISBLANK(S100), 0, MATCH(S100, 后继微地址形成!$E$2:$E$9, 0) - 1), 3)) -> 0000
C101: =DEC2HEX(ROW(C101)-3, 2) -> 62 | D101: =_xlfn.CONCAT(BIN2HEX(U101), BIN2HEX(V101), " ", BIN2HEX(W101), BIN2HEX(X101), " ", BIN2HEX(Y101), BIN2HEX(Z101)) -> 00 00 00 | U101: =_xlfn.CONCAT(DEC2BIN(E101), DEC2BIN(F101), DEC2BIN(G101), DEC2BIN(H101)) -> 0000 | V101: =_xlfn.CONCAT(DEC2BIN(IF(ISBLANK(I101), 0, MATCH(I101, 运算选择!$E$2:$E$9, 0) - 1), 3), DEC2BIN(IF(ISBLANK(J101), 0, MATCH(J101, 单列下拉值!$A$2:$A$3, 0) - 1), 1)) -> 0000 | W101: =_xlfn.CONCAT(DEC2BIN(IF(ISBLANK(K101), 0, MATCH(K101, A寄存器选择!$D$2:$D$5, 0) - 1), 2), DEC2BIN(IF(ISBLANK(L101), 0, MATCH(L101, B寄存器选择!$D$2:$D$5, 0) - 1), 2)) -> 0000 | X101: =_xlfn.CONCAT(DEC2BIN(IF(ISBLANK(M101), 0, MATCH(M101, 单列下拉值!$B$2:$B$3, 0) - 1)), DEC2BIN(IF(ISBLANK(N101), 0, MATCH(N101, 单列下拉值!$C$2:$C$3, 0) - 1)), DEC2BIN(IF(ISBLANK(O101), 0, MATCH(O101, ALU寄存器选择!$D$2:$D$5, 0) - 1), 2)) -> 0000 | Y101: =_xlfn.CONCAT(DEC2BIN(IF(ISBLANK(P101),0,MATCH(P101,单列下拉值!$D$2:$D$3,0)-1)), DEC2BIN(IF(ISBLANK(Q101), 0, MATCH(Q101, CP选择!$E$2:$E$9, 0) - 1), 3)) -> 0000 | Z101: =_xlfn.CONCAT(DEC2BIN(R101), DEC2BIN(IF(ISBLANK(S101), 0, MATCH(S101, 后继微地址形成!$E$2:$E$9, 0) - 1), 3)) -> 0000
C102: =DEC2HEX(ROW(C102)-3, 2) -> 63 | D102: =_xlfn.CONCAT(BIN2HEX(U102), BIN2HEX(V102), " ", BIN2HEX(W102), BIN2HEX(X102), " ", BIN2HEX(Y102), BIN2HEX(Z102)) -> 00 00 00 | U102: =_xlfn.CONCAT(DEC2BIN(E102), DEC2BIN(F102), DEC2BIN(G102), DEC2BIN(H102)) -> 0000 | V102: =_xlfn.CONCAT(DEC2BIN(IF(ISBLANK(I102), 0, MATCH(I102, 运算选择!$E$2:$E$9, 0) - 1), 3), DEC2BIN(IF(ISBLANK(J102), 0, MATCH(J102, 单列下拉值!$A$2:$A$3, 0) - 1), 1)) -> 0000 | W102: =_xlfn.CONCAT(DEC2BIN(IF(ISBLANK(K102), 0, MATCH(K102, A寄存器选择!$D$2:$D$5, 0) - 1), 2), DEC2BIN(IF(ISBLANK(L102), 0, MATCH(L102, B寄存器选择!$D$2:$D$5, 0) - 1), 2)) -> 0000 | X102: =_xlfn.CONCAT(DEC2BIN(IF(ISBLANK(M102), 0, MATCH(M102, 单列下拉值!$B$2:$B$3, 0) - 1)), DEC2BIN(IF(ISBLANK(N102), 0, MATCH(N102, 单列下拉值!$C$2:$C$3, 0) - 1)), DEC2BIN(IF(ISBLANK(O102), 0, MATCH(O102, ALU寄存器选择!$D$2:$D$5, 0) - 1), 2)) -> 0000 | Y102: =_xlfn.CONCAT(DEC2BIN(IF(ISBLANK(P102),0,MATCH(P102,单列下拉值!$D$2:$D$3,0)-1)), DEC2BIN(IF(ISBLANK(Q102), 0, MATCH(Q102, CP选择!$E$2:$E$9, 0) - 1), 3)) -> 0000 | Z102: =_xlfn.CONCAT(DEC2BIN(R102), DEC2BIN(IF(ISBLANK(S102), 0, MATCH(S102, 后继微地址形成!$E$2:$E$9, 0) - 1), 3)) -> 0000
C103: =DEC2HEX(ROW(C103)-3, 2) -> 64 | D103: =_xlfn.CONCAT(BIN2HEX(U103), BIN2HEX(V103), " ", BIN2HEX(W103), BIN2HEX(X103), " ", BIN2HEX(Y103), BIN2HEX(Z103)) -> 00 00 00 | U103: =_xlfn.CONCAT(DEC2BIN(E103), DEC2BIN(F103), DEC2BIN(G103), DEC2BIN(H103)) -> 0000 | V103: =_xlfn.CONCAT(DEC2BIN(IF(ISBLANK(I103), 0, MATCH(I103, 运算选择!$E$2:$E$9, 0) - 1), 3), DEC2BIN(IF(ISBLANK(J103), 0, MATCH(J103, 单列下拉值!$A$2:$A$3, 0) - 1), 1)) -> 0000 | W103: =_xlfn.CONCAT(DEC2BIN(IF(ISBLANK(K103), 0, MATCH(K103, A寄存器选择!$D$2:$D$5, 0) - 1), 2), DEC2BIN(IF(ISBLANK(L103), 0, MATCH(L103, B寄存器选择!$D$2:$D$5, 0) - 1), 2)) -> 0000 | X103: =_xlfn.CONCAT(DEC2BIN(IF(ISBLANK(M103), 0, MATCH(M103, 单列下拉值!$B$2:$B$3, 0) - 1)), DEC2BIN(IF(ISBLANK(N103), 0, MATCH(N103, 单列下拉值!$C$2:$C$3, 0) - 1)), DEC2BIN(IF(ISBLANK(O103), 0, MATCH(O103, ALU寄存器选择!$D$2:$D$5, 0) - 1), 2)) -> 0000 | Y103: =_xlfn.CONCAT(DEC2BIN(IF(ISBLANK(P103),0,MATCH(P103,单列下拉值!$D$2:$D$3,0)-1)), DEC2BIN(IF(ISBLANK(Q103), 0, MATCH(Q103, CP选择!$E$2:$E$9, 0) - 1), 3)) -> 0000 | Z103: =_xlfn.CONCAT(DEC2BIN(R103), DEC2BIN(IF(ISBLANK(S103), 0, MATCH(S103, 后继微地址形成!$E$2:$E$9, 0) - 1), 3)) -> 0000
C104: =DEC2HEX(ROW(C104)-3, 2) -> 65 | D104: =_xlfn.CONCAT(BIN2HEX(U104), BIN2HEX(V104), " ", BIN2HEX(W104), BIN2HEX(X104), " ", BIN2HEX(Y104), BIN2HEX(Z104)) -> 00 00 00 | U104: =_xlfn.CONCAT(DEC2BIN(E104), DEC2BIN(F104), DEC2BIN(G104), DEC2BIN(H104)) -> 0000 | V104: =_xlfn.CONCAT(DEC2BIN(IF(ISBLANK(I104), 0, MATCH(I104, 运算选择!$E$2:$E$9, 0) - 1), 3), DEC2BIN(IF(ISBLANK(J104), 0, MATCH(J104, 单列下拉值!$A$2:$A$3, 0) - 1), 1)) -> 0000 | W104: =_xlfn.CONCAT(DEC2BIN(IF(ISBLANK(K104), 0, MATCH(K104, A寄存器选择!$D$2:$D$5, 0) - 1), 2), DEC2BIN(IF(ISBLANK(L104), 0, MATCH(L104, B寄存器选择!$D$2:$D$5, 0) - 1), 2)) -> 0000 | X104: =_xlfn.CONCAT(DEC2BIN(IF(ISBLANK(M104), 0, MATCH(M104, 单列下拉值!$B$2:$B$3, 0) - 1)), DEC2BIN(IF(ISBLANK(N104), 0, MATCH(N104, 单列下拉值!$C$2:$C$3, 0) - 1)), DEC2BIN(IF(ISBLANK(O104), 0, MATCH(O104, ALU寄存器选择!$D$2:$D$5, 0) - 1), 2)) -> 0000 | Y104: =_xlfn.CONCAT(DEC2BIN(IF(ISBLANK(P104),0,MATCH(P104,单列下拉值!$D$2:$D$3,0)-1)), DEC2BIN(IF(ISBLANK(Q104), 0, MATCH(Q104, CP选择!$E$2:$E$9, 0) - 1), 3)) -> 0000 | Z104: =_xlfn.CONCAT(DEC2BIN(R104), DEC2BIN(IF(ISBLANK(S104), 0, MATCH(S104, 后继微地址形成!$E$2:$E$9, 0) - 1), 3)) -> 0000
...

Sheet 单列下拉值
A1: MDR_MEM/BUS | B1: \WR | C1: \RD | D1: PC+1
A2: 内存→MDR | B2: 不写 | C2: 不读 | D2: 总线(Z)->PC
A3: 总线(Z)→MDR&MDR→内存 | B3: 写 | C3: 读 | D3: 加一

Sheet ALU寄存器选择
A1: μIR9 | B1: μIR8 | C1: 引脚 | D1: 描述
A2: 0 | B2: 0 | C2: Y0 | D2: 什么都不存
A3: 0 | B3: 1 | C3: Y1 | D3: 存入A寄存器
A4: 1 | B4: 0 | C4: Y2 | D4: 存入B寄存器
A5: 1 | B5: 1 | C5: Y3 | D5: 存入Z和PSW
A12: 返回主表

Sheet 运算选择
A1: μIR19 | B1: μIR18 | C1: μIR17 | D1: 引脚 | E1: 描述
A2: 0 | B2: 0 | C2: 0 | D2: Y0 | E2: 什么都不做
A3: 0 | B3: 0 | C3: 1 | D3: Y1 | E3: 加法
A4: 0 | B4: 1 | C4: 0 | D4: Y2 | E4: 无符号加
A5: 0 | B5: 1 | C5: 1 | D5: Y3 | E5: 逻辑与
A6: 1 | B6: 0 | C6: 0 | D6: Y4 | E6: 左移一位
A7: 1 | B7: 0 | C7: 1 | D7: Y5 | E7: 左移带进位
A8: 1 | B8: 1 | C8: 0 | D8: Y6 | E8: 右移一位
A9: 1 | B9: 1 | C9: 1 | D9: Y7 | E9: 右移带进位
A12: 返回主表

Sheet CP选择
A1: μIR6 | B1: μIR5 | C1: μIR4 | D1: 引脚 | E1: 描述
A2: 0 | B2: 0 | C2: 0 | D2: Y0 | E2: 无CP
A3: 0 | B3: 0 | C3: 1 | D3: Y1 | E3: CP4Reg
A4: 0 | B4: 1 | C4: 0 | D4: Y2 | E4: CPPC
A5: 0 | B5: 1 | C5: 1 | D5: Y3 | E5: CPIR
A6: 1 | B6: 0 | C6: 0 | D6: Y4 | E6: CPMAR
A7: 1 | B7: 0 | C7: 1 | D7: Y5 | E7: CPMDR
A8: 1 | B8: 1 | C8: 0 | D8: Y6 | E8: 备用
A9: 1 | B9: 1 | C9: 1 | D9: Y7 | E9: 备用
A12: 返回主表

Sheet 后继微地址形成
A1: μIR2 | B1: μIR1 | C1: μIR0 | D1: 引脚 | E1: 描述 | F1: 备注
A2: 0 | B2: 0 | C2: 0 | D2: Y0 | E2: 备用
A3: 0 | B3: 0 | C3: 1 | D3: Y1 | E3: μPC加一
A4: 0 | B4: 1 | C4: 0 | D4: Y2 | E4: 无条件跳转至00H
A5: 0 | B5: 1 | C5: 1 | D5: Y3 | E5: 无条件跳转至IR7-4 | F5: 高四位IR7-IR4，低四位为0
A6: 1 | B6: 0 | C6: 0 | D6: Y4 | E6: 程序状态字条件跳转
A7: 1 | B7: 0 | C7: 1 | D7: Y5 | E7: 停机
A8: 1 | B8: 1 | C8: 0 | D8: Y6 | E8: 发生什么事了？
A9: 1 | B9: 1 | C9: 1 | D9: Y7 | E9: 发生什么事了？
E10: 変身
E11: 发生什么事了？
A12: 返回主表 | E12: 发生什么事了？
E13: 释放自我
E14: 哼啊啊啊啊啊——
E15: 走→我→的↗路，假↓面↑骑↑士↓
E16: 贞→贞→贞→贞↗德↘↗

Sheet A寄存器选择
A1: μIR15 | B1: μIR14 | C1: 引脚 | D1: 描述
A2: 0 | B2: 0 | C2: Y0 | D2: A置0
A3: 0 | B3: 1 | C3: Y1 | D3: A选MDR
A4: 1 | B4: 0 | C4: Y2 | D4: A选通用寄存器
A5: 1 | B5: 1 | C5: Y3 | D5: 无效
A12: 返回主表

Sheet B寄存器选择
A1: μIR13 | B1: μIR12 | C1: 引脚 | D1: 描述 | E1: 备注
A2: 0 | B2: 0 | C2: Y0 | D2: B置0
A3: 0 | B3: 1 | C3: Y1 | D3: B选PC
A4: 1 | B4: 0 | C4: Y2 | D4: B选通用寄存器
A5: 1 | B5: 1 | C5: Y3 | D5: 无效
A12: 返回主表
