Workbook

Sheet microprogram
C1: 是公式！不要改！ | E1: (≧▽≦*) | I1: 运算选择 | J1: MDR_MEM/BUS | K1: A寄存器选择 | L1: B寄存器选择 | M1: \WR | N1: \RD | O1: ALU寄存器选择（CP） | P1: PC+1 | Q1: CP选择 | R1: (≧▽≦*) | S1: 后继微地址形成 | U1: 是公式！不要改！O(>﹏<)o
A2: 指令块 | B2: 微指令文字描述 | C2: 地址 | D2: 控存内容 | E2: 23 | F2: 22 | G2: 21 | H2: 20 | I2: 19 | 18 | 17 | J2: 16 | K2: 15 | 14 | L2: 13 | 12 | M2: 11 | N2: 10 | O2: 9 | 8 | P2: 7 | Q2: 6 | 5 | 4 | R2: 3 | S2: 2 | 1 | 0 | U2: 23 | 22 | 21 | 30 | V2: 19 | 18 | 17 | 16 | W2: 15 | 14 | 13 | 12 | X2: 11 | 10 | 9 | 8 | Y2: 7 | 6 | 5 | 4 | Z2: 3 | 2 | 1 | 0
A3: 取指令 | B3: PC->B | C3: =DEC2HEX(ROW(C3)-3, 2) -> 00 | D3: =_xlfn.CONCAT(BIN2HEX(U3), BIN2HEX(V3), " ", BIN2HEX(W3), BIN2HEX(X3), " ", BIN2HEX(Y3), BIN2HEX(Z3)) -> 00 12 01 | L3: B选PC | O3: 存入B寄存器 | S3: μPC加一 | U3: =_xlfn.CONCAT(DEC2BIN(E3), DEC2BIN(F3), DEC2BIN(G3), DEC2BIN(H3)) -> 0000 | V3: =_xlfn.CONCAT(DEC2BIN(IF(ISBLANK(I3), 0, MATCH(I3, 运算选择!$E$2:$E$9, 0) - 1), 3), DEC2BIN(IF(ISBLANK(J3), 0, MATCH(J3, 单列下拉值!$A$2:$A$3, 0) - 1), 1)) -> 0000 | W3: =_xlfn.CONCAT(DEC2BIN(IF(ISBLANK(K3), 0, MATCH(K3, A寄存器选择!$D$2:$D$5, 0) - 1), 2), DEC2BIN(IF(ISBLANK(L3), 0, MATCH(L3, B寄存器选择!$D$2:$D$5, 0) - 1), 2)) -> 0001 | X3: =_xlfn.CONCAT(DEC2BIN(IF(ISBLANK(M3), 0, MATCH(M3, 单列下拉值!$B$2:$B$3, 0) - 1)), DEC2BIN(IF(ISBLANK(N3), 0, MATCH(N3, 单列下拉值!$C$2:$C$3, 0) - 1)), DEC2BIN(IF(ISBLANK(O3), 0, MATCH(O3, ALU寄存器选择!$D$2:$D$5, 0) - 1), 2)) -> 0010 | Y3: =_xlfn.CONCAT(DEC2BIN(IF(ISBLANK(P3),0,MATCH(P3,单列下拉值!$D$2:$D$3,0)-1)), DEC2BIN(IF(ISBLANK(Q3), 0, MATCH(Q3, CP选择!$E$2:$E$9, 0) - 1), 3)) -> 0000 | Z3: =_xlfn.CONCAT(DEC2BIN(R3), DEC2BIN(IF(ISBLANK(S3), 0, MATCH(S3, 后继微地址形成!$E$2:$E$9, 0) - 1), 3)) -> 0001
B4: 0->A | C4: =DEC2HEX(ROW(C4)-3, 2) -> 01 | D4: =_xlfn.CONCAT(BIN2HEX(U4), BIN2HEX(V4), " ", BIN2HEX(W4), BIN2HEX(X4), " ", BIN2HEX(Y4), BIN2HEX(Z4)) -> 00 01 A1 | K4: A置0 | O4: 存入A寄存器 | P4: 加一 | Q4: CPPC | S4: μPC加一 | U4: =_xlfn.CONCAT(DEC2BIN(E4), DEC2BIN(F4), DEC2BIN(G4), DEC2BIN(H4)) -> 0000 | V4: =_xlfn.CONCAT(DEC2BIN(IF(ISBLANK(I4), 0, MATCH(I4, 运算选择!$E$2:$E$9, 0) - 1), 3), DEC2BIN(IF(ISBLANK(J4), 0, MATCH(J4, 单列下拉值!$A$2:$A$3, 0) - 1), 1)) -> 0000 | W4: =_xlfn.CONCAT(DEC2BIN(IF(ISBLANK(K4), 0, MATCH(K4, A寄存器选择!$D$2:$D$5, 0) - 1), 2), DEC2BIN(IF(ISBLANK(L4), 0, MATCH(L4, B寄存器选择!$D$2:$D$5, 0) - 1), 2)) -> 0000 | X4: =_xlfn.CONCAT(DEC2BIN(IF(ISBLANK(M4), 0, MATCH(M4, 单列下拉值!$B$2:$B$3, 0) - 1)), DEC2BIN(IF(ISBLANK(N4), 0, MATCH(N4, 单列下拉值!$C$2:$C$3, 0) - 1)), DEC2BIN(IF(ISBLANK(O4), 0, MATCH(O4, ALU寄存器选择!$D$2:$D$5, 0) - 1), 2)) -> 0001 | Y4: =_xlfn.CONCAT(DEC2BIN(IF(ISBLANK(P4),0,MATCH(P4,单列下拉值!$D$2:$D$3,0)-1)), DEC2BIN(IF(ISBLANK(Q4), 0, MATCH(Q4, CP选择!$E$2:$E$9, 0) - 1), 3)) -> 1010 | Z4: =_xlfn.CONCAT(DEC2BIN(R4), DEC2BIN(IF(ISBLANK(S4), 0, MATCH(S4, 后继微地址形成!$E$2:$E$9, 0) - 1), 3)) -> 0001
B5: PLUS | C5: =DEC2HEX(ROW(C5)-3, 2) -> 02 | D5: =_xlfn.CONCAT(BIN2HEX(U5), BIN2HEX(V5), " ", BIN2HEX(W5), BIN2HEX(X5), " ", BIN2HEX(Y5), BIN2HEX(Z5)) -> 04 03 01 | I5: 无符号加 | O5: 存入Z和PSW | S5: μPC加一 | U5: =_xlfn.CONCAT(DEC2BIN(E5), DEC2BIN(F5), DEC2BIN(G5), DEC2BIN(H5)) -> 0000 | V5: =_xlfn.CONCAT(DEC2BIN(IF(ISBLANK(I5), 0, MATCH(I5, 运算选择!$E$2:$E$9, 0) - 1), 3), DEC2BIN(IF(ISBLANK(J5), 0, MATCH(J5, 单列下拉值!$A$2:$A$3, 0) - 1), 1)) -> 0100 | W5: =_xlfn.CONCAT(DEC2BIN(IF(ISBLANK(K5), 0, MATCH(K5, A寄存器选择!$D$2:$D$5, 0) - 1), 2), DEC2BIN(IF(ISBLANK(L5), 0, MATCH(L5, B寄存器选择!$D$2:$D$5, 0) - 1), 2)) -> 0000 | X5: =_xlfn.CONCAT(DEC2BIN(IF(ISBLANK(M5), 0, MATCH(M5, 单列下拉值!$B$2:$B$3, 0) - 1)), DEC2BIN(IF(ISBLANK(N5), 0, MATCH(N5, 单列下拉值!$C$2:$C$3, 0) - 1)), DEC2BIN(IF(ISBLANK(O5), 0, MATCH(O5, ALU寄存器选择!$D$2:$D$5, 0) - 1), 2)) -> 0011 | Y5: =_xlfn.CONCAT(DEC2BIN(IF(ISBLANK(P5),0,MATCH(P5,单列下拉值!$D$2:$D$3,0)-1)), DEC2BIN(IF(ISBLANK(Q5), 0, MATCH(Q5, CP选择!$E$2:$E$9, 0) - 1), 3)) -> 0000 | Z5: =_xlfn.CONCAT(DEC2BIN(R5), DEC2BIN(IF(ISBLANK(S5), 0, MATCH(S5, 后继微地址形成!$E$2:$E$9, 0) - 1), 3)) -> 0001
B6: Z->MAR | C6: =DEC2HEX(ROW(C6)-3, 2) -> 03 | D6: =_xlfn.CONCAT(BIN2HEX(U6), BIN2HEX(V6), " ", BIN2HEX(W6), BIN2HEX(X6), " ", BIN2HEX(Y6), BIN2HEX(Z6)) -> 00 00 41 | Q6: CPMAR | S6: μPC加一 | U6: =_xlfn.CONCAT(DEC2BIN(E6), DEC2BIN(F6), DEC2BIN(G6), DEC2BIN(H6)) -> 0000 | V6: =_xlfn.CONCAT(DEC2BIN(IF(ISBLANK(I6), 0, MATCH(I6, 运算选择!$E$2:$E$9, 0) - 1), 3), DEC2BIN(IF(ISBLANK(J6), 0, MATCH(J6, 单列下拉值!$A$2:$A$3, 0) - 1), 1)) -> 0000 | W6: =_xlfn.CONCAT(DEC2BIN(IF(ISBLANK(K6), 0, MATCH(K6, A寄存器选择!$D$2:$D$5, 0) - 1), 2), DEC2BIN(IF(ISBLANK(L6), 0, MATCH(L6, B寄存器选择!$D$2:$D$5, 0) - 1), 2)) -> 0000 | X6: =_xlfn.CONCAT(DEC2BIN(IF(ISBLANK(M6), 0, MATCH(M6, 单列下拉值!$B$2:$B$3, 0) - 1)), DEC2BIN(IF(ISBLANK(N6), 0, MATCH(N6, 单列下拉值!$C$2:$C$3, 0) - 1)), DEC2BIN(IF(ISBLANK(O6), 0, MATCH(O6, ALU寄存器选择!$D$2:$D$5, 0) - 1), 2)) -> 0000 | Y6: =_xlfn.CONCAT(DEC2BIN(IF(ISBLANK(P6),0,MATCH(P6,单列下拉值!$D$2:$D$3,0)-1)), DEC2BIN(IF(ISBLANK(Q6), 0, MATCH(Q6, CP选择!$E$2:$E$9, 0) - 1), 3)) -> 0100 | Z6: =_xlfn.CONCAT(DEC2BIN(R6), DEC2BIN(IF(ISBLANK(S6), 0, MATCH(S6, 后继微地址形成!$E$2:$E$9, 0) - 1), 3)) -> 0001
B7: 1->R, MEM->MDR | C7: =DEC2HEX(ROW(C7)-3, 2) -> 04 | D7: =_xlfn.CONCAT(BIN2HEX(U7), BIN2HEX(V7), " ", BIN2HEX(W7), BIN2HEX(X7), " ", BIN2HEX(Y7), BIN2HEX(Z7)) -> 00 04 51 | J7: 内存→MDR | N7: 读 | Q7: CPMDR | S7: μPC加一 | U7: =_xlfn.CONCAT(DEC2BIN(E7), DEC2BIN(F7), DEC2BIN(G7), DEC2BIN(H7)) -> 0000 | V7: =_xlfn.CONCAT(DEC2BIN(IF(ISBLANK(I7), 0, MATCH(I7, 运算选择!$E$2:$E$9, 0) - 1), 3), DEC2BIN(IF(ISBLANK(J7), 0, MATCH(J7, 单列下拉值!$A$2:$A$3, 0) - 1), 1)) -> 0000 | W7: =_xlfn.CONCAT(DEC2BIN(IF(ISBLANK(K7), 0, MATCH(K7, A寄存器选择!$D$2:$D$5, 0) - 1), 2), DEC2BIN(IF(ISBLANK(L7), 0, MATCH(L7, B寄存器选择!$D$2:$D$5, 0) - 1), 2)) -> 0000 | X7: =_xlfn.CONCAT(DEC2BIN(IF(ISBLANK(M7), 0, MATCH(M7, 单列下拉值!$B$2:$B$3, 0) - 1)), DEC2BIN(IF(ISBLANK(N7), 0, MATCH(N7, 单列下拉值!$C$2:$C$3, 0) - 1)), DEC2BIN(IF(ISBLANK(O7), 0, MATCH(O7, ALU寄存器选择!$D$2:$D$5, 0) - 1), 2)) -> 0100 | Y7: =_xlfn.CONCAT(DEC2BIN(IF(ISBLANK(P7),0,MATCH(P7,单列下拉值!$D$2:$D$3,0)-1)), DEC2BIN(IF(ISBLANK(Q7), 0, MATCH(Q7, CP选择!$E$2:$E$9, 0) - 1), 3)) -> 0101 | Z7: =_xlfn.CONCAT(DEC2BIN(R7), DEC2BIN(IF(ISBLANK(S7), 0, MATCH(S7, 后继微地址形成!$E$2:$E$9, 0) - 1), 3)) -> 0001
B8: MDR->A | C8: =DEC2HEX(ROW(C8)-3, 2) -> 05 | D8: =_xlfn.CONCAT(BIN2HEX(U8), BIN2HEX(V8), " ", BIN2HEX(W8), BIN2HEX(X8), " ", BIN2HEX(Y8), BIN2HEX(Z8)) -> 00 41 01 | K8: A选MDR | O8: 存入A寄存器 | S8: μPC加一 | U8: =_xlfn.CONCAT(DEC2BIN(E8), DEC2BIN(F8), DEC2BIN(G8), DEC2BIN(H8)) -> 0000 | V8: =_xlfn.CONCAT(DEC2BIN(IF(ISBLANK(I8), 0, MATCH(I8, 运算选择!$E$2:$E$9, 0) - 1), 3), DEC2BIN(IF(ISBLANK(J8), 0, MATCH(J8, 单列下拉值!$A$2:$A$3, 0) - 1), 1)) -> 0000 | W8: =_xlfn.CONCAT(DEC2BIN(IF(ISBLANK(K8), 0, MATCH(K8, A寄存器选择!$D$2:$D$5, 0) - 1), 2), DEC2BIN(IF(ISBLANK(L8), 0, MATCH(L8, B寄存器选择!$D$2:$D$5, 0) - 1), 2)) -> 0100 | X8: =_xlfn.CONCAT(DEC2BIN(IF(ISBLANK(M8), 0, MATCH(M8, 单列下拉值!$B$2:$B$3, 0) - 1)), DEC2BIN(IF(ISBLANK(N8), 0, MATCH(N8, 单列下拉值!$C$2:$C$3, 0) - 1)), DEC2BIN(IF(ISBLANK(O8), 0, MATCH(O8, ALU寄存器选择!$D$2:$D$5, 0) - 1), 2)) -> 0001 | Y8: =_xlfn.CONCAT(DEC2BIN(IF(ISBLANK(P8),0,MATCH(P8,单列下拉值!$D$2:$D$3,0)-1)), DEC2BIN(IF(ISBLANK(Q8), 0, MATCH(Q8, CP选择!$E$2:$E$9, 0) - 1), 3)) -> 0000 | Z8: =_xlfn.CONCAT(DEC2BIN(R8), DEC2BIN(IF(ISBLANK(S8), 0, MATCH(S8, 后继微地址形成!$E$2:$E$9, 0) - 1), 3)) -> 0001
B9: 0->B | C9: =DEC2HEX(ROW(C9)-3, 2) -> 06 | D9: =_xlfn.CONCAT(BIN2HEX(U9), BIN2HEX(V9), " ", BIN2HEX(W9), BIN2HEX(X9), " ", BIN2HEX(Y9), BIN2HEX(Z9)) -> 00 02 01 | L9: B置0 | O9: 存入B寄存器 | S9: μPC加一 | U9: =_xlfn.CONCAT(DEC2BIN(E9), DEC2BIN(F9), DEC2BIN(G9), DEC2BIN(H9)) -> 0000 | V9: =_xlfn.CONCAT(DEC2BIN(IF(ISBLANK(I9), 0, MATCH(I9, 运算选择!$E$2:$E$9, 0) - 1), 3), DEC2BIN(IF(ISBLANK(J9), 0, MATCH(J9, 单列下拉值!$A$2:$A$3, 0) - 1), 1)) -> 0000 | W9: =_xlfn.CONCAT(DEC2BIN(IF(ISBLANK(K9), 0, MATCH(K9, A寄存器选择!$D$2:$D$5, 0) - 1), 2), DEC2BIN(IF(ISBLANK(L9), 0, MATCH(L9, B寄存器选择!$D$2:$D$5, 0) - 1), 2)) -> 0000 | X9: =_xlfn.CONCAT(DEC2BIN(IF(ISBLANK(M9), 0, MATCH(M9, 单列下拉值!$B$2:$B$3, 0) - 1)), DEC2BIN(IF(ISBLANK(N9), 0, MATCH(N9, 单列下拉值!$C$2:$C$3, 0) - 1)), DEC2BIN(IF(ISBLANK(O9), 0, MATCH(O9, ALU寄存器选择!$D$2:$D$5, 0) - 1), 2)) -> 0010 | Y9: =_xlfn.CONCAT(DEC2BIN(IF(ISBLANK(P9),0,MATCH(P9,单列下拉值!$D$2:$D$3,0)-1)), DEC2BIN(IF(ISBLANK(Q9), 0, MATCH(Q9, CP选择!$E$2:$E$9, 0) - 1), 3)) -> 0000 | Z9: =_xlfn.CONCAT(DEC2BIN(R9), DEC2BIN(IF(ISBLANK(S9), 0, MATCH(S9, 后继微地址形成!$E$2:$E$9, 0) - 1), 3)) -> 0001
B10: PLUS | C10: =DEC2HEX(ROW(C10)-3, 2) -> 07 | D10: =_xlfn.CONCAT(BIN2HEX(U10), BIN2HEX(V10), " ", BIN2HEX(W10), BIN2HEX(X10), " ", BIN2HEX(Y10), BIN2HEX(Z10)) -> 04 03 01 | I10: 无符号加 | O10: 存入Z和PSW | S10: μPC加一 | U10: =_xlfn.CONCAT(DEC2BIN(E10), DEC2BIN(F10), DEC2BIN(G10), DEC2BIN(H10)) -> 0000 | V10: =_xlfn.CONCAT(DEC2BIN(IF(ISBLANK(I10), 0, MATCH(I10, 运算选择!$E$2:$E$9, 0) - 1), 3), DEC2BIN(IF(ISBLANK(J10), 0, MATCH(J10, 单列下拉值!$A$2:$A$3, 0) - 1), 1)) -> 0100 | W10: =_xlfn.CONCAT(DEC2BIN(IF(ISBLANK(K10), 0, MATCH(K10, A寄存器选择!$D$2:$D$5, 0) - 1), 2), DEC2BIN(IF(ISBLANK(L10), 0, MATCH(L10, B寄存器选择!$D$2:$D$5, 0) - 1), 2)) -> 0000 | X10: =_xlfn.CONCAT(DEC2BIN(IF(ISBLANK(M10), 0, MATCH(M10, 单列下拉值!$B$2:$B$3, 0) - 1)), DEC2BIN(IF(ISBLANK(N10), 0, MATCH(N10, 单列下拉值!$C$2:$C$3, 0) - 1)), DEC2BIN(IF(ISBLANK(O10), 0, MATCH(O10, ALU寄存器选择!$D$2:$D$5, 0) - 1), 2)) -> 0011 | Y10: =_xlfn.CONCAT(DEC2BIN(IF(ISBLANK(P10),0,MATCH(P10,单列下拉值!$D$2:$D$3,0)-1)), DEC2BIN(IF(ISBLANK(Q10), 0, MATCH(Q10, CP选择!$E$2:$E$9, 0) - 1), 3)) -> 0000 | Z10: =_xlfn.CONCAT(DEC2BIN(R10), DEC2BIN(IF(ISBLANK(S10), 0, MATCH(S10, 后继微地址形成!$E$2:$E$9, 0) - 1), 3)) -> 0001
B11: Z->IR | C11: =DEC2HEX(ROW(C11)-3, 2) -> 08 | D11: =_xlfn.CONCAT(BIN2HEX(U11), BIN2HEX(V11), " ", BIN2HEX(W11), BIN2HEX(X11), " ", BIN2HEX(Y11), BIN2HEX(Z11)) -> 00 00 31 | Q11: CPIR | S11: μPC加一 | U11: =_xlfn.CONCAT(DEC2BIN(E11), DEC2BIN(F11), DEC2BIN(G11), DEC2BIN(H11)) -> 0000 | V11: =_xlfn.CONCAT(DEC2BIN(IF(ISBLANK(I11), 0, MATCH(I11, 运算选择!$E$2:$E$9, 0) - 1), 3), DEC2BIN(IF(ISBLANK(J11), 0, MATCH(J11, 单列下拉值!$A$2:$A$3, 0) - 1), 1)) -> 0000 | W11: =_xlfn.CONCAT(DEC2BIN(IF(ISBLANK(K11), 0, MATCH(K11, A寄存器选择!$D$2:$D$5, 0) - 1), 2), DEC2BIN(IF(ISBLANK(L11), 0, MATCH(L11, B寄存器选择!$D$2:$D$5, 0) - 1), 2)) -> 0000 | X11: =_xlfn.CONCAT(DEC2BIN(IF(ISBLANK(M11), 0, MATCH(M11, 单列下拉值!$B$2:$B$3, 0) - 1)), DEC2BIN(IF(ISBLANK(N11), 0, MATCH(N11, 单列下拉值!$C$2:$C$3, 0) - 1)), DEC2BIN(IF(ISBLANK(O11), 0, MATCH(O11, ALU寄存器选择!$D$2:$D$5, 0) - 1), 2)) -> 0000 | Y11: =_xlfn.CONCAT(DEC2BIN(IF(ISBLANK(P11),0,MATCH(P11,单列下拉值!$D$2:$D$3,0)-1)), DEC2BIN(IF(ISBLANK(Q11), 0, MATCH(Q11, CP选择!$E$2:$E$9, 0) - 1), 3)) -> 0011 | Z11: =_xlfn.CONCAT(DEC2BIN(R11), DEC2BIN(IF(ISBLANK(S11), 0, MATCH(S11, 后继微地址形成!$E$2:$E$9, 0) - 1), 3)) -> 0001
B12: END | C12: =DEC2HEX(ROW(C12)-3, 2) -> 09 | D12: =_xlfn.CONCAT(BIN2HEX(U12), BIN2HEX(V12), " ", BIN2HEX(W12), BIN2HEX(X12), " ", BIN2HEX(Y12), BIN2HEX(Z12)) -> 00 00 03 | S12: 无条件跳转至IR7-4 | U12: =_xlfn.CONCAT(DEC2BIN(E12), DEC2BIN(F12), DEC2BIN(G12), DEC2BIN(H12)) -> 0000 | V12: =_xlfn.CONCAT(DEC2BIN(IF(ISBLANK(I12), 0, MATCH(I12, 运算选择!$E$2:$E$9, 0) - 1), 3), DEC2BIN(IF(ISBLANK(J12), 0, MATCH(J12, 单列下拉值!$A$2:$A$3, 0) - 1), 1)) -> 0000 | W12: =_xlfn.CONCAT(DEC2BIN(IF(ISBLANK(K12), 0, MATCH(K12, A寄存器选择!$D$2:$D$5, 0) - 1), 2), DEC2BIN(IF(ISBLANK(L12), 0, MATCH(L12, B寄存器选择!$D$2:$D$5, 0) - 1), 2)) -> 0000 | X12: =_xlfn.CONCAT(DEC2BIN(IF(ISBLANK(M12), 0, MATCH(M12, 单列下拉值!$B$2:$B$3, 0) - 1)), DEC2BIN(IF(ISBLANK(N12), 0, MATCH(N12, 单列下拉值!$C$2:$C$3, 0) - 1)), DEC2BIN(IF(ISBLANK(O12), 0, MATCH(O12, ALU寄存器选择!$D$2:$D$5, 0) - 1), 2)) -> 0000 | Y12: =_xlfn.CONCAT(DEC2BIN(IF(ISBLANK(P12),0,MATCH(P12,单列下拉值!$D$2:$D$3,0)-1)), DEC2BIN(IF(ISBLANK(Q12), 0, MATCH(Q12, CP选择!$E$2:$E$9, 0) - 1), 3)) -> 0000 | Z12: =_xlfn.CONCAT(DEC2BIN(R12), DEC2BIN(IF(ISBLANK(S12), 0, MATCH(S12, 后继微地址形成!$E$2:$E$9, 0) - 1), 3)) -> 0011
C13: =DEC2HEX(ROW(C13)-3, 2) -> 0A | D13: =_xlfn.CONCAT(BIN2HEX(U13), BIN2HEX(V13), " ", BIN2HEX(W13), BIN2HEX(X13), " ", BIN2HEX(Y13), BIN2HEX(Z13)) -> 00 00 00 | U13: =_xlfn.CONCAT(DEC2BIN(E13), DEC2BIN(F13), DEC2BIN(G13), DEC2BIN(H13)) -> 0000 | V13: =_xlfn.CONCAT(DEC2BIN(IF(ISBLANK(I13), 0, MATCH(I13, 运算选择!$E$2:$E$9, 0) - 1), 3), DEC2BIN(IF(ISBLANK(J13), 0, MATCH(J13, 单列下拉值!$A$2:$A$3, 0) - 1), 1)) -> 0000 | W13: =_xlfn.CONCAT(DEC2BIN(IF(ISBLANK(K13), 0, MATCH(K13, A寄存器选择!$D$2:$D$5, 0) - 1), 2), DEC2BIN(IF(ISBLANK(L13), 0, MATCH(L13, B寄存器选择!$D$2:$D$5, 0) - 1), 2)) -> 0000 | X13: =_xlfn.CONCAT(DEC2BIN(IF(ISBLANK(M13), 0, MATCH(M13, 单列下拉值!$B$2:$B$3, 0) - 1)), DEC2BIN(IF(ISBLANK(N13), 0, MATCH(N13, 单列下拉值!$C$2:$C$3, 0) - 1)), DEC2BIN(IF(ISBLANK(O13), 0, MATCH(O13, ALU寄存器选择!$D$2:$D$5, 0) - 1), 2)) -> 0000 | Y13: =_xlfn.CONCAT(DEC2BIN(IF(ISBLANK(P13),0,MATCH(P13,单列下拉值!$D$2:$D$3,0)-1)), DEC2BIN(IF(ISBLANK(Q13), 0, MATCH(Q13, CP选择!$E$2:$E$9, 0) - 1), 3)) -> 0000 | Z13: =_xlfn.CONCAT(DEC2BIN(R13), DEC2BIN(IF(ISBLANK(S13), 0, MATCH(S13, 后继微地址形成!$E$2:$E$9, 0) - 1), 3)) -> 0000
C14: =DEC2HEX(ROW(C14)-3, 2) -> 0B | D14: =_xlfn.CONCAT(BIN2HEX(U14), BIN2HEX(V14), " ", BIN2HEX(W14), BIN2HEX(X14), " ", BIN2HEX(Y14), BIN2HEX(Z14)) -> 00 00 00 | U14: =_xlfn.CONCAT(DEC2BIN(E14), DEC2BIN(F14), DEC2BIN(G14), DEC2BIN(H14)) -> 0000 | V14: =_xlfn.CONCAT(DEC2BIN(IF(ISBLANK(I14), 0, MATCH(I14, 运算选择!$E$2:$E$9, 0) - 1), 3), DEC2BIN(IF(ISBLANK(J14), 0, MATCH(J14, 单列下拉值!$A$2:$A$3, 0) - 1), 1)) -> 0000 | W14: =_xlfn.CONCAT(DEC2BIN(IF(ISBLANK(K14), 0, MATCH(K14, A寄存器选择!$D$2:$D$5, 0) - 1), 2), DEC2BIN(IF(ISBLANK(L14), 0, MATCH(L14, B寄存器选择!$D$2:$D$5, 0) - 1), 2)) -> 0000 | X14: =_xlfn.CONCAT(DEC2BIN(IF(ISBLANK(M14), 0, MATCH(M14, 单列下拉值!$B$2:$B$3, 0) - 1)), DEC2BIN(IF(ISBLANK(N14), 0, MATCH(N14, 单列下拉值!$C$2:$C$3, 0) - 1)), DEC2BIN(IF(ISBLANK(O14), 0, MATCH(O14, ALU寄存器选择!$D$2:$D$5, 0) - 1), 2)) -> 0000 | Y14: =_xlfn.CONCAT(DEC2BIN(IF(ISBLANK(P14),0,MATCH(P14,单列下拉值!$D$2:$D$3,0)-1)), DEC2BIN(IF(ISBLANK(Q14), 0, MATCH(Q14, CP选择!$E$2:$E$9, 0) - 1), 3)) -> 0000 | Z14: =_xlfn.CONCAT(DEC2BIN(R14), DEC2BIN(IF(ISBLANK(S14), 0, MATCH(S14, 后继微地址形成!$E$2:$E$9, 0) - 1), 3)) -> 0000
C15: =DEC2HEX(ROW(C15)-3, 2) -> 0C | D15: =_xlfn.CONCAT(BIN2HEX(U15), BIN2HEX(V15), " ", BIN2HEX(W15), BIN2HEX(X15), " ", BIN2HEX(Y15), BIN2HEX(Z15)) -> 00 00 00 | U15: =_xlfn.CONCAT(DEC2BIN(E15), DEC2BIN(F15), DEC2BIN(G15), DEC2BIN(H15)) -> 0000 | V15: =_xlfn.CONCAT(DEC2BIN(IF(ISBLANK(I15), 0, MATCH(I15, 运算选择!$E$2:$E$9, 0) - 1), 3), DEC2BIN(IF(ISBLANK(J15), 0, MATCH(J15, 单列下拉值!$A$2:$A$3, 0) - 1), 1)) -> 0000 | W15: =_xlfn.CONCAT(DEC2BIN(IF(ISBLANK(K15), 0, MATCH(K15, A寄存器选择!$D$2:$D$5, 0) - 1), 2), DEC2BIN(IF(ISBLANK(L15), 0, MATCH(L15, B寄存器选择!$D$2:$D$5, 0) - 1), 2)) -> 0000 | X15: =_xlfn.CONCAT(DEC2BIN(IF(ISBLANK(M15), 0, MATCH(M15, 单列下拉值!$B$2:$B$3, 0) - 1)), DEC2BIN(IF(ISBLANK(N15), 0, MATCH(N15, 单列下拉值!$C$2:$C$3, 0) - 1)), DEC2BIN(IF(ISBLANK(O15), 0, MATCH(O15, ALU寄存器选择!$D$2:$D$5, 0) - 1), 2)) -> 0000 | Y15: =_xlfn.CONCAT(DEC2BIN(IF(ISBLANK(P15),0,MATCH(P15,单列下拉值!$D$2:$D$3,0)-1)), DEC2BIN(IF(ISBLANK(Q15), 0, MATCH(Q15, CP选择!$E$2:$E$9, 0) - 1), 3)) -> 0000 | Z15: =_xlfn.CONCAT(DEC2BIN(R15), DEC2BIN(IF(ISBLANK(S15), 0, MATCH(S15, 后继微地址形成!$E$2:$E$9, 0) - 1), 3)) -> 0000
C16: =DEC2HEX(ROW(C16)-3, 2) -> 0D | D16: =_xlfn.CONCAT(BIN2HEX(U16), BIN2HEX(V16), " ", BIN2HEX(W16), BIN2HEX(X16), " ", BIN2HEX(Y16), BIN2HEX(Z16)) -> 00 00 00 | U16: =_xlfn.CONCAT(DEC2BIN(E16), DEC2BIN(F16), DEC2BIN(G16), DEC2BIN(H16)) -> 0000 | V16: =_xlfn.CONCAT(DEC2BIN(IF(ISBLANK(I16), 0, MATCH(I16, 运算选择!$E$2:$E$9, 0) - 1), 3), DEC2BIN(IF(ISBLANK(J16), 0, MATCH(J16, 单列下拉值!$A$2:$A$3, 0) - 1), 1)) -> 0000 | W16: =_xlfn.CONCAT(DEC2BIN(IF(ISBLANK(K16), 0, MATCH(K16, A寄存器选择!$D$2:$D$5, 0) - 1), 2), DEC2BIN(IF(ISBLANK(L16), 0, MATCH(L16, B寄存器选择!$D$2:$D$5, 0) - 1), 2)) -> 0000 | X16: =_xlfn.CONCAT(DEC2BIN(IF(ISBLANK(M16), 0, MATCH(M16, 单列下拉值!$B$2:$B$3, 0) - 1)), DEC2BIN(IF(ISBLANK(N16), 0, MATCH(N16, 单列下拉值!$C$2:$C$3, 0) - 1)), DEC2BIN(IF(ISBLANK(O16), 0, MATCH(O16, ALU寄存器选择!$D$2:$D$5, 0) - 1), 2)) -> 0000 | Y16: =_xlfn.CONCAT(DEC2BIN(IF(ISBLANK(P16),0,MATCH(P16,单列下拉值!$D$2:$D$3,0)-1)), DEC2BIN(IF(ISBLANK(Q16), 0, MATCH(Q16, CP选择!$E$2:$E$9, 0) - 1), 3)) -> 0000 | Z16: =_xlfn.CONCAT(DEC2BIN(R16), DEC2BIN(IF(ISBLANK(S16), 0, MATCH(S16, 后继微地址形成!$E$2:$E$9, 0) - 1), 3)) -> 0000
C17: =DEC2HEX(ROW(C17)-3, 2) -> 0E | D17: =_xlfn.CONCAT(BIN2HEX(U17), BIN2HEX(V17), " ", BIN2HEX(W17), BIN2HEX(X17), " ", BIN2HEX(Y17), BIN2HEX(Z17)) -> 00 00 00 | U17: =_xlfn.CONCAT(DEC2BIN(E17), DEC2BIN(F17), DEC2BIN(G17), DEC2BIN(H17)) -> 0000 | V17: =_xlfn.CONCAT(DEC2BIN(IF(ISBLANK(I17), 0, MATCH(I17, 运算选择!$E$2:$E$9, 0) - 1), 3), DEC2BIN(IF(ISBLANK(J17), 0, MATCH(J17, 单列下拉值!$A$2:$A$3, 0) - 1), 1)) -> 0000 | W17: =_xlfn.CONCAT(DEC2BIN(IF(ISBLANK(K17), 0, MATCH(K17, A寄存器选择!$D$2:$D$5, 0) - 1), 2), DEC2BIN(IF(ISBLANK(L17), 0, MATCH(L17, B寄存器选择!$D$2:$D$5, 0) - 1), 2)) -> 0000 | X17: =_xlfn.CONCAT(DEC2BIN(IF(ISBLANK(M17), 0, MATCH(M17, 单列下拉值!$B$2:$B$3, 0) - 1)), DEC2BIN(IF(ISBLANK(N17), 0, MATCH(N17, 单列下拉值!$C$2:$C$3, 0) - 1)), DEC2BIN(IF(ISBLANK(O17), 0, MATCH(O17, ALU寄存器选择!$D$2:$D$5, 0) - 1), 2)) -> 0000 | Y17: =_xlfn.CONCAT(DEC2BIN(IF(ISBLANK(P17),0,MATCH(P17,单列下拉值!$D$2:$D$3,0)-1)), DEC2BIN(IF(ISBLANK(Q17), 0, MATCH(Q17, CP选择!$E$2:$E$9, 0) - 1), 3)) -> 0000 | Z17: =_xlfn.CONCAT(DEC2BIN(R17), DEC2BIN(IF(ISBLANK(S17), 0, MATCH(S17, 后继微地址形成!$E$2:$E$9, 0) - 1), 3)) -> 0000
C18: =DEC2HEX(ROW(C18)-3, 2) -> 0F | D18: =_xlfn.CONCAT(BIN2HEX(U18), BIN2HEX(V18), " ", BIN2HEX(W18), BIN2HEX(X18), " ", BIN2HEX(Y18), BIN2HEX(Z18)) -> 00 00 00 | U18: =_xlfn.CONCAT(DEC2BIN(E18), DEC2BIN(F18), DEC2BIN(G18), DEC2BIN(H18)) -> 0000 | V18: =_xlfn.CONCAT(DEC2BIN(IF(ISBLANK(I18), 0, MATCH(I18, 运算选择!$E$2:$E$9, 0) - 1), 3), DEC2BIN(IF(ISBLANK(J18), 0, MATCH(J18, 单列下拉值!$A$2:$A$3, 0) - 1), 1)) -> 0000 | W18: =_xlfn.CONCAT(DEC2BIN(IF(ISBLANK(K18), 0, MATCH(K18, A寄存器选择!$D$2:$D$5, 0) - 1), 2), DEC2BIN(IF(ISBLANK(L18), 0, MATCH(L18, B寄存器选择!$D$2:$D$5, 0) - 1), 2)) -> 0000 | X18: =_xlfn.CONCAT(DEC2BIN(IF(ISBLANK(M18), 0, MATCH(M18, 单列下拉值!$B$2:$B$3, 0) - 1)), DEC2BIN(IF(ISBLANK(N18), 0, MATCH(N18, 单列下拉值!$C$2:$C$3, 0) - 1)), DEC2BIN(IF(ISBLANK(O18), 0, MATCH(O18, ALU寄存器选择!$D$2:$D$5, 0) - 1), 2)) -> 0000 | Y18: =_xlfn.CONCAT(DEC2BIN(IF(ISBLANK(P18),0,MATCH(P18,单列下拉值!$D$2:$D$3,0)-1)), DEC2BIN(IF(ISBLANK(Q18), 0, MATCH(Q18, CP选择!$E$2:$E$9, 0) - 1), 3)) -> 0000 | Z18: =_xlfn.CONCAT(DEC2BIN(R18), DEC2BIN(IF(ISBLANK(S18), 0, MATCH(S18, 后继微地址形成!$E$2:$E$9, 0) - 1), 3)) -> 0000
A19: STA Ri, AD | B19: PC->B | C19: =DEC2HEX(ROW(C19)-3, 2) -> 10 | D19: =_xlfn.CONCAT(BIN2HEX(U19), BIN2HEX(V19), " ", BIN2HEX(W19), BIN2HEX(X19), " ", BIN2HEX(Y19), BIN2HEX(Z19)) -> 00 12 01 | L19: B选PC | O19: 存入B寄存器 | S19: μPC加一 | U19: =_xlfn.CONCAT(DEC2BIN(E19), DEC2BIN(F19), DEC2BIN(G19), DEC2BIN(H19)) -> 0000 | V19: =_xlfn.CONCAT(DEC2BIN(IF(ISBLANK(I19), 0, MATCH(I19, 运算选择!$E$2:$E$9, 0) - 1), 3), DEC2BIN(IF(ISBLANK(J19), 0, MATCH(J19, 单列下拉值!$A$2:$A$3, 0) - 1), 1)) -> 0000 | W19: =_xlfn.CONCAT(DEC2BIN(IF(ISBLANK(K19), 0, MATCH(K19, A寄存器选择!$D$2:$D$5, 0) - 1), 2), DEC2BIN(IF(ISBLANK(L19), 0, MATCH(L19, B寄存器选择!$D$2:$D$5, 0) - 1), 2)) -> 0001 | X19: =_xlfn.CONCAT(DEC2BIN(IF(ISBLANK(M19), 0, MATCH(M19, 单列下拉值!$B$2:$B$3, 0) - 1)), DEC2BIN(IF(ISBLANK(N19), 0, MATCH(N19, 单列下拉值!$C$2:$C$3, 0) - 1)), DEC2BIN(IF(ISBLANK(O19), 0, MATCH(O19, ALU寄存器选择!$D$2:$D$5, 0) - 1), 2)) -> 0010 | Y19: =_xlfn.CONCAT(DEC2BIN(IF(ISBLANK(P19),0,MATCH(P19,单列下拉值!$D$2:$D$3,0)-1)), DEC2BIN(IF(ISBLANK(Q19), 0, MATCH(Q19, CP选择!$E$2:$E$9, 0) - 1), 3)) -> 0000 | Z19: =_xlfn.CONCAT(DEC2BIN(R19), DEC2BIN(IF(ISBLANK(S19), 0, MATCH(S19, 后继微地址形成!$E$2:$E$9, 0) - 1), 3)) -> 0001
B20: 0->A | C20: =DEC2HEX(ROW(C20)-3, 2) -> 11 | D20: =_xlfn.CONCAT(BIN2HEX(U20), BIN2HEX(V20), " ", BIN2HEX(W20), BIN2HEX(X20), " ", BIN2HEX(Y20), BIN2HEX(Z20)) -> 00 01 A1 | K20: A置0 | O20: 存入A寄存器 | P20: 加一 | Q20: CPPC | S20: μPC加一 | U20: =_xlfn.CONCAT(DEC2BIN(E20), DEC2BIN(F20), DEC2BIN(G20), DEC2BIN(H20)) -> 0000 | V20: =_xlfn.CONCAT(DEC2BIN(IF(ISBLANK(I20), 0, MATCH(I20, 运算选择!$E$2:$E$9, 0) - 1), 3), DEC2BIN(IF(ISBLANK(J20), 0, MATCH(J20, 单列下拉值!$A$2:$A$3, 0) - 1), 1)) -> 0000 | W20: =_xlfn.CONCAT(DEC2BIN(IF(ISBLANK(K20), 0, MATCH(K20, A寄存器选择!$D$2:$D$5, 0) - 1), 2), DEC2BIN(IF(ISBLANK(L20), 0, MATCH(L20, B寄存器选择!$D$2:$D$5, 0) - 1), 2)) -> 0000 | X20: =_xlfn.CONCAT(DEC2BIN(IF(ISBLANK(M20), 0, MATCH(M20, 单列下拉值!$B$2:$B$3, 0) - 1)), DEC2BIN(IF(ISBLANK(N20), 0, MATCH(N20, 单列下拉值!$C$2:$C$3, 0) - 1)), DEC2BIN(IF(ISBLANK(O20), 0, MATCH(O20, ALU寄存器选择!$D$2:$D$5, 0) - 1), 2)) -> 0001 | Y20: =_xlfn.CONCAT(DEC2BIN(IF(ISBLANK(P20),0,MATCH(P20,单列下拉值!$D$2:$D$3,0)-1)), DEC2BIN(IF(ISBLANK(Q20), 0, MATCH(Q20, CP选择!$E$2:$E$9, 0) - 1), 3)) -> 1010 | Z20: =_xlfn.CONCAT(DEC2BIN(R20), DEC2BIN(IF(ISBLANK(S20), 0, MATCH(S20, 后继微地址形成!$E$2:$E$9, 0) - 1), 3)) -> 0001
B21: PLUS | C21: =DEC2HEX(ROW(C21)-3, 2) -> 12 | D21: =_xlfn.CONCAT(BIN2HEX(U21), BIN2HEX(V21), " ", BIN2HEX(W21), BIN2HEX(X21), " ", BIN2HEX(Y21), BIN2HEX(Z21)) -> 04 03 01 | I21: 无符号加 | O21: 存入Z和PSW | S21: μPC加一 | U21: =_xlfn.CONCAT(DEC2BIN(E21), DEC2BIN(F21), DEC2BIN(G21), DEC2BIN(H21)) -> 0000 | V21: =_xlfn.CONCAT(DEC2BIN(IF(ISBLANK(I21), 0, MATCH(I21, 运算选择!$E$2:$E$9, 0) - 1), 3), DEC2BIN(IF(ISBLANK(J21), 0, MATCH(J21, 单列下拉值!$A$2:$A$3, 0) - 1), 1)) -> 0100 | W21: =_xlfn.CONCAT(DEC2BIN(IF(ISBLANK(K21), 0, MATCH(K21, A寄存器选择!$D$2:$D$5, 0) - 1), 2), DEC2BIN(IF(ISBLANK(L21), 0, MATCH(L21, B寄存器选择!$D$2:$D$5, 0) - 1), 2)) -> 0000 | X21: =_xlfn.CONCAT(DEC2BIN(IF(ISBLANK(M21), 0, MATCH(M21, 单列下拉值!$B$2:$B$3, 0) - 1)), DEC2BIN(IF(ISBLANK(N21), 0, MATCH(N21, 单列下拉值!$C$2:$C$3, 0) - 1)), DEC2BIN(IF(ISBLANK(O21), 0, MATCH(O21, ALU寄存器选择!$D$2:$D$5, 0) - 1), 2)) -> 0011 | Y21: =_xlfn.CONCAT(DEC2BIN(IF(ISBLANK(P21),0,MATCH(P21,单列下拉值!$D$2:$D$3,0)-1)), DEC2BIN(IF(ISBLANK(Q21), 0, MATCH(Q21, CP选择!$E$2:$E$9, 0) - 1), 3)) -> 0000 | Z21: =_xlfn.CONCAT(DEC2BIN(R21), DEC2BIN(IF(ISBLANK(S21), 0, MATCH(S21, 后继微地址形成!$E$2:$E$9, 0) - 1), 3)) -> 0001
B22: Z->MAR | C22: =DEC2HEX(ROW(C22)-3, 2) -> 13 | D22: =_xlfn.CONCAT(BIN2HEX(U22), BIN2HEX(V22), " ", BIN2HEX(W22), BIN2HEX(X22), " ", BIN2HEX(Y22), BIN2HEX(Z22)) -> 00 00 41 | Q22: CPMAR | S22: μPC加一 | U22: =_xlfn.CONCAT(DEC2BIN(E22), DEC2BIN(F22), DEC2BIN(G22), DEC2BIN(H22)) -> 0000 | V22: =_xlfn.CONCAT(DEC2BIN(IF(ISBLANK(I22), 0, MATCH(I22, 运算选择!$E$2:$E$9, 0) - 1), 3), DEC2BIN(IF(ISBLANK(J22), 0, MATCH(J22, 单列下拉值!$A$2:$A$3, 0) - 1), 1)) -> 0000 | W22: =_xlfn.CONCAT(DEC2BIN(IF(ISBLANK(K22), 0, MATCH(K22, A寄存器选择!$D$2:$D$5, 0) - 1), 2), DEC2BIN(IF(ISBLANK(L22), 0, MATCH(L22, B寄存器选择!$D$2:$D$5, 0) - 1), 2)) -> 0000 | X22: =_xlfn.CONCAT(DEC2BIN(IF(ISBLANK(M22), 0, MATCH(M22, 单列下拉值!$B$2:$B$3, 0) - 1)), DEC2BIN(IF(ISBLANK(N22), 0, MATCH(N22, 单列下拉值!$C$2:$C$3, 0) - 1)), DEC2BIN(IF(ISBLANK(O22), 0, MATCH(O22, ALU寄存器选择!$D$2:$D$5, 0) - 1), 2)) -> 0000 | Y22: =_xlfn.CONCAT(DEC2BIN(IF(ISBLANK(P22),0,MATCH(P22,单列下拉值!$D$2:$D$3,0)-1)), DEC2BIN(IF(ISBLANK(Q22), 0, MATCH(Q22, CP选择!$E$2:$E$9, 0) - 1), 3)) -> 0100 | Z22: =_xlfn.CONCAT(DEC2BIN(R22), DEC2BIN(IF(ISBLANK(S22), 0, MATCH(S22, 后继微地址形成!$E$2:$E$9, 0) - 1), 3)) -> 0001
B23: 1->R, MEM->MDR | C23: =DEC2HEX(ROW(C23)-3, 2) -> 14 | D23: =_xlfn.CONCAT(BIN2HEX(U23), BIN2HEX(V23), " ", BIN2HEX(W23), BIN2HEX(X23), " ", BIN2HEX(Y23), BIN2HEX(Z23)) -> 00 00 51 | J23: 内存→MDR | Q23: CPMDR | S23: μPC加一 | U23: =_xlfn.CONCAT(DEC2BIN(E23), DEC2BIN(F23), DEC2BIN(G23), DEC2BIN(H23)) -> 0000 | V23: =_xlfn.CONCAT(DEC2BIN(IF(ISBLANK(I23), 0, MATCH(I23, 运算选择!$E$2:$E$9, 0) - 1), 3), DEC2BIN(IF(ISBLANK(J23), 0, MATCH(J23, 单列下拉值!$A$2:$A$3, 0) - 1), 1)) -> 0000 | W23: =_xlfn.CONCAT(DEC2BIN(IF(ISBLANK(K23), 0, MATCH(K23, A寄存器选择!$D$2:$D$5, 0) - 1), 2), DEC2BIN(IF(ISBLANK(L23), 0, MATCH(L23, B寄存器选择!$D$2:$D$5, 0) - 1), 2)) -> 0000 | X23: =_xlfn.CONCAT(DEC2BIN(IF(ISBLANK(M23), 0, MATCH(M23, 单列下拉值!$B$2:$B$3, 0) - 1)), DEC2BIN(IF(ISBLANK(N23), 0, MATCH(N23, 单列下拉值!$C$2:$C$3, 0) - 1)), DEC2BIN(IF(ISBLANK(O23), 0, MATCH(O23, ALU寄存器选择!$D$2:$D$5, 0) - 1), 2)) -> 0000 | Y23: =_xlfn.CONCAT(DEC2BIN(IF(ISBLANK(P23),0,MATCH(P23,单列下拉值!$D$2:$D$3,0)-1)), DEC2BIN(IF(ISBLANK(Q23), 0, MATCH(Q23, CP选择!$E$2:$E$9, 0) - 1), 3)) -> 0101 | Z23: =_xlfn.CONCAT(DEC2BIN(R23), DEC2BIN(IF(ISBLANK(S23), 0, MATCH(S23, 后继微地址形成!$E$2:$E$9, 0) - 1), 3)) -> 0001
B24: MDR->A | C24: =DEC2HEX(ROW(C24)-3, 2) -> 15 | D24: =_xlfn.CONCAT(BIN2HEX(U24), BIN2HEX(V24), " ", BIN2HEX(W24), BIN2HEX(X24), " ", BIN2HEX(Y24), BIN2HEX(Z24)) -> 00 41 01 | K24: A选MDR | O24: 存入A寄存器 | S24: μPC加一 | U24: =_xlfn.CONCAT(DEC2BIN(E24), DEC2BIN(F24), DEC2BIN(G24), DEC2BIN(H24)) -> 0000 | V24: =_xlfn.CONCAT(DEC2BIN(IF(ISBLANK(I24), 0, MATCH(I24, 运算选择!$E$2:$E$9, 0) - 1), 3), DEC2BIN(IF(ISBLANK(J24), 0, MATCH(J24, 单列下拉值!$A$2:$A$3, 0) - 1), 1)) -> 0000 | W24: =_xlfn.CONCAT(DEC2BIN(IF(ISBLANK(K24), 0, MATCH(K24, A寄存器选择!$D$2:$D$5, 0) - 1), 2), DEC2BIN(IF(ISBLANK(L24), 0, MATCH(L24, B寄存器选择!$D$2:$D$5, 0) - 1), 2)) -> 0100 | X24: =_xlfn.CONCAT(DEC2BIN(IF(ISBLANK(M24), 0, MATCH(M24, 单列下拉值!$B$2:$B$3, 0) - 1)), DEC2BIN(IF(ISBLANK(N24), 0, MATCH(N24, 单列下拉值!$C$2:$C$3, 0) - 1)), DEC2BIN(IF(ISBLANK(O24), 0, MATCH(O24, ALU寄存器选择!$D$2:$D$5, 0) - 1), 2)) -> 0001 | Y24: =_xlfn.CONCAT(DEC2BIN(IF(ISBLANK(P24),0,MATCH(P24,单列下拉值!$D$2:$D$3,0)-1)), DEC2BIN(IF(ISBLANK(Q24), 0, MATCH(Q24, CP选择!$E$2:$E$9, 0) - 1), 3)) -> 0000 | Z24: =_xlfn.CONCAT(DEC2BIN(R24), DEC2BIN(IF(ISBLANK(S24), 0, MATCH(S24, 后继微地址形成!$E$2:$E$9, 0) - 1), 3)) -> 0001
B25: 0->B | C25: =DEC2HEX(ROW(C25)-3, 2) -> 16 | D25: =_xlfn.CONCAT(BIN2HEX(U25), BIN2HEX(V25), " ", BIN2HEX(W25), BIN2HEX(X25), " ", BIN2HEX(Y25), BIN2HEX(Z25)) -> 00 02 01 | L25: B置0 | O25: 存入B寄存器 | S25: μPC加一 | U25: =_xlfn.CONCAT(DEC2BIN(E25), DEC2BIN(F25), DEC2BIN(G25), DEC2BIN(H25)) -> 0000 | V25: =_xlfn.CONCAT(DEC2BIN(IF(ISBLANK(I25), 0, MATCH(I25, 运算选择!$E$2:$E$9, 0) - 1), 3), DEC2BIN(IF(ISBLANK(J25), 0, MATCH(J25, 单列下拉值!$A$2:$A$3, 0) - 1), 1)) -> 0000 | W25: =_xlfn.CONCAT(DEC2BIN(IF(ISBLANK(K25), 0, MATCH(K25, A寄存器选择!$D$2:$D$5, 0) - 1), 2), DEC2BIN(IF(ISBLANK(L25), 0, MATCH(L25, B寄存器选择!$D$2:$D$5, 0) - 1), 2)) -> 0000 | X25: =_xlfn.CONCAT(DEC2BIN(IF(ISBLANK(M25), 0, MATCH(M25, 单列下拉值!$B$2:$B$3, 0) - 1)), DEC2BIN(IF(ISBLANK(N25), 0, MATCH(N25, 单列下拉值!$C$2:$C$3, 0) - 1)), DEC2BIN(IF(ISBLANK(O25), 0, MATCH(O25, ALU寄存器选择!$D$2:$D$5, 0) - 1), 2)) -> 0010 | Y25: =_xlfn.CONCAT(DEC2BIN(IF(ISBLANK(P25),0,MATCH(P25,单列下拉值!$D$2:$D$3,0)-1)), DEC2BIN(IF(ISBLANK(Q25), 0, MATCH(Q25, CP选择!$E$2:$E$9, 0) - 1), 3)) -> 0000 | Z25: =_xlfn.CONCAT(DEC2BIN(R25), DEC2BIN(IF(ISBLANK(S25), 0, MATCH(S25, 后继微地址形成!$E$2:$E$9, 0) - 1), 3)) -> 0001
B26: PLUS | C26: =DEC2HEX(ROW(C26)-3, 2) -> 17 | D26: =_xlfn.CONCAT(BIN2HEX(U26), BIN2HEX(V26), " ", BIN2HEX(W26), BIN2HEX(X26), " ", BIN2HEX(Y26), BIN2HEX(Z26)) -> 04 03 01 | I26: 无符号加 | O26: 存入Z和PSW | S26: μPC加一 | U26: =_xlfn.CONCAT(DEC2BIN(E26), DEC2BIN(F26), DEC2BIN(G26), DEC2BIN(H26)) -> 0000 | V26: =_xlfn.CONCAT(DEC2BIN(IF(ISBLANK(I26), 0, MATCH(I26, 运算选择!$E$2:$E$9, 0) - 1), 3), DEC2BIN(IF(ISBLANK(J26), 0, MATCH(J26, 单列下拉值!$A$2:$A$3, 0) - 1), 1)) -> 0100 | W26: =_xlfn.CONCAT(DEC2BIN(IF(ISBLANK(K26), 0, MATCH(K26, A寄存器选择!$D$2:$D$5, 0) - 1), 2), DEC2BIN(IF(ISBLANK(L26), 0, MATCH(L26, B寄存器选择!$D$2:$D$5, 0) - 1), 2)) -> 0000 | X26: =_xlfn.CONCAT(DEC2BIN(IF(ISBLANK(M26), 0, MATCH(M26, 单列下拉值!$B$2:$B$3, 0) - 1)), DEC2BIN(IF(ISBLANK(N26), 0, MATCH(N26, 单列下拉值!$C$2:$C$3, 0) - 1)), DEC2BIN(IF(ISBLANK(O26), 0, MATCH(O26, ALU寄存器选择!$D$2:$D$5, 0) - 1), 2)) -> 0011 | Y26: =_xlfn.CONCAT(DEC2BIN(IF(ISBLANK(P26),0,MATCH(P26,单列下拉值!$D$2:$D$3,0)-1)), DEC2BIN(IF(ISBLANK(Q26), 0, MATCH(Q26, CP选择!$E$2:$E$9, 0) - 1), 3)) -> 0000 | Z26: =_xlfn.CONCAT(DEC2BIN(R26), DEC2BIN(IF(ISBLANK(S26), 0, MATCH(S26, 后继微地址形成!$E$2:$E$9, 0) - 1), 3)) -> 0001
B27: Z->MAR | C27: =DEC2HEX(ROW(C27)-3, 2) -> 18 | D27: =_xlfn.CONCAT(BIN2HEX(U27), BIN2HEX(V27), " ", BIN2HEX(W27), BIN2HEX(X27), " ", BIN2HEX(Y27), BIN2HEX(Z27)) -> 00 00 41 | Q27: CPMAR | S27: μPC加一 | U27: =_xlfn.CONCAT(DEC2BIN(E27), DEC2BIN(F27), DEC2BIN(G27), DEC2BIN(H27)) -> 0000 | V27: =_xlfn.CONCAT(DEC2BIN(IF(ISBLANK(I27), 0, MATCH(I27, 运算选择!$E$2:$E$9, 0) - 1), 3), DEC2BIN(IF(ISBLANK(J27), 0, MATCH(J27, 单列下拉值!$A$2:$A$3, 0) - 1), 1)) -> 0000 | W27: =_xlfn.CONCAT(DEC2BIN(IF(ISBLANK(K27), 0, MATCH(K27, A寄存器选择!$D$2:$D$5, 0) - 1), 2), DEC2BIN(IF(ISBLANK(L27), 0, MATCH(L27, B寄存器选择!$D$2:$D$5, 0) - 1), 2)) -> 0000 | X27: =_xlfn.CONCAT(DEC2BIN(IF(ISBLANK(M27), 0, MATCH(M27, 单列下拉值!$B$2:$B$3, 0) - 1)), DEC2BIN(IF(ISBLANK(N27), 0, MATCH(N27, 单列下拉值!$C$2:$C$3, 0) - 1)), DEC2BIN(IF(ISBLANK(O27), 0, MATCH(O27, ALU寄存器选择!$D$2:$D$5, 0) - 1), 2)) -> 0000 | Y27: =_xlfn.CONCAT(DEC2BIN(IF(ISBLANK(P27),0,MATCH(P27,单列下拉值!$D$2:$D$3,0)-1)), DEC2BIN(IF(ISBLANK(Q27), 0, MATCH(Q27, CP选择!$E$2:$E$9, 0) - 1), 3)) -> 0100 | Z27: =_xlfn.CONCAT(DEC2BIN(R27), DEC2BIN(IF(ISBLANK(S27), 0, MATCH(S27, 后继微地址形成!$E$2:$E$9, 0) - 1), 3)) -> 0001
B28: Rx->B | C28: =DEC2HEX(ROW(C28)-3, 2) -> 19 | D28: =_xlfn.CONCAT(BIN2HEX(U28), BIN2HEX(V28), " ", BIN2HEX(W28), BIN2HEX(X28), " ", BIN2HEX(Y28), BIN2HEX(Z28)) -> 00 22 01 | L28: B选通用寄存器 | O28: 存入B寄存器 | S28: μPC加一 | U28: =_xlfn.CONCAT(DEC2BIN(E28), DEC2BIN(F28), DEC2BIN(G28), DEC2BIN(H28)) -> 0000 | V28: =_xlfn.CONCAT(DEC2BIN(IF(ISBLANK(I28), 0, MATCH(I28, 运算选择!$E$2:$E$9, 0) - 1), 3), DEC2BIN(IF(ISBLANK(J28), 0, MATCH(J28, 单列下拉值!$A$2:$A$3, 0) - 1), 1)) -> 0000 | W28: =_xlfn.CONCAT(DEC2BIN(IF(ISBLANK(K28), 0, MATCH(K28, A寄存器选择!$D$2:$D$5, 0) - 1), 2), DEC2BIN(IF(ISBLANK(L28), 0, MATCH(L28, B寄存器选择!$D$2:$D$5, 0) - 1), 2)) -> 0010 | X28: =_xlfn.CONCAT(DEC2BIN(IF(ISBLANK(M28), 0, MATCH(M28, 单列下拉值!$B$2:$B$3, 0) - 1)), DEC2BIN(IF(ISBLANK(N28), 0, MATCH(N28, 单列下拉值!$C$2:$C$3, 0) - 1)), DEC2BIN(IF(ISBLANK(O28), 0, MATCH(O28, ALU寄存器选择!$D$2:$D$5, 0) - 1), 2)) -> 0010 | Y28: =_xlfn.CONCAT(DEC2BIN(IF(ISBLANK(P28),0,MATCH(P28,单列下拉值!$D$2:$D$3,0)-1)), DEC2BIN(IF(ISBLANK(Q28), 0, MATCH(Q28, CP选择!$E$2:$E$9, 0) - 1), 3)) -> 0000 | Z28: =_xlfn.CONCAT(DEC2BIN(R28), DEC2BIN(IF(ISBLANK(S28), 0, MATCH(S28, 后继微地址形成!$E$2:$E$9, 0) - 1), 3)) -> 0001
B29: 0->A | C29: =DEC2HEX(ROW(C29)-3, 2) -> 1A | D29: =_xlfn.CONCAT(BIN2HEX(U29), BIN2HEX(V29), " ", BIN2HEX(W29), BIN2HEX(X29), " ", BIN2HEX(Y29), BIN2HEX(Z29)) -> 00 01 01 | K29: A置0 | O29: 存入A寄存器 | S29: μPC加一 | U29: =_xlfn.CONCAT(DEC2BIN(E29), DEC2BIN(F29), DEC2BIN(G29), DEC2BIN(H29)) -> 0000 | V29: =_xlfn.CONCAT(DEC2BIN(IF(ISBLANK(I29), 0, MATCH(I29, 运算选择!$E$2:$E$9, 0) - 1), 3), DEC2BIN(IF(ISBLANK(J29), 0, MATCH(J29, 单列下拉值!$A$2:$A$3, 0) - 1), 1)) -> 0000 | W29: =_xlfn.CONCAT(DEC2BIN(IF(ISBLANK(K29), 0, MATCH(K29, A寄存器选择!$D$2:$D$5, 0) - 1), 2), DEC2BIN(IF(ISBLANK(L29), 0, MATCH(L29, B寄存器选择!$D$2:$D$5, 0) - 1), 2)) -> 0000 | X29: =_xlfn.CONCAT(DEC2BIN(IF(ISBLANK(M29), 0, MATCH(M29, 单列下拉值!$B$2:$B$3, 0) - 1)), DEC2BIN(IF(ISBLANK(N29), 0, MATCH(N29, 单列下拉值!$C$2:$C$3, 0) - 1)), DEC2BIN(IF(ISBLANK(O29), 0, MATCH(O29, ALU寄存器选择!$D$2:$D$5, 0) - 1), 2)) -> 0001 | Y29: =_xlfn.CONCAT(DEC2BIN(IF(ISBLANK(P29),0,MATCH(P29,单列下拉值!$D$2:$D$3,0)-1)), DEC2BIN(IF(ISBLANK(Q29), 0, MATCH(Q29, CP选择!$E$2:$E$9, 0) - 1), 3)) -> 0000 | Z29: =_xlfn.CONCAT(DEC2BIN(R29), DEC2BIN(IF(ISBLANK(S29), 0, MATCH(S29, 后继微地址形成!$E$2:$E$9, 0) - 1), 3)) -> 0001
B30: PLUS | C30: =DEC2HEX(ROW(C30)-3, 2) -> 1B | D30: =_xlfn.CONCAT(BIN2HEX(U30), BIN2HEX(V30), " ", BIN2HEX(W30), BIN2HEX(X30), " ", BIN2HEX(Y30), BIN2HEX(Z30)) -> 04 03 01 | I30: 无符号加 | O30: 存入Z和PSW | S30: μPC加一 | U30: =_xlfn.CONCAT(DEC2BIN(E30), DEC2BIN(F30), DEC2BIN(G30), DEC2BIN(H30)) -> 0000 | V30: =_xlfn.CONCAT(DEC2BIN(IF(ISBLANK(I30), 0, MATCH(I30, 运算选择!$E$2:$E$9, 0) - 1), 3), DEC2BIN(IF(ISBLANK(J30), 0, MATCH(J30, 单列下拉值!$A$2:$A$3, 0) - 1), 1)) -> 0100 | W30: =_xlfn.CONCAT(DEC2BIN(IF(ISBLANK(K30), 0, MATCH(K30, A寄存器选择!$D$2:$D$5, 0) - 1), 2), DEC2BIN(IF(ISBLANK(L30), 0, MATCH(L30, B寄存器选择!$D$2:$D$5, 0) - 1), 2)) -> 0000 | X30: =_xlfn.CONCAT(DEC2BIN(IF(ISBLANK(M30), 0, MATCH(M30, 单列下拉值!$B$2:$B$3, 0) - 1)), DEC2BIN(IF(ISBLANK(N30), 0, MATCH(N30, 单列下拉值!$C$2:$C$3, 0) - 1)), DEC2BIN(IF(ISBLANK(O30), 0, MATCH(O30, ALU寄存器选择!$D$2:$D$5, 0) - 1), 2)) -> 0011 | Y30: =_xlfn.CONCAT(DEC2BIN(IF(ISBLANK(P30),0,MATCH(P30,单列下拉值!$D$2:$D$3,0)-1)), DEC2BIN(IF(ISBLANK(Q30), 0, MATCH(Q30, CP选择!$E$2:$E$9, 0) - 1), 3)) -> 0000 | Z30: =_xlfn.CONCAT(DEC2BIN(R30), DEC2BIN(IF(ISBLANK(S30), 0, MATCH(S30, 后继微地址形成!$E$2:$E$9, 0) - 1), 3)) -> 0001
B31: Z->MDR | C31: =DEC2HEX(ROW(C31)-3, 2) -> 1C | D31: =_xlfn.CONCAT(BIN2HEX(U31), BIN2HEX(V31), " ", BIN2HEX(W31), BIN2HEX(X31), " ", BIN2HEX(Y31), BIN2HEX(Z31)) -> 01 00 51 | J31: 总线(Z)→MDR&MDR→内存 | Q31: CPMDR | S31: μPC加一 | U31: =_xlfn.CONCAT(DEC2BIN(E31), DEC2BIN(F31), DEC2BIN(G31), DEC2BIN(H31)) -> 0000 | V31: =_xlfn.CONCAT(DEC2BIN(IF(ISBLANK(I31), 0, MATCH(I31, 运算选择!$E$2:$E$9, 0) - 1), 3), DEC2BIN(IF(ISBLANK(J31), 0, MATCH(J31, 单列下拉值!$A$2:$A$3, 0) - 1), 1)) -> 0001 | W31: =_xlfn.CONCAT(DEC2BIN(IF(ISBLANK(K31), 0, MATCH(K31, A寄存器选择!$D$2:$D$5, 0) - 1), 2), DEC2BIN(IF(ISBLANK(L31), 0, MATCH(L31, B寄存器选择!$D$2:$D$5, 0) - 1), 2)) -> 0000 | X31: =_xlfn.CONCAT(DEC2BIN(IF(ISBLANK(M31), 0, MATCH(M31, 单列下拉值!$B$2:$B$3, 0) - 1)), DEC2BIN(IF(ISBLANK(N31), 0, MATCH(N31, 单列下拉值!$C$2:$C$3, 0) - 1)), DEC2BIN(IF(ISBLANK(O31), 0, MATCH(O31, ALU寄存器选择!$D$2:$D$5, 0) - 1), 2)) -> 0000 | Y31: =_xlfn.CONCAT(DEC2BIN(IF(ISBLANK(P31),0,MATCH(P31,单列下拉值!$D$2:$D$3,0)-1)), DEC2BIN(IF(ISBLANK(Q31), 0, MATCH(Q31, CP选择!$E$2:$E$9, 0) - 1), 3)) -> 0101 | Z31: =_xlfn.CONCAT(DEC2BIN(R31), DEC2BIN(IF(ISBLANK(S31), 0, MATCH(S31, 后继微地址形成!$E$2:$E$9, 0) - 1), 3)) -> 0001
B32: 1->W, MDR->MEM | C32: =DEC2HEX(ROW(C32)-3, 2) -> 1D | D32: =_xlfn.CONCAT(BIN2HEX(U32), BIN2HEX(V32), " ", BIN2HEX(W32), BIN2HEX(X32), " ", BIN2HEX(Y32), BIN2HEX(Z32)) -> 01 08 01 | J32: 总线(Z)→MDR&MDR→内存 | M32: 写 | S32: μPC加一 | U32: =_xlfn.CONCAT(DEC2BIN(E32), DEC2BIN(F32), DEC2BIN(G32), DEC2BIN(H32)) -> 0000 | V32: =_xlfn.CONCAT(DEC2BIN(IF(ISBLANK(I32), 0, MATCH(I32, 运算选择!$E$2:$E$9, 0) - 1), 3), DEC2BIN(IF(ISBLANK(J32), 0, MATCH(J32, 单列下拉值!$A$2:$A$3, 0) - 1), 1)) -> 0001 | W32: =_xlfn.CONCAT(DEC2BIN(IF(ISBLANK(K32), 0, MATCH(K32, A寄存器选择!$D$2:$D$5, 0) - 1), 2), DEC2BIN(IF(ISBLANK(L32), 0, MATCH(L32, B寄存器选择!$D$2:$D$5, 0) - 1), 2)) -> 0000 | X32: =_xlfn.CONCAT(DEC2BIN(IF(ISBLANK(M32), 0, MATCH(M32, 单列下拉值!$B$2:$B$3, 0) - 1)), DEC2BIN(IF(ISBLANK(N32), 0, MATCH(N32, 单列下拉值!$C$2:$C$3, 0) - 1)), DEC2BIN(IF(ISBLANK(O32), 0, MATCH(O32, ALU寄存器选择!$D$2:$D$5, 0) - 1), 2)) -> 1000 | Y32: =_xlfn.CONCAT(DEC2BIN(IF(ISBLANK(P32),0,MATCH(P32,单列下拉值!$D$2:$D$3,0)-1)), DEC2BIN(IF(ISBLANK(Q32), 0, MATCH(Q32, CP选择!$E$2:$E$9, 0) - 1), 3)) -> 0000 | Z32: =_xlfn.CONCAT(DEC2BIN(R32), DEC2BIN(IF(ISBLANK(S32), 0, MATCH(S32, 后继微地址形成!$E$2:$E$9, 0) - 1), 3)) -> 0001
B33: END | C33: =DEC2HEX(ROW(C33)-3, 2) -> 1E | D33: =_xlfn.CONCAT(BIN2HEX(U33), BIN2HEX(V33), " ", BIN2HEX(W33), BIN2HEX(X33), " ", BIN2HEX(Y33), BIN2HEX(Z33)) -> 00 00 02 | S33: 无条件跳转至00H | U33: =_xlfn.CONCAT(DEC2BIN(E33), DEC2BIN(F33), DEC2BIN(G33), DEC2BIN(H33)) -> 0000 | V33: =_xlfn.CONCAT(DEC2BIN(IF(ISBLANK(I33), 0, MATCH(I33, 运算选择!$E$2:$E$9, 0) - 1), 3), DEC2BIN(IF(ISBLANK(J33), 0, MATCH(J33, 单列下拉值!$A$2:$A$3, 0) - 1), 1)) -> 0000 | W33: =_xlfn.CONCAT(DEC2BIN(IF(ISBLANK(K33), 0, MATCH(K33, A寄存器选择!$D$2:$D$5, 0) - 1), 2), DEC2BIN(IF(ISBLANK(L33), 0, MATCH(L33, B寄存器选择!$D$2:$D$5, 0) - 1), 2)) -> 0000 | X33: =_xlfn.CONCAT(DEC2BIN(IF(ISBLANK(M33), 0, MATCH(M33, 单列下拉值!$B$2:$B$3, 0) - 1)), DEC2BIN(IF(ISBLANK(N33), 0, MATCH(N33, 单列下拉值!$C$2:$C$3, 0) - 1)), DEC2BIN(IF(ISBLANK(O33), 0, MATCH(O33, ALU寄存器选择!$D$2:$D$5, 0) - 1), 2)) -> 0000 | Y33: =_xlfn.CONCAT(DEC2BIN(IF(ISBLANK(P33),0,MATCH(P33,单列下拉值!$D$2:$D$3,0)-1)), DEC2BIN(IF(ISBLANK(Q33), 0, MATCH(Q33, CP选择!$E$2:$E$9, 0) - 1), 3)) -> 0000 | Z33: =_xlfn.CONCAT(DEC2BIN(R33), DEC2BIN(IF(ISBLANK(S33), 0, MATCH(S33, 后继微地址形成!$E$2:$E$9, 0) - 1), 3)) -> 0010
C34: =DEC2HEX(ROW(C34)-3, 2) -> 1F | D34: =_xlfn.CONCAT(BIN2HEX(U34), BIN2HEX(V34), " ", BIN2HEX(W34), BIN2HEX(X34), " ", BIN2HEX(Y34), BIN2HEX(Z34)) -> 00 00 00 | U34: =_xlfn.CONCAT(DEC2BIN(E34), DEC2BIN(F34), DEC2BIN(G34), DEC2BIN(H34)) -> 0000 | V34: =_xlfn.CONCAT(DEC2BIN(IF(ISBLANK(I34), 0, MATCH(I34, 运算选择!$E$2:$E$9, 0) - 1), 3), DEC2BIN(IF(ISBLANK(J34), 0, MATCH(J34, 单列下拉值!$A$2:$A$3, 0) - 1), 1)) -> 0000 | W34: =_xlfn.CONCAT(DEC2BIN(IF(ISBLANK(K34), 0, MATCH(K34, A寄存器选择!$D$2:$D$5, 0) - 1), 2), DEC2BIN(IF(ISBLANK(L34), 0, MATCH(L34, B寄存器选择!$D$2:$D$5, 0) - 1), 2)) -> 0000 | X34: =_xlfn.CONCAT(DEC2BIN(IF(ISBLANK(M34), 0, MATCH(M34, 单列下拉值!$B$2:$B$3, 0) - 1)), DEC2BIN(IF(ISBLANK(N34), 0, MATCH(N34, 单列下拉值!$C$2:$C$3, 0) - 1)), DEC2BIN(IF(ISBLANK(O34), 0, MATCH(O34, ALU寄存器选择!$D$2:$D$5, 0) - 1), 2)) -> 0000 | Y34: =_xlfn.CONCAT(DEC2BIN(IF(ISBLANK(P34),0,MATCH(P34,单列下拉值!$D$2:$D$3,0)-1)), DEC2BIN(IF(ISBLANK(Q34), 0, MATCH(Q34, CP选择!$E$2:$E$9, 0) - 1), 3)) -> 0000 | Z34: =_xlfn.CONCAT(DEC2BIN(R34), DEC2BIN(IF(ISBLANK(S34), 0, MATCH(S34, 后继微地址形成!$E$2:$E$9, 0) - 1), 3)) -> 0000
A35: LD Ri, AD | B35: PC->B | C35: =DEC2HEX(ROW(C35)-3, 2) -> 20 | D35: =_xlfn.CONCAT(BIN2HEX(U35), BIN2HEX(V35), " ", BIN2HEX(W35), BIN2HEX(X35), " ", BIN2HEX(Y35), BIN2HEX(Z35)) -> 00 12 01 | L35: B选PC | O35: 存入B寄存器 | S35: μPC加一 | U35: =_xlfn.CONCAT(DEC2BIN(E35), DEC2BIN(F35), DEC2BIN(G35), DEC2BIN(H35)) -> 0000 | V35: =_xlfn.CONCAT(DEC2BIN(IF(ISBLANK(I35), 0, MATCH(I35, 运算选择!$E$2:$E$9, 0) - 1), 3), DEC2BIN(IF(ISBLANK(J35), 0, MATCH(J35, 单列下拉值!$A$2:$A$3, 0) - 1), 1)) -> 0000 | W35: =_xlfn.CONCAT(DEC2BIN(IF(ISBLANK(K35), 0, MATCH(K35, A寄存器选择!$D$2:$D$5, 0) - 1), 2), DEC2BIN(IF(ISBLANK(L35), 0, MATCH(L35, B寄存器选择!$D$2:$D$5, 0) - 1), 2)) -> 0001 | X35: =_xlfn.CONCAT(DEC2BIN(IF(ISBLANK(M35), 0, MATCH(M35, 单列下拉值!$B$2:$B$3, 0) - 1)), DEC2BIN(IF(ISBLANK(N35), 0, MATCH(N35, 单列下拉值!$C$2:$C$3, 0) - 1)), DEC2BIN(IF(ISBLANK(O35), 0, MATCH(O35, ALU寄存器选择!$D$2:$D$5, 0) - 1), 2)) -> 0010 | Y35: =_xlfn.CONCAT(DEC2BIN(IF(ISBLANK(P35),0,MATCH(P35,单列下拉值!$D$2:$D$3,0)-1)), DEC2BIN(IF(ISBLANK(Q35), 0, MATCH(Q35, CP选择!$E$2:$E$9, 0) - 1), 3)) -> 0000 | Z35: =_xlfn.CONCAT(DEC2BIN(R35), DEC2BIN(IF(ISBLANK(S35), 0, MATCH(S35, 后继微地址形成!$E$2:$E$9, 0) - 1), 3)) -> 0001
B36: 0->A | C36: =DEC2HEX(ROW(C36)-3, 2) -> 21 | D36: =_xlfn.CONCAT(BIN2HEX(U36), BIN2HEX(V36), " ", BIN2HEX(W36), BIN2HEX(X36), " ", BIN2HEX(Y36), BIN2HEX(Z36)) -> 00 01 A1 | K36: A置0 | O36: 存入A寄存器 | P36: 加一 | Q36: CPPC | S36: μPC加一 | U36: =_xlfn.CONCAT(DEC2BIN(E36), DEC2BIN(F36), DEC2BIN(G36), DEC2BIN(H36)) -> 0000 | V36: =_xlfn.CONCAT(DEC2BIN(IF(ISBLANK(I36), 0, MATCH(I36, 运算选择!$E$2:$E$9, 0) - 1), 3), DEC2BIN(IF(ISBLANK(J36), 0, MATCH(J36, 单列下拉值!$A$2:$A$3, 0) - 1), 1)) -> 0000 | W36: =_xlfn.CONCAT(DEC2BIN(IF(ISBLANK(K36), 0, MATCH(K36, A寄存器选择!$D$2:$D$5, 0) - 1), 2), DEC2BIN(IF(ISBLANK(L36), 0, MATCH(L36, B寄存器选择!$D$2:$D$5, 0) - 1), 2)) -> 0000 | X36: =_xlfn.CONCAT(DEC2BIN(IF(ISBLANK(M36), 0, MATCH(M36, 单列下拉值!$B$2:$B$3, 0) - 1)), DEC2BIN(IF(ISBLANK(N36), 0, MATCH(N36, 单列下拉值!$C$2:$C$3, 0) - 1)), DEC2BIN(IF(ISBLANK(O36), 0, MATCH(O36, ALU寄存器选择!$D$2:$D$5, 0) - 1), 2)) -> 0001 | Y36: =_xlfn.CONCAT(DEC2BIN(IF(ISBLANK(P36),0,MATCH(P36,单列下拉值!$D$2:$D$3,0)-1)), DEC2BIN(IF(ISBLANK(Q36), 0, MATCH(Q36, CP选择!$E$2:$E$9, 0) - 1), 3)) -> 1010 | Z36: =_xlfn.CONCAT(DEC2BIN(R36), DEC2BIN(IF(ISBLANK(S36), 0, MATCH(S36, 后继微地址形成!$E$2:$E$9, 0) - 1), 3)) -> 0001
B37: PLUS | C37: =DEC2HEX(ROW(C37)-3, 2) -> 22 | D37: =_xlfn.CONCAT(BIN2HEX(U37), BIN2HEX(V37), " ", BIN2HEX(W37), BIN2HEX(X37), " ", BIN2HEX(Y37), BIN2HEX(Z37)) -> 04 03 01 | I37: 无符号加 | O37: 存入Z和PSW | S37: μPC加一 | U37: =_xlfn.CONCAT(DEC2BIN(E37), DEC2BIN(F37), DEC2BIN(G37), DEC2BIN(H37)) -> 0000 | V37: =_xlfn.CONCAT(DEC2BIN(IF(ISBLANK(I37), 0, MATCH(I37, 运算选择!$E$2:$E$9, 0) - 1), 3), DEC2BIN(IF(ISBLANK(J37), 0, MATCH(J37, 单列下拉值!$A$2:$A$3, 0) - 1), 1)) -> 0100 | W37: =_xlfn.CONCAT(DEC2BIN(IF(ISBLANK(K37), 0, MATCH(K37, A寄存器选择!$D$2:$D$5, 0) - 1), 2), DEC2BIN(IF(ISBLANK(L37), 0, MATCH(L37, B寄存器选择!$D$2:$D$5, 0) - 1), 2)) -> 0000 | X37: =_xlfn.CONCAT(DEC2BIN(IF(ISBLANK(M37), 0, MATCH(M37, 单列下拉值!$B$2:$B$3, 0) - 1)), DEC2BIN(IF(ISBLANK(N37), 0, MATCH(N37, 单列下拉值!$C$2:$C$3, 0) - 1)), DEC2BIN(IF(ISBLANK(O37), 0, MATCH(O37, ALU寄存器选择!$D$2:$D$5, 0) - 1), 2)) -> 0011 | Y37: =_xlfn.CONCAT(DEC2BIN(IF(ISBLANK(P37),0,MATCH(P37,单列下拉值!$D$2:$D$3,0)-1)), DEC2BIN(IF(ISBLANK(Q37), 0, MATCH(Q37, CP选择!$E$2:$E$9, 0) - 1), 3)) -> 0000 | Z37: =_xlfn.CONCAT(DEC2BIN(R37), DEC2BIN(IF(ISBLANK(S37), 0, MATCH(S37, 后继微地址形成!$E$2:$E$9, 0) - 1), 3)) -> 0001
B38: Z->MAR | C38: =DEC2HEX(ROW(C38)-3, 2) -> 23 | D38: =_xlfn.CONCAT(BIN2HEX(U38), BIN2HEX(V38), " ", BIN2HEX(W38), BIN2HEX(X38), " ", BIN2HEX(Y38), BIN2HEX(Z38)) -> 00 00 41 | Q38: CPMAR | S38: μPC加一 | U38: =_xlfn.CONCAT(DEC2BIN(E38), DEC2BIN(F38), DEC2BIN(G38), DEC2BIN(H38)) -> 0000 | V38: =_xlfn.CONCAT(DEC2BIN(IF(ISBLANK(I38), 0, MATCH(I38, 运算选择!$E$2:$E$9, 0) - 1), 3), DEC2BIN(IF(ISBLANK(J38), 0, MATCH(J38, 单列下拉值!$A$2:$A$3, 0) - 1), 1)) -> 0000 | W38: =_xlfn.CONCAT(DEC2BIN(IF(ISBLANK(K38), 0, MATCH(K38, A寄存器选择!$D$2:$D$5, 0) - 1), 2), DEC2BIN(IF(ISBLANK(L38), 0, MATCH(L38, B寄存器选择!$D$2:$D$5, 0) - 1), 2)) -> 0000 | X38: =_xlfn.CONCAT(DEC2BIN(IF(ISBLANK(M38), 0, MATCH(M38, 单列下拉值!$B$2:$B$3, 0) - 1)), DEC2BIN(IF(ISBLANK(N38), 0, MATCH(N38, 单列下拉值!$C$2:$C$3, 0) - 1)), DEC2BIN(IF(ISBLANK(O38), 0, MATCH(O38, ALU寄存器选择!$D$2:$D$5, 0) - 1), 2)) -> 0000 | Y38: =_xlfn.CONCAT(DEC2BIN(IF(ISBLANK(P38),0,MATCH(P38,单列下拉值!$D$2:$D$3,0)-1)), DEC2BIN(IF(ISBLANK(Q38), 0, MATCH(Q38, CP选择!$E$2:$E$9, 0) - 1), 3)) -> 0100 | Z38: =_xlfn.CONCAT(DEC2BIN(R38), DEC2BIN(IF(ISBLANK(S38), 0, MATCH(S38, 后继微地址形成!$E$2:$E$9, 0) - 1), 3)) -> 0001
B39: 1->R, MEM->MDR | C39: =DEC2HEX(ROW(C39)-3, 2) -> 24 | D39: =_xlfn.CONCAT(BIN2HEX(U39), BIN2HEX(V39), " ", BIN2HEX(W39), BIN2HEX(X39), " ", BIN2HEX(Y39), BIN2HEX(Z39)) -> 00 04 51 | J39: 内存→MDR | N39: 读 | Q39: CPMDR | S39: μPC加一 | U39: =_xlfn.CONCAT(DEC2BIN(E39), DEC2BIN(F39), DEC2BIN(G39), DEC2BIN(H39)) -> 0000 | V39: =_xlfn.CONCAT(DEC2BIN(IF(ISBLANK(I39), 0, MATCH(I39, 运算选择!$E$2:$E$9, 0) - 1), 3), DEC2BIN(IF(ISBLANK(J39), 0, MATCH(J39, 单列下拉值!$A$2:$A$3, 0) - 1), 1)) -> 0000 | W39: =_xlfn.CONCAT(DEC2BIN(IF(ISBLANK(K39), 0, MATCH(K39, A寄存器选择!$D$2:$D$5, 0) - 1), 2), DEC2BIN(IF(ISBLANK(L39), 0, MATCH(L39, B寄存器选择!$D$2:$D$5, 0) - 1), 2)) -> 0000 | X39: =_xlfn.CONCAT(DEC2BIN(IF(ISBLANK(M39), 0, MATCH(M39, 单列下拉值!$B$2:$B$3, 0) - 1)), DEC2BIN(IF(ISBLANK(N39), 0, MATCH(N39, 单列下拉值!$C$2:$C$3, 0) - 1)), DEC2BIN(IF(ISBLANK(O39), 0, MATCH(O39, ALU寄存器选择!$D$2:$D$5, 0) - 1), 2)) -> 0100 | Y39: =_xlfn.CONCAT(DEC2BIN(IF(ISBLANK(P39),0,MATCH(P39,单列下拉值!$D$2:$D$3,0)-1)), DEC2BIN(IF(ISBLANK(Q39), 0, MATCH(Q39, CP选择!$E$2:$E$9, 0) - 1), 3)) -> 0101 | Z39: =_xlfn.CONCAT(DEC2BIN(R39), DEC2BIN(IF(ISBLANK(S39), 0, MATCH(S39, 后继微地址形成!$E$2:$E$9, 0) - 1), 3)) -> 0001
B40: MDR->A | C40: =DEC2HEX(ROW(C40)-3, 2) -> 25 | D40: =_xlfn.CONCAT(BIN2HEX(U40), BIN2HEX(V40), " ", BIN2HEX(W40), BIN2HEX(X40), " ", BIN2HEX(Y40), BIN2HEX(Z40)) -> 00 41 01 | K40: A选MDR | O40: 存入A寄存器 | S40: μPC加一 | U40: =_xlfn.CONCAT(DEC2BIN(E40), DEC2BIN(F40), DEC2BIN(G40), DEC2BIN(H40)) -> 0000 | V40: =_xlfn.CONCAT(DEC2BIN(IF(ISBLANK(I40), 0, MATCH(I40, 运算选择!$E$2:$E$9, 0) - 1), 3), DEC2BIN(IF(ISBLANK(J40), 0, MATCH(J40, 单列下拉值!$A$2:$A$3, 0) - 1), 1)) -> 0000 | W40: =_xlfn.CONCAT(DEC2BIN(IF(ISBLANK(K40), 0, MATCH(K40, A寄存器选择!$D$2:$D$5, 0) - 1), 2), DEC2BIN(IF(ISBLANK(L40), 0, MATCH(L40, B寄存器选择!$D$2:$D$5, 0) - 1), 2)) -> 0100 | X40: =_xlfn.CONCAT(DEC2BIN(IF(ISBLANK(M40), 0, MATCH(M40, 单列下拉值!$B$2:$B$3, 0) - 1)), DEC2BIN(IF(ISBLANK(N40), 0, MATCH(N40, 单列下拉值!$C$2:$C$3, 0) - 1)), DEC2BIN(IF(ISBLANK(O40), 0, MATCH(O40, ALU寄存器选择!$D$2:$D$5, 0) - 1), 2)) -> 0001 | Y40: =_xlfn.CONCAT(DEC2BIN(IF(ISBLANK(P40),0,MATCH(P40,单列下拉值!$D$2:$D$3,0)-1)), DEC2BIN(IF(ISBLANK(Q40), 0, MATCH(Q40, CP选择!$E$2:$E$9, 0) - 1), 3)) -> 0000 | Z40: =_xlfn.CONCAT(DEC2BIN(R40), DEC2BIN(IF(ISBLANK(S40), 0, MATCH(S40, 后继微地址形成!$E$2:$E$9, 0) - 1), 3)) -> 0001
...

Sheet 单列下拉值
A1: MDR_MEM/BUS | B1: \WR | C1: \RD | D1: PC+1
A2: 内存→MDR | B2: 不写 | C2: 不读 | D2: 总线(Z)->PC
A3: 总线(Z)→MDR&MDR→内存 | B3: 写 | C3: 读 | D3: 加一

Sheet ALU寄存器选择
A1: μIR9 | B1: μIR8 | C1: 引脚 | D1: 描述
A2: 0 | B2: 0 | C2: Y0 | D2: 什么都不存
A3: 0 | B3: 1 | C3: Y1 | D3: 存入A寄存器
A4: 1 | B4: 0 | C4: Y2 | D4: 存入B寄存器
A5: 1 | B5: 1 | C5: Y3 | D5: 存入Z和PSW
A12: 返回主表

Sheet 运算选择
A1: μIR19 | B1: μIR18 | C1: μIR17 | D1: 引脚 | E1: 描述
A2: 0 | B2: 0 | C2: 0 | D2: Y0 | E2: 什么都不做
A3: 0 | B3: 0 | C3: 1 | D3: Y1 | E3: 加法
A4: 0 | B4: 1 | C4: 0 | D4: Y2 | E4: 无符号加
A5: 0 | B5: 1 | C5: 1 | D5: Y3 | E5: 逻辑与
A6: 1 | B6: 0 | C6: 0 | D6: Y4 | E6: 左移一位
A7: 1 | B7: 0 | C7: 1 | D7: Y5 | E7: 左移带进位
A8: 1 | B8: 1 | C8: 0 | D8: Y6 | E8: 右移一位
A9: 1 | B9: 1 | C9: 1 | D9: Y7 | E9: 右移带进位
A12: 返回主表

Sheet CP选择
A1: μIR6 | B1: μIR5 | C1: μIR4 | D1: 引脚 | E1: 描述
A2: 0 | B2: 0 | C2: 0 | D2: Y0 | E2: 无CP
A3: 0 | B3: 0 | C3: 1 | D3: Y1 | E3: CP4Reg
A4: 0 | B4: 1 | C4: 0 | D4: Y2 | E4: CPPC
A5: 0 | B5: 1 | C5: 1 | D5: Y3 | E5: CPIR
A6: 1 | B6: 0 | C6: 0 | D6: Y4 | E6: CPMAR
A7: 1 | B7: 0 | C7: 1 | D7: Y5 | E7: CPMDR
A8: 1 | B8: 1 | C8: 0 | D8: Y6 | E8: 备用
A9: 1 | B9: 1 | C9: 1 | D9: Y7 | E9: 备用
A12: 返回主表

Sheet 后继微地址形成
A1: μIR2 | B1: μIR1 | C1: μIR0 | D1: 引脚 | E1: 描述 | F1: 备注
A2: 0 | B2: 0 | C2: 0 | D2: Y0 | E2: 备用
A3: 0 | B3: 0 | C3: 1 | D3: Y1 | E3: μPC加一
A4: 0 | B4: 1 | C4: 0 | D4: Y2 | E4: 无条件跳转至00H
A5: 0 | B5: 1 | C5: 1 | D5: Y3 | E5: 无条件跳转至IR7-4 | F5: 高四位IR7-IR4，低四位为0
A6: 1 | B6: 0 | C6: 0 | D6: Y4 | E6: 程序状态字条件跳转
A7: 1 | B7: 0 | C7: 1 | D7: Y5 | E7: 停机
A8: 1 | B8: 1 | C8: 0 | D8: Y6 | E8: 发生什么事了？
A9: 1 | B9: 1 | C9: 1 | D9: Y7 | E9: 发生什么事了？
E10: 変身
E11: 发生什么事了？
A12: 返回主表 | E12: 发生什么事了？
E13: 释放自我
E14: 哼啊啊啊啊啊——
E15: 走→我→的↗路，假↓面↑骑↑士↓
E16: 贞→贞→贞→贞↗德↘↗

Sheet A寄存器选择
A1: μIR15 | B1: μIR14 | C1: 引脚 | D1: 描述
A2: 0 | B2: 0 | C2: Y0 | D2: A置0
A3: 0 | B3: 1 | C3: Y1 | D3: A选MDR
A4: 1 | B4: 0 | C4: Y2 | D4: A选通用寄存器
A5: 1 | B5: 1 | C5: Y3 | D5: 无效
A12: 返回主表

Sheet B寄存器选择
A1: μIR13 | B1: μIR12 | C1: 引脚 | D1: 描述 | E1: 备注
A2: 0 | B2: 0 | C2: Y0 | D2: B置0
A3: 0 | B3: 1 | C3: Y1 | D3: B选PC
A4: 1 | B4: 0 | C4: Y2 | D4: B选通用寄存器
A5: 1 | B5: 1 | C5: Y3 | D5: 无效
A12: 返回主表
