Workbook

Sheet microprogram
D1: 是公式！不要改！ | F1: (≧▽≦*) | J1: 运算选择 | K1: MDR_MEM/BUS | L1: A寄存器选择 | M1: B寄存器选择 | N1: \WR | O1: \RD | P1: ALU寄存器选择（CP） | Q1: PC+1 | R1: CP选择 | S1: (≧▽≦*) | T1: 后继微地址形成 | V1: 是公式！不要改！O(>﹏<)o
A2: 指令块 | B2: 合并的微指令 | C2: 微指令文字描述 | D2: 地址 | E2: 控存内容 | F2: 23 | G2: 22 | H2: 21 | I2: 20 | J2: 19 | 18 | 17 | K2: 16 | L2: 15 | 14 | M2: 13 | 12 | N2: 11 | O2: 10 | P2: 9 | 8 | Q2: 7 | R2: 6 | 5 | 4 | S2: 3 | T2: 2 | 1 | 0 | V2: 23 | 22 | 21 | 30 | W2: 19 | 18 | 17 | 16 | X2: 15 | 14 | 13 | 12 | Y2: 11 | 10 | 9 | 8 | Z2: 7 | 6 | 5 | 4 | AA2: 3 | 2 | 1 | 0
A3: 取指令 | B3: PC->MAR, PC+1->PC | C3: PC->B | D3: =DEC2HEX(ROW(D3)-3, 2) -> 00 | E3: =_xlfn.CONCAT(BIN2HEX(V3), BIN2HEX(W3), " ", BIN2HEX(X3), BIN2HEX(Y3), " ", BIN2HEX(Z3), BIN2HEX(AA3)) -> 00 12 01 | M3: B选PC | P3: 存入B寄存器 | T3: μPC加一 | V3: =_xlfn.CONCAT(DEC2BIN(F3), DEC2BIN(G3), DEC2BIN(H3), DEC2BIN(I3)) -> 0000 | W3: =_xlfn.CONCAT(DEC2BIN(IF(ISBLANK(J3), 0, MATCH(J3, 运算选择!$E$2:$E$9, 0) - 1), 3), DEC2BIN(IF(ISBLANK(K3), 0, MATCH(K3, 单列下拉值!$A$2:$A$3, 0) - 1), 1)) -> 0000 | X3: =_xlfn.CONCAT(DEC2BIN(IF(ISBLANK(L3), 0, MATCH(L3, A寄存器选择!$D$2:$D$5, 0) - 1), 2), DEC2BIN(IF(ISBLANK(M3), 0, MATCH(M3, B寄存器选择!$D$2:$D$5, 0) - 1), 2)) -> 0001 | Y3: =_xlfn.CONCAT(DEC2BIN(IF(ISBLANK(N3), 0, MATCH(N3, 单列下拉值!$B$2:$B$3, 0) - 1)), DEC2BIN(IF(ISBLANK(O3), 0, MATCH(O3, 单列下拉值!$C$2:$C$3, 0) - 1)), DEC2BIN(IF(ISBLANK(P3), 0, MATCH(P3, ALU寄存器选择!$D$2:$D$5, 0) - 1), 2)) -> 0010 | Z3: =_xlfn.CONCAT(DEC2BIN(IF(ISBLANK(Q3),0,MATCH(Q3,单列下拉值!$D$2:$D$3,0)-1)), DEC2BIN(IF(ISBLANK(R3), 0, MATCH(R3, CP选择!$E$2:$E$9, 0) - 1), 3)) -> 0000 | AA3: =_xlfn.CONCAT(DEC2BIN(S3), DEC2BIN(IF(ISBLANK(T3), 0, MATCH(T3, 后继微地址形成!$E$2:$E$9, 0) - 1), 3)) -> 0001
C4: 0->A, PC+1->PC | D4: =DEC2HEX(ROW(D4)-3, 2) -> 01 | E4: =_xlfn.CONCAT(BIN2HEX(V4), BIN2HEX(W4), " ", BIN2HEX(X4), BIN2HEX(Y4), " ", BIN2HEX(Z4), BIN2HEX(AA4)) -> 00 01 A1 | L4: A置0 | P4: 存入A寄存器 | Q4: 加一 | R4: CPPC | T4: μPC加一 | V4: =_xlfn.CONCAT(DEC2BIN(F4), DEC2BIN(G4), DEC2BIN(H4), DEC2BIN(I4)) -> 0000 | W4: =_xlfn.CONCAT(DEC2BIN(IF(ISBLANK(J4), 0, MATCH(J4, 运算选择!$E$2:$E$9, 0) - 1), 3), DEC2BIN(IF(ISBLANK(K4), 0, MATCH(K4, 单列下拉值!$A$2:$A$3, 0) - 1), 1)) -> 0000 | X4: =_xlfn.CONCAT(DEC2BIN(IF(ISBLANK(L4), 0, MATCH(L4, A寄存器选择!$D$2:$D$5, 0) - 1), 2), DEC2BIN(IF(ISBLANK(M4), 0, MATCH(M4, B寄存器选择!$D$2:$D$5, 0) - 1), 2)) -> 0000 | Y4: =_xlfn.CONCAT(DEC2BIN(IF(ISBLANK(N4), 0, MATCH(N4, 单列下拉值!$B$2:$B$3, 0) - 1)), DEC2BIN(IF(ISBLANK(O4), 0, MATCH(O4, 单列下拉值!$C$2:$C$3, 0) - 1)), DEC2BIN(IF(ISBLANK(P4), 0, MATCH(P4, ALU寄存器选择!$D$2:$D$5, 0) - 1), 2)) -> 0001 | Z4: =_xlfn.CONCAT(DEC2BIN(IF(ISBLANK(Q4),0,MATCH(Q4,单列下拉值!$D$2:$D$3,0)-1)), DEC2BIN(IF(ISBLANK(R4), 0, MATCH(R4, CP选择!$E$2:$E$9, 0) - 1), 3)) -> 1010 | AA4: =_xlfn.CONCAT(DEC2BIN(S4), DEC2BIN(IF(ISBLANK(T4), 0, MATCH(T4, 后继微地址形成!$E$2:$E$9, 0) - 1), 3)) -> 0001
C5: 0+B->Z | D5: =DEC2HEX(ROW(D5)-3, 2) -> 02 | E5: =_xlfn.CONCAT(BIN2HEX(V5), BIN2HEX(W5), " ", BIN2HEX(X5), BIN2HEX(Y5), " ", BIN2HEX(Z5), BIN2HEX(AA5)) -> 04 03 01 | J5: 无符号加 | P5: 存入Z和PSW | T5: μPC加一 | V5: =_xlfn.CONCAT(DEC2BIN(F5), DEC2BIN(G5), DEC2BIN(H5), DEC2BIN(I5)) -> 0000 | W5: =_xlfn.CONCAT(DEC2BIN(IF(ISBLANK(J5), 0, MATCH(J5, 运算选择!$E$2:$E$9, 0) - 1), 3), DEC2BIN(IF(ISBLANK(K5), 0, MATCH(K5, 单列下拉值!$A$2:$A$3, 0) - 1), 1)) -> 0100 | X5: =_xlfn.CONCAT(DEC2BIN(IF(ISBLANK(L5), 0, MATCH(L5, A寄存器选择!$D$2:$D$5, 0) - 1), 2), DEC2BIN(IF(ISBLANK(M5), 0, MATCH(M5, B寄存器选择!$D$2:$D$5, 0) - 1), 2)) -> 0000 | Y5: =_xlfn.CONCAT(DEC2BIN(IF(ISBLANK(N5), 0, MATCH(N5, 单列下拉值!$B$2:$B$3, 0) - 1)), DEC2BIN(IF(ISBLANK(O5), 0, MATCH(O5, 单列下拉值!$C$2:$C$3, 0) - 1)), DEC2BIN(IF(ISBLANK(P5), 0, MATCH(P5, ALU寄存器选择!$D$2:$D$5, 0) - 1), 2)) -> 0011 | Z5: =_xlfn.CONCAT(DEC2BIN(IF(ISBLANK(Q5),0,MATCH(Q5,单列下拉值!$D$2:$D$3,0)-1)), DEC2BIN(IF(ISBLANK(R5), 0, MATCH(R5, CP选择!$E$2:$E$9, 0) - 1), 3)) -> 0000 | AA5: =_xlfn.CONCAT(DEC2BIN(S5), DEC2BIN(IF(ISBLANK(T5), 0, MATCH(T5, 后继微地址形成!$E$2:$E$9, 0) - 1), 3)) -> 0001
C6: Z->MAR | D6: =DEC2HEX(ROW(D6)-3, 2) -> 03 | E6: =_xlfn.CONCAT(BIN2HEX(V6), BIN2HEX(W6), " ", BIN2HEX(X6), BIN2HEX(Y6), " ", BIN2HEX(Z6), BIN2HEX(AA6)) -> 00 00 41 | R6: CPMAR | T6: μPC加一 | V6: =_xlfn.CONCAT(DEC2BIN(F6), DEC2BIN(G6), DEC2BIN(H6), DEC2BIN(I6)) -> 0000 | W6: =_xlfn.CONCAT(DEC2BIN(IF(ISBLANK(J6), 0, MATCH(J6, 运算选择!$E$2:$E$9, 0) - 1), 3), DEC2BIN(IF(ISBLANK(K6), 0, MATCH(K6, 单列下拉值!$A$2:$A$3, 0) - 1), 1)) -> 0000 | X6: =_xlfn.CONCAT(DEC2BIN(IF(ISBLANK(L6), 0, MATCH(L6, A寄存器选择!$D$2:$D$5, 0) - 1), 2), DEC2BIN(IF(ISBLANK(M6), 0, MATCH(M6, B寄存器选择!$D$2:$D$5, 0) - 1), 2)) -> 0000 | Y6: =_xlfn.CONCAT(DEC2BIN(IF(ISBLANK(N6), 0, MATCH(N6, 单列下拉值!$B$2:$B$3, 0) - 1)), DEC2BIN(IF(ISBLANK(O6), 0, MATCH(O6, 单列下拉值!$C$2:$C$3, 0) - 1)), DEC2BIN(IF(ISBLANK(P6), 0, MATCH(P6, ALU寄存器选择!$D$2:$D$5, 0) - 1), 2)) -> 0000 | Z6: =_xlfn.CONCAT(DEC2BIN(IF(ISBLANK(Q6),0,MATCH(Q6,单列下拉值!$D$2:$D$3,0)-1)), DEC2BIN(IF(ISBLANK(R6), 0, MATCH(R6, CP选择!$E$2:$E$9, 0) - 1), 3)) -> 0100 | AA6: =_xlfn.CONCAT(DEC2BIN(S6), DEC2BIN(IF(ISBLANK(T6), 0, MATCH(T6, 后继微地址形成!$E$2:$E$9, 0) - 1), 3)) -> 0001
C7: 1->R, M(MAR)->MDR | D7: =DEC2HEX(ROW(D7)-3, 2) -> 04 | E7: =_xlfn.CONCAT(BIN2HEX(V7), BIN2HEX(W7), " ", BIN2HEX(X7), BIN2HEX(Y7), " ", BIN2HEX(Z7), BIN2HEX(AA7)) -> 00 04 51 | K7: 内存→MDR | O7: 读 | R7: CPMDR | T7: μPC加一 | V7: =_xlfn.CONCAT(DEC2BIN(F7), DEC2BIN(G7), DEC2BIN(H7), DEC2BIN(I7)) -> 0000 | W7: =_xlfn.CONCAT(DEC2BIN(IF(ISBLANK(J7), 0, MATCH(J7, 运算选择!$E$2:$E$9, 0) - 1), 3), DEC2BIN(IF(ISBLANK(K7), 0, MATCH(K7, 单列下拉值!$A$2:$A$3, 0) - 1), 1)) -> 0000 | X7: =_xlfn.CONCAT(DEC2BIN(IF(ISBLANK(L7), 0, MATCH(L7, A寄存器选择!$D$2:$D$5, 0) - 1), 2), DEC2BIN(IF(ISBLANK(M7), 0, MATCH(M7, B寄存器选择!$D$2:$D$5, 0) - 1), 2)) -> 0000 | Y7: =_xlfn.CONCAT(DEC2BIN(IF(ISBLANK(N7), 0, MATCH(N7, 单列下拉值!$B$2:$B$3, 0) - 1)), DEC2BIN(IF(ISBLANK(O7), 0, MATCH(O7, 单列下拉值!$C$2:$C$3, 0) - 1)), DEC2BIN(IF(ISBLANK(P7), 0, MATCH(P7, ALU寄存器选择!$D$2:$D$5, 0) - 1), 2)) -> 0100 | Z7: =_xlfn.CONCAT(DEC2BIN(IF(ISBLANK(Q7),0,MATCH(Q7,单列下拉值!$D$2:$D$3,0)-1)), DEC2BIN(IF(ISBLANK(R7), 0, MATCH(R7, CP选择!$E$2:$E$9, 0) - 1), 3)) -> 0101 | AA7: =_xlfn.CONCAT(DEC2BIN(S7), DEC2BIN(IF(ISBLANK(T7), 0, MATCH(T7, 后继微地址形成!$E$2:$E$9, 0) - 1), 3)) -> 0001
B8: MDR->IR | C8: MDR->A | D8: =DEC2HEX(ROW(D8)-3, 2) -> 05 | E8: =_xlfn.CONCAT(BIN2HEX(V8), BIN2HEX(W8), " ", BIN2HEX(X8), BIN2HEX(Y8), " ", BIN2HEX(Z8), BIN2HEX(AA8)) -> 00 41 01 | L8: A选MDR | P8: 存入A寄存器 | T8: μPC加一 | V8: =_xlfn.CONCAT(DEC2BIN(F8), DEC2BIN(G8), DEC2BIN(H8), DEC2BIN(I8)) -> 0000 | W8: =_xlfn.CONCAT(DEC2BIN(IF(ISBLANK(J8), 0, MATCH(J8, 运算选择!$E$2:$E$9, 0) - 1), 3), DEC2BIN(IF(ISBLANK(K8), 0, MATCH(K8, 单列下拉值!$A$2:$A$3, 0) - 1), 1)) -> 0000 | X8: =_xlfn.CONCAT(DEC2BIN(IF(ISBLANK(L8), 0, MATCH(L8, A寄存器选择!$D$2:$D$5, 0) - 1), 2), DEC2BIN(IF(ISBLANK(M8), 0, MATCH(M8, B寄存器选择!$D$2:$D$5, 0) - 1), 2)) -> 0100 | Y8: =_xlfn.CONCAT(DEC2BIN(IF(ISBLANK(N8), 0, MATCH(N8, 单列下拉值!$B$2:$B$3, 0) - 1)), DEC2BIN(IF(ISBLANK(O8), 0, MATCH(O8, 单列下拉值!$C$2:$C$3, 0) - 1)), DEC2BIN(IF(ISBLANK(P8), 0, MATCH(P8, ALU寄存器选择!$D$2:$D$5, 0) - 1), 2)) -> 0001 | Z8: =_xlfn.CONCAT(DEC2BIN(IF(ISBLANK(Q8),0,MATCH(Q8,单列下拉值!$D$2:$D$3,0)-1)), DEC2BIN(IF(ISBLANK(R8), 0, MATCH(R8, CP选择!$E$2:$E$9, 0) - 1), 3)) -> 0000 | AA8: =_xlfn.CONCAT(DEC2BIN(S8), DEC2BIN(IF(ISBLANK(T8), 0, MATCH(T8, 后继微地址形成!$E$2:$E$9, 0) - 1), 3)) -> 0001
C9: 0->B | D9: =DEC2HEX(ROW(D9)-3, 2) -> 06 | E9: =_xlfn.CONCAT(BIN2HEX(V9), BIN2HEX(W9), " ", BIN2HEX(X9), BIN2HEX(Y9), " ", BIN2HEX(Z9), BIN2HEX(AA9)) -> 00 02 01 | M9: B置0 | P9: 存入B寄存器 | T9: μPC加一 | V9: =_xlfn.CONCAT(DEC2BIN(F9), DEC2BIN(G9), DEC2BIN(H9), DEC2BIN(I9)) -> 0000 | W9: =_xlfn.CONCAT(DEC2BIN(IF(ISBLANK(J9), 0, MATCH(J9, 运算选择!$E$2:$E$9, 0) - 1), 3), DEC2BIN(IF(ISBLANK(K9), 0, MATCH(K9, 单列下拉值!$A$2:$A$3, 0) - 1), 1)) -> 0000 | X9: =_xlfn.CONCAT(DEC2BIN(IF(ISBLANK(L9), 0, MATCH(L9, A寄存器选择!$D$2:$D$5, 0) - 1), 2), DEC2BIN(IF(ISBLANK(M9), 0, MATCH(M9, B寄存器选择!$D$2:$D$5, 0) - 1), 2)) -> 0000 | Y9: =_xlfn.CONCAT(DEC2BIN(IF(ISBLANK(N9), 0, MATCH(N9, 单列下拉值!$B$2:$B$3, 0) - 1)), DEC2BIN(IF(ISBLANK(O9), 0, MATCH(O9, 单列下拉值!$C$2:$C$3, 0) - 1)), DEC2BIN(IF(ISBLANK(P9), 0, MATCH(P9, ALU寄存器选择!$D$2:$D$5, 0) - 1), 2)) -> 0010 | Z9: =_xlfn.CONCAT(DEC2BIN(IF(ISBLANK(Q9),0,MATCH(Q9,单列下拉值!$D$2:$D$3,0)-1)), DEC2BIN(IF(ISBLANK(R9), 0, MATCH(R9, CP选择!$E$2:$E$9, 0) - 1), 3)) -> 0000 | AA9: =_xlfn.CONCAT(DEC2BIN(S9), DEC2BIN(IF(ISBLANK(T9), 0, MATCH(T9, 后继微地址形成!$E$2:$E$9, 0) - 1), 3)) -> 0001
C10: A+0->Z | D10: =DEC2HEX(ROW(D10)-3, 2) -> 07 | E10: =_xlfn.CONCAT(BIN2HEX(V10), BIN2HEX(W10), " ", BIN2HEX(X10), BIN2HEX(Y10), " ", BIN2HEX(Z10), BIN2HEX(AA10)) -> 04 03 01 | J10: 无符号加 | P10: 存入Z和PSW | T10: μPC加一 | V10: =_xlfn.CONCAT(DEC2BIN(F10), DEC2BIN(G10), DEC2BIN(H10), DEC2BIN(I10)) -> 0000 | W10: =_xlfn.CONCAT(DEC2BIN(IF(ISBLANK(J10), 0, MATCH(J10, 运算选择!$E$2:$E$9, 0) - 1), 3), DEC2BIN(IF(ISBLANK(K10), 0, MATCH(K10, 单列下拉值!$A$2:$A$3, 0) - 1), 1)) -> 0100 | X10: =_xlfn.CONCAT(DEC2BIN(IF(ISBLANK(L10), 0, MATCH(L10, A寄存器选择!$D$2:$D$5, 0) - 1), 2), DEC2BIN(IF(ISBLANK(M10), 0, MATCH(M10, B寄存器选择!$D$2:$D$5, 0) - 1), 2)) -> 0000 | Y10: =_xlfn.CONCAT(DEC2BIN(IF(ISBLANK(N10), 0, MATCH(N10, 单列下拉值!$B$2:$B$3, 0) - 1)), DEC2BIN(IF(ISBLANK(O10), 0, MATCH(O10, 单列下拉值!$C$2:$C$3, 0) - 1)), DEC2BIN(IF(ISBLANK(P10), 0, MATCH(P10, ALU寄存器选择!$D$2:$D$5, 0) - 1), 2)) -> 0011 | Z10: =_xlfn.CONCAT(DEC2BIN(IF(ISBLANK(Q10),0,MATCH(Q10,单列下拉值!$D$2:$D$3,0)-1)), DEC2BIN(IF(ISBLANK(R10), 0, MATCH(R10, CP选择!$E$2:$E$9, 0) - 1), 3)) -> 0000 | AA10: =_xlfn.CONCAT(DEC2BIN(S10), DEC2BIN(IF(ISBLANK(T10), 0, MATCH(T10, 后继微地址形成!$E$2:$E$9, 0) - 1), 3)) -> 0001
C11: Z->IR | D11: =DEC2HEX(ROW(D11)-3, 2) -> 08 | E11: =_xlfn.CONCAT(BIN2HEX(V11), BIN2HEX(W11), " ", BIN2HEX(X11), BIN2HEX(Y11), " ", BIN2HEX(Z11), BIN2HEX(AA11)) -> 00 00 31 | R11: CPIR | T11: μPC加一 | V11: =_xlfn.CONCAT(DEC2BIN(F11), DEC2BIN(G11), DEC2BIN(H11), DEC2BIN(I11)) -> 0000 | W11: =_xlfn.CONCAT(DEC2BIN(IF(ISBLANK(J11), 0, MATCH(J11, 运算选择!$E$2:$E$9, 0) - 1), 3), DEC2BIN(IF(ISBLANK(K11), 0, MATCH(K11, 单列下拉值!$A$2:$A$3, 0) - 1), 1)) -> 0000 | X11: =_xlfn.CONCAT(DEC2BIN(IF(ISBLANK(L11), 0, MATCH(L11, A寄存器选择!$D$2:$D$5, 0) - 1), 2), DEC2BIN(IF(ISBLANK(M11), 0, MATCH(M11, B寄存器选择!$D$2:$D$5, 0) - 1), 2)) -> 0000 | Y11: =_xlfn.CONCAT(DEC2BIN(IF(ISBLANK(N11), 0, MATCH(N11, 单列下拉值!$B$2:$B$3, 0) - 1)), DEC2BIN(IF(ISBLANK(O11), 0, MATCH(O11, 单列下拉值!$C$2:$C$3, 0) - 1)), DEC2BIN(IF(ISBLANK(P11), 0, MATCH(P11, ALU寄存器选择!$D$2:$D$5, 0) - 1), 2)) -> 0000 | Z11: =_xlfn.CONCAT(DEC2BIN(IF(ISBLANK(Q11),0,MATCH(Q11,单列下拉值!$D$2:$D$3,0)-1)), DEC2BIN(IF(ISBLANK(R11), 0, MATCH(R11, CP选择!$E$2:$E$9, 0) - 1), 3)) -> 0011 | AA11: =_xlfn.CONCAT(DEC2BIN(S11), DEC2BIN(IF(ISBLANK(T11), 0, MATCH(T11, 后继微地址形成!$E$2:$E$9, 0) - 1), 3)) -> 0001
C12: END(QJP) | D12: =DEC2HEX(ROW(D12)-3, 2) -> 09 | E12: =_xlfn.CONCAT(BIN2HEX(V12), BIN2HEX(W12), " ", BIN2HEX(X12), BIN2HEX(Y12), " ", BIN2HEX(Z12), BIN2HEX(AA12)) -> 00 00 03 | T12: 无条件跳转至IR7-4 | V12: =_xlfn.CONCAT(DEC2BIN(F12), DEC2BIN(G12), DEC2BIN(H12), DEC2BIN(I12)) -> 0000 | W12: =_xlfn.CONCAT(DEC2BIN(IF(ISBLANK(J12), 0, MATCH(J12, 运算选择!$E$2:$E$9, 0) - 1), 3), DEC2BIN(IF(ISBLANK(K12), 0, MATCH(K12, 单列下拉值!$A$2:$A$3, 0) - 1), 1)) -> 0000 | X12: =_xlfn.CONCAT(DEC2BIN(IF(ISBLANK(L12), 0, MATCH(L12, A寄存器选择!$D$2:$D$5, 0) - 1), 2), DEC2BIN(IF(ISBLANK(M12), 0, MATCH(M12, B寄存器选择!$D$2:$D$5, 0) - 1), 2)) -> 0000 | Y12: =_xlfn.CONCAT(DEC2BIN(IF(ISBLANK(N12), 0, MATCH(N12, 单列下拉值!$B$2:$B$3, 0) - 1)), DEC2BIN(IF(ISBLANK(O12), 0, MATCH(O12, 单列下拉值!$C$2:$C$3, 0) - 1)), DEC2BIN(IF(ISBLANK(P12), 0, MATCH(P12, ALU寄存器选择!$D$2:$D$5, 0) - 1), 2)) -> 0000 | Z12: =_xlfn.CONCAT(DEC2BIN(IF(ISBLANK(Q12),0,MATCH(Q12,单列下拉值!$D$2:$D$3,0)-1)), DEC2BIN(IF(ISBLANK(R12), 0, MATCH(R12, CP选择!$E$2:$E$9, 0) - 1), 3)) -> 0000 | AA12: =_xlfn.CONCAT(DEC2BIN(S12), DEC2BIN(IF(ISBLANK(T12), 0, MATCH(T12, 后继微地址形成!$E$2:$E$9, 0) - 1), 3)) -> 0011
D13: =DEC2HEX(ROW(D13)-3, 2) -> 0A | E13: =_xlfn.CONCAT(BIN2HEX(V13), BIN2HEX(W13), " ", BIN2HEX(X13), BIN2HEX(Y13), " ", BIN2HEX(Z13), BIN2HEX(AA13)) -> 00 00 00 | V13: =_xlfn.CONCAT(DEC2BIN(F13), DEC2BIN(G13), DEC2BIN(H13), DEC2BIN(I13)) -> 0000 | W13: =_xlfn.CONCAT(DEC2BIN(IF(ISBLANK(J13), 0, MATCH(J13, 运算选择!$E$2:$E$9, 0) - 1), 3), DEC2BIN(IF(ISBLANK(K13), 0, MATCH(K13, 单列下拉值!$A$2:$A$3, 0) - 1), 1)) -> 0000 | X13: =_xlfn.CONCAT(DEC2BIN(IF(ISBLANK(L13), 0, MATCH(L13, A寄存器选择!$D$2:$D$5, 0) - 1), 2), DEC2BIN(IF(ISBLANK(M13), 0, MATCH(M13, B寄存器选择!$D$2:$D$5, 0) - 1), 2)) -> 0000 | Y13: =_xlfn.CONCAT(DEC2BIN(IF(ISBLANK(N13), 0, MATCH(N13, 单列下拉值!$B$2:$B$3, 0) - 1)), DEC2BIN(IF(ISBLANK(O13), 0, MATCH(O13, 单列下拉值!$C$2:$C$3, 0) - 1)), DEC2BIN(IF(ISBLANK(P13), 0, MATCH(P13, ALU寄存器选择!$D$2:$D$5, 0) - 1), 2)) -> 0000 | Z13: =_xlfn.CONCAT(DEC2BIN(IF(ISBLANK(Q13),0,MATCH(Q13,单列下拉值!$D$2:$D$3,0)-1)), DEC2BIN(IF(ISBLANK(R13), 0, MATCH(R13, CP选择!$E$2:$E$9, 0) - 1), 3)) -> 0000 | AA13: =_xlfn.CONCAT(DEC2BIN(S13), DEC2BIN(IF(ISBLANK(T13), 0, MATCH(T13, 后继微地址形成!$E$2:$E$9, 0) - 1), 3)) -> 0000
D14: =DEC2HEX(ROW(D14)-3, 2) -> 0B | E14: =_xlfn.CONCAT(BIN2HEX(V14), BIN2HEX(W14), " ", BIN2HEX(X14), BIN2HEX(Y14), " ", BIN2HEX(Z14), BIN2HEX(AA14)) -> 00 00 00 | V14: =_xlfn.CONCAT(DEC2BIN(F14), DEC2BIN(G14), DEC2BIN(H14), DEC2BIN(I14)) -> 0000 | W14: =_xlfn.CONCAT(DEC2BIN(IF(ISBLANK(J14), 0, MATCH(J14, 运算选择!$E$2:$E$9, 0) - 1), 3), DEC2BIN(IF(ISBLANK(K14), 0, MATCH(K14, 单列下拉值!$A$2:$A$3, 0) - 1), 1)) -> 0000 | X14: =_xlfn.CONCAT(DEC2BIN(IF(ISBLANK(L14), 0, MATCH(L14, A寄存器选择!$D$2:$D$5, 0) - 1), 2), DEC2BIN(IF(ISBLANK(M14), 0, MATCH(M14, B寄存器选择!$D$2:$D$5, 0) - 1), 2)) -> 0000 | Y14: =_xlfn.CONCAT(DEC2BIN(IF(ISBLANK(N14), 0, MATCH(N14, 单列下拉值!$B$2:$B$3, 0) - 1)), DEC2BIN(IF(ISBLANK(O14), 0, MATCH(O14, 单列下拉值!$C$2:$C$3, 0) - 1)), DEC2BIN(IF(ISBLANK(P14), 0, MATCH(P14, ALU寄存器选择!$D$2:$D$5, 0) - 1), 2)) -> 0000 | Z14: =_xlfn.CONCAT(DEC2BIN(IF(ISBLANK(Q14),0,MATCH(Q14,单列下拉值!$D$2:$D$3,0)-1)), DEC2BIN(IF(ISBLANK(R14), 0, MATCH(R14, CP选择!$E$2:$E$9, 0) - 1), 3)) -> 0000 | AA14: =_xlfn.CONCAT(DEC2BIN(S14), DEC2BIN(IF(ISBLANK(T14), 0, MATCH(T14, 后继微地址形成!$E$2:$E$9, 0) - 1), 3)) -> 0000
D15: =DEC2HEX(ROW(D15)-3, 2) -> 0C | E15: =_xlfn.CONCAT(BIN2HEX(V15), BIN2HEX(W15), " ", BIN2HEX(X15), BIN2HEX(Y15), " ", BIN2HEX(Z15), BIN2HEX(AA15)) -> 00 00 00 | V15: =_xlfn.CONCAT(DEC2BIN(F15), DEC2BIN(G15), DEC2BIN(H15), DEC2BIN(I15)) -> 0000 | W15: =_xlfn.CONCAT(DEC2BIN(IF(ISBLANK(J15), 0, MATCH(J15, 运算选择!$E$2:$E$9, 0) - 1), 3), DEC2BIN(IF(ISBLANK(K15), 0, MATCH(K15, 单列下拉值!$A$2:$A$3, 0) - 1), 1)) -> 0000 | X15: =_xlfn.CONCAT(DEC2BIN(IF(ISBLANK(L15), 0, MATCH(L15, A寄存器选择!$D$2:$D$5, 0) - 1), 2), DEC2BIN(IF(ISBLANK(M15), 0, MATCH(M15, B寄存器选择!$D$2:$D$5, 0) - 1), 2)) -> 0000 | Y15: =_xlfn.CONCAT(DEC2BIN(IF(ISBLANK(N15), 0, MATCH(N15, 单列下拉值!$B$2:$B$3, 0) - 1)), DEC2BIN(IF(ISBLANK(O15), 0, MATCH(O15, 单列下拉值!$C$2:$C$3, 0) - 1)), DEC2BIN(IF(ISBLANK(P15), 0, MATCH(P15, ALU寄存器选择!$D$2:$D$5, 0) - 1), 2)) -> 0000 | Z15: =_xlfn.CONCAT(DEC2BIN(IF(ISBLANK(Q15),0,MATCH(Q15,单列下拉值!$D$2:$D$3,0)-1)), DEC2BIN(IF(ISBLANK(R15), 0, MATCH(R15, CP选择!$E$2:$E$9, 0) - 1), 3)) -> 0000 | AA15: =_xlfn.CONCAT(DEC2BIN(S15), DEC2BIN(IF(ISBLANK(T15), 0, MATCH(T15, 后继微地址形成!$E$2:$E$9, 0) - 1), 3)) -> 0000
D16: =DEC2HEX(ROW(D16)-3, 2) -> 0D | E16: =_xlfn.CONCAT(BIN2HEX(V16), BIN2HEX(W16), " ", BIN2HEX(X16), BIN2HEX(Y16), " ", BIN2HEX(Z16), BIN2HEX(AA16)) -> 00 00 00 | V16: =_xlfn.CONCAT(DEC2BIN(F16), DEC2BIN(G16), DEC2BIN(H16), DEC2BIN(I16)) -> 0000 | W16: =_xlfn.CONCAT(DEC2BIN(IF(ISBLANK(J16), 0, MATCH(J16, 运算选择!$E$2:$E$9, 0) - 1), 3), DEC2BIN(IF(ISBLANK(K16), 0, MATCH(K16, 单列下拉值!$A$2:$A$3, 0) - 1), 1)) -> 0000 | X16: =_xlfn.CONCAT(DEC2BIN(IF(ISBLANK(L16), 0, MATCH(L16, A寄存器选择!$D$2:$D$5, 0) - 1), 2), DEC2BIN(IF(ISBLANK(M16), 0, MATCH(M16, B寄存器选择!$D$2:$D$5, 0) - 1), 2)) -> 0000 | Y16: =_xlfn.CONCAT(DEC2BIN(IF(ISBLANK(N16), 0, MATCH(N16, 单列下拉值!$B$2:$B$3, 0) - 1)), DEC2BIN(IF(ISBLANK(O16), 0, MATCH(O16, 单列下拉值!$C$2:$C$3, 0) - 1)), DEC2BIN(IF(ISBLANK(P16), 0, MATCH(P16, ALU寄存器选择!$D$2:$D$5, 0) - 1), 2)) -> 0000 | Z16: =_xlfn.CONCAT(DEC2BIN(IF(ISBLANK(Q16),0,MATCH(Q16,单列下拉值!$D$2:$D$3,0)-1)), DEC2BIN(IF(ISBLANK(R16), 0, MATCH(R16, CP选择!$E$2:$E$9, 0) - 1), 3)) -> 0000 | AA16: =_xlfn.CONCAT(DEC2BIN(S16), DEC2BIN(IF(ISBLANK(T16), 0, MATCH(T16, 后继微地址形成!$E$2:$E$9, 0) - 1), 3)) -> 0000
D17: =DEC2HEX(ROW(D17)-3, 2) -> 0E | E17: =_xlfn.CONCAT(BIN2HEX(V17), BIN2HEX(W17), " ", BIN2HEX(X17), BIN2HEX(Y17), " ", BIN2HEX(Z17), BIN2HEX(AA17)) -> 00 00 00 | V17: =_xlfn.CONCAT(DEC2BIN(F17), DEC2BIN(G17), DEC2BIN(H17), DEC2BIN(I17)) -> 0000 | W17: =_xlfn.CONCAT(DEC2BIN(IF(ISBLANK(J17), 0, MATCH(J17, 运算选择!$E$2:$E$9, 0) - 1), 3), DEC2BIN(IF(ISBLANK(K17), 0, MATCH(K17, 单列下拉值!$A$2:$A$3, 0) - 1), 1)) -> 0000 | X17: =_xlfn.CONCAT(DEC2BIN(IF(ISBLANK(L17), 0, MATCH(L17, A寄存器选择!$D$2:$D$5, 0) - 1), 2), DEC2BIN(IF(ISBLANK(M17), 0, MATCH(M17, B寄存器选择!$D$2:$D$5, 0) - 1), 2)) -> 0000 | Y17: =_xlfn.CONCAT(DEC2BIN(IF(ISBLANK(N17), 0, MATCH(N17, 单列下拉值!$B$2:$B$3, 0) - 1)), DEC2BIN(IF(ISBLANK(O17), 0, MATCH(O17, 单列下拉值!$C$2:$C$3, 0) - 1)), DEC2BIN(IF(ISBLANK(P17), 0, MATCH(P17, ALU寄存器选择!$D$2:$D$5, 0) - 1), 2)) -> 0000 | Z17: =_xlfn.CONCAT(DEC2BIN(IF(ISBLANK(Q17),0,MATCH(Q17,单列下拉值!$D$2:$D$3,0)-1)), DEC2BIN(IF(ISBLANK(R17), 0, MATCH(R17, CP选择!$E$2:$E$9, 0) - 1), 3)) -> 0000 | AA17: =_xlfn.CONCAT(DEC2BIN(S17), DEC2BIN(IF(ISBLANK(T17), 0, MATCH(T17, 后继微地址形成!$E$2:$E$9, 0) - 1), 3)) -> 0000
D18: =DEC2HEX(ROW(D18)-3, 2) -> 0F | E18: =_xlfn.CONCAT(BIN2HEX(V18), BIN2HEX(W18), " ", BIN2HEX(X18), BIN2HEX(Y18), " ", BIN2HEX(Z18), BIN2HEX(AA18)) -> 00 00 00 | V18: =_xlfn.CONCAT(DEC2BIN(F18), DEC2BIN(G18), DEC2BIN(H18), DEC2BIN(I18)) -> 0000 | W18: =_xlfn.CONCAT(DEC2BIN(IF(ISBLANK(J18), 0, MATCH(J18, 运算选择!$E$2:$E$9, 0) - 1), 3), DEC2BIN(IF(ISBLANK(K18), 0, MATCH(K18, 单列下拉值!$A$2:$A$3, 0) - 1), 1)) -> 0000 | X18: =_xlfn.CONCAT(DEC2BIN(IF(ISBLANK(L18), 0, MATCH(L18, A寄存器选择!$D$2:$D$5, 0) - 1), 2), DEC2BIN(IF(ISBLANK(M18), 0, MATCH(M18, B寄存器选择!$D$2:$D$5, 0) - 1), 2)) -> 0000 | Y18: =_xlfn.CONCAT(DEC2BIN(IF(ISBLANK(N18), 0, MATCH(N18, 单列下拉值!$B$2:$B$3, 0) - 1)), DEC2BIN(IF(ISBLANK(O18), 0, MATCH(O18, 单列下拉值!$C$2:$C$3, 0) - 1)), DEC2BIN(IF(ISBLANK(P18), 0, MATCH(P18, ALU寄存器选择!$D$2:$D$5, 0) - 1), 2)) -> 0000 | Z18: =_xlfn.CONCAT(DEC2BIN(IF(ISBLANK(Q18),0,MATCH(Q18,单列下拉值!$D$2:$D$3,0)-1)), DEC2BIN(IF(ISBLANK(R18), 0, MATCH(R18, CP选择!$E$2:$E$9, 0) - 1), 3)) -> 0000 | AA18: =_xlfn.CONCAT(DEC2BIN(S18), DEC2BIN(IF(ISBLANK(T18), 0, MATCH(T18, 后继微地址形成!$E$2:$E$9, 0) - 1), 3)) -> 0000
A19: STA Ri, AD | B19: PC->MAR, PC+1->PC | C19: PC->B | D19: =DEC2HEX(ROW(D19)-3, 2) -> 10 | E19: =_xlfn.CONCAT(BIN2HEX(V19), BIN2HEX(W19), " ", BIN2HEX(X19), BIN2HEX(Y19), " ", BIN2HEX(Z19), BIN2HEX(AA19)) -> 00 12 01 | M19: B选PC | P19: 存入B寄存器 | T19: μPC加一 | V19: =_xlfn.CONCAT(DEC2BIN(F19), DEC2BIN(G19), DEC2BIN(H19), DEC2BIN(I19)) -> 0000 | W19: =_xlfn.CONCAT(DEC2BIN(IF(ISBLANK(J19), 0, MATCH(J19, 运算选择!$E$2:$E$9, 0) - 1), 3), DEC2BIN(IF(ISBLANK(K19), 0, MATCH(K19, 单列下拉值!$A$2:$A$3, 0) - 1), 1)) -> 0000 | X19: =_xlfn.CONCAT(DEC2BIN(IF(ISBLANK(L19), 0, MATCH(L19, A寄存器选择!$D$2:$D$5, 0) - 1), 2), DEC2BIN(IF(ISBLANK(M19), 0, MATCH(M19, B寄存器选择!$D$2:$D$5, 0) - 1), 2)) -> 0001 | Y19: =_xlfn.CONCAT(DEC2BIN(IF(ISBLANK(N19), 0, MATCH(N19, 单列下拉值!$B$2:$B$3, 0) - 1)), DEC2BIN(IF(ISBLANK(O19), 0, MATCH(O19, 单列下拉值!$C$2:$C$3, 0) - 1)), DEC2BIN(IF(ISBLANK(P19), 0, MATCH(P19, ALU寄存器选择!$D$2:$D$5, 0) - 1), 2)) -> 0010 | Z19: =_xlfn.CONCAT(DEC2BIN(IF(ISBLANK(Q19),0,MATCH(Q19,单列下拉值!$D$2:$D$3,0)-1)), DEC2BIN(IF(ISBLANK(R19), 0, MATCH(R19, CP选择!$E$2:$E$9, 0) - 1), 3)) -> 0000 | AA19: =_xlfn.CONCAT(DEC2BIN(S19), DEC2BIN(IF(ISBLANK(T19), 0, MATCH(T19, 后继微地址形成!$E$2:$E$9, 0) - 1), 3)) -> 0001
C20: 0->A, PC+1->PC | D20: =DEC2HEX(ROW(D20)-3, 2) -> 11 | E20: =_xlfn.CONCAT(BIN2HEX(V20), BIN2HEX(W20), " ", BIN2HEX(X20), BIN2HEX(Y20), " ", BIN2HEX(Z20), BIN2HEX(AA20)) -> 00 01 A1 | L20: A置0 | P20: 存入A寄存器 | Q20: 加一 | R20: CPPC | T20: μPC加一 | V20: =_xlfn.CONCAT(DEC2BIN(F20), DEC2BIN(G20), DEC2BIN(H20), DEC2BIN(I20)) -> 0000 | W20: =_xlfn.CONCAT(DEC2BIN(IF(ISBLANK(J20), 0, MATCH(J20, 运算选择!$E$2:$E$9, 0) - 1), 3), DEC2BIN(IF(ISBLANK(K20), 0, MATCH(K20, 单列下拉值!$A$2:$A$3, 0) - 1), 1)) -> 0000 | X20: =_xlfn.CONCAT(DEC2BIN(IF(ISBLANK(L20), 0, MATCH(L20, A寄存器选择!$D$2:$D$5, 0) - 1), 2), DEC2BIN(IF(ISBLANK(M20), 0, MATCH(M20, B寄存器选择!$D$2:$D$5, 0) - 1), 2)) -> 0000 | Y20: =_xlfn.CONCAT(DEC2BIN(IF(ISBLANK(N20), 0, MATCH(N20, 单列下拉值!$B$2:$B$3, 0) - 1)), DEC2BIN(IF(ISBLANK(O20), 0, MATCH(O20, 单列下拉值!$C$2:$C$3, 0) - 1)), DEC2BIN(IF(ISBLANK(P20), 0, MATCH(P20, ALU寄存器选择!$D$2:$D$5, 0) - 1), 2)) -> 0001 | Z20: =_xlfn.CONCAT(DEC2BIN(IF(ISBLANK(Q20),0,MATCH(Q20,单列下拉值!$D$2:$D$3,0)-1)), DEC2BIN(IF(ISBLANK(R20), 0, MATCH(R20, CP选择!$E$2:$E$9, 0) - 1), 3)) -> 1010 | AA20: =_xlfn.CONCAT(DEC2BIN(S20), DEC2BIN(IF(ISBLANK(T20), 0, MATCH(T20, 后继微地址形成!$E$2:$E$9, 0) - 1), 3)) -> 0001
C21: 0+B->Z | D21: =DEC2HEX(ROW(D21)-3, 2) -> 12 | E21: =_xlfn.CONCAT(BIN2HEX(V21), BIN2HEX(W21), " ", BIN2HEX(X21), BIN2HEX(Y21), " ", BIN2HEX(Z21), BIN2HEX(AA21)) -> 04 03 01 | J21: 无符号加 | P21: 存入Z和PSW | T21: μPC加一 | V21: =_xlfn.CONCAT(DEC2BIN(F21), DEC2BIN(G21), DEC2BIN(H21), DEC2BIN(I21)) -> 0000 | W21: =_xlfn.CONCAT(DEC2BIN(IF(ISBLANK(J21), 0, MATCH(J21, 运算选择!$E$2:$E$9, 0) - 1), 3), DEC2BIN(IF(ISBLANK(K21), 0, MATCH(K21, 单列下拉值!$A$2:$A$3, 0) - 1), 1)) -> 0100 | X21: =_xlfn.CONCAT(DEC2BIN(IF(ISBLANK(L21), 0, MATCH(L21, A寄存器选择!$D$2:$D$5, 0) - 1), 2), DEC2BIN(IF(ISBLANK(M21), 0, MATCH(M21, B寄存器选择!$D$2:$D$5, 0) - 1), 2)) -> 0000 | Y21: =_xlfn.CONCAT(DEC2BIN(IF(ISBLANK(N21), 0, MATCH(N21, 单列下拉值!$B$2:$B$3, 0) - 1)), DEC2BIN(IF(ISBLANK(O21), 0, MATCH(O21, 单列下拉值!$C$2:$C$3, 0) - 1)), DEC2BIN(IF(ISBLANK(P21), 0, MATCH(P21, ALU寄存器选择!$D$2:$D$5, 0) - 1), 2)) -> 0011 | Z21: =_xlfn.CONCAT(DEC2BIN(IF(ISBLANK(Q21),0,MATCH(Q21,单列下拉值!$D$2:$D$3,0)-1)), DEC2BIN(IF(ISBLANK(R21), 0, MATCH(R21, CP选择!$E$2:$E$9, 0) - 1), 3)) -> 0000 | AA21: =_xlfn.CONCAT(DEC2BIN(S21), DEC2BIN(IF(ISBLANK(T21), 0, MATCH(T21, 后继微地址形成!$E$2:$E$9, 0) - 1), 3)) -> 0001
C22: Z->MAR | D22: =DEC2HEX(ROW(D22)-3, 2) -> 13 | E22: =_xlfn.CONCAT(BIN2HEX(V22), BIN2HEX(W22), " ", BIN2HEX(X22), BIN2HEX(Y22), " ", BIN2HEX(Z22), BIN2HEX(AA22)) -> 00 00 41 | R22: CPMAR | T22: μPC加一 | V22: =_xlfn.CONCAT(DEC2BIN(F22), DEC2BIN(G22), DEC2BIN(H22), DEC2BIN(I22)) -> 0000 | W22: =_xlfn.CONCAT(DEC2BIN(IF(ISBLANK(J22), 0, MATCH(J22, 运算选择!$E$2:$E$9, 0) - 1), 3), DEC2BIN(IF(ISBLANK(K22), 0, MATCH(K22, 单列下拉值!$A$2:$A$3, 0) - 1), 1)) -> 0000 | X22: =_xlfn.CONCAT(DEC2BIN(IF(ISBLANK(L22), 0, MATCH(L22, A寄存器选择!$D$2:$D$5, 0) - 1), 2), DEC2BIN(IF(ISBLANK(M22), 0, MATCH(M22, B寄存器选择!$D$2:$D$5, 0) - 1), 2)) -> 0000 | Y22: =_xlfn.CONCAT(DEC2BIN(IF(ISBLANK(N22), 0, MATCH(N22, 单列下拉值!$B$2:$B$3, 0) - 1)), DEC2BIN(IF(ISBLANK(O22), 0, MATCH(O22, 单列下拉值!$C$2:$C$3, 0) - 1)), DEC2BIN(IF(ISBLANK(P22), 0, MATCH(P22, ALU寄存器选择!$D$2:$D$5, 0) - 1), 2)) -> 0000 | Z22: =_xlfn.CONCAT(DEC2BIN(IF(ISBLANK(Q22),0,MATCH(Q22,单列下拉值!$D$2:$D$3,0)-1)), DEC2BIN(IF(ISBLANK(R22), 0, MATCH(R22, CP选择!$E$2:$E$9, 0) - 1), 3)) -> 0100 | AA22: =_xlfn.CONCAT(DEC2BIN(S22), DEC2BIN(IF(ISBLANK(T22), 0, MATCH(T22, 后继微地址形成!$E$2:$E$9, 0) - 1), 3)) -> 0001
C23: 1->R, M(MAR)->MDR | D23: =DEC2HEX(ROW(D23)-3, 2) -> 14 | E23: =_xlfn.CONCAT(BIN2HEX(V23), BIN2HEX(W23), " ", BIN2HEX(X23), BIN2HEX(Y23), " ", BIN2HEX(Z23), BIN2HEX(AA23)) -> 00 00 51 | K23: 内存→MDR | R23: CPMDR | T23: μPC加一 | V23: =_xlfn.CONCAT(DEC2BIN(F23), DEC2BIN(G23), DEC2BIN(H23), DEC2BIN(I23)) -> 0000 | W23: =_xlfn.CONCAT(DEC2BIN(IF(ISBLANK(J23), 0, MATCH(J23, 运算选择!$E$2:$E$9, 0) - 1), 3), DEC2BIN(IF(ISBLANK(K23), 0, MATCH(K23, 单列下拉值!$A$2:$A$3, 0) - 1), 1)) -> 0000 | X23: =_xlfn.CONCAT(DEC2BIN(IF(ISBLANK(L23), 0, MATCH(L23, A寄存器选择!$D$2:$D$5, 0) - 1), 2), DEC2BIN(IF(ISBLANK(M23), 0, MATCH(M23, B寄存器选择!$D$2:$D$5, 0) - 1), 2)) -> 0000 | Y23: =_xlfn.CONCAT(DEC2BIN(IF(ISBLANK(N23), 0, MATCH(N23, 单列下拉值!$B$2:$B$3, 0) - 1)), DEC2BIN(IF(ISBLANK(O23), 0, MATCH(O23, 单列下拉值!$C$2:$C$3, 0) - 1)), DEC2BIN(IF(ISBLANK(P23), 0, MATCH(P23, ALU寄存器选择!$D$2:$D$5, 0) - 1), 2)) -> 0000 | Z23: =_xlfn.CONCAT(DEC2BIN(IF(ISBLANK(Q23),0,MATCH(Q23,单列下拉值!$D$2:$D$3,0)-1)), DEC2BIN(IF(ISBLANK(R23), 0, MATCH(R23, CP选择!$E$2:$E$9, 0) - 1), 3)) -> 0101 | AA23: =_xlfn.CONCAT(DEC2BIN(S23), DEC2BIN(IF(ISBLANK(T23), 0, MATCH(T23, 后继微地址形成!$E$2:$E$9, 0) - 1), 3)) -> 0001
B24: MDR->MAR | C24: MDR->A | D24: =DEC2HEX(ROW(D24)-3, 2) -> 15 | E24: =_xlfn.CONCAT(BIN2HEX(V24), BIN2HEX(W24), " ", BIN2HEX(X24), BIN2HEX(Y24), " ", BIN2HEX(Z24), BIN2HEX(AA24)) -> 00 41 01 | L24: A选MDR | P24: 存入A寄存器 | T24: μPC加一 | V24: =_xlfn.CONCAT(DEC2BIN(F24), DEC2BIN(G24), DEC2BIN(H24), DEC2BIN(I24)) -> 0000 | W24: =_xlfn.CONCAT(DEC2BIN(IF(ISBLANK(J24), 0, MATCH(J24, 运算选择!$E$2:$E$9, 0) - 1), 3), DEC2BIN(IF(ISBLANK(K24), 0, MATCH(K24, 单列下拉值!$A$2:$A$3, 0) - 1), 1)) -> 0000 | X24: =_xlfn.CONCAT(DEC2BIN(IF(ISBLANK(L24), 0, MATCH(L24, A寄存器选择!$D$2:$D$5, 0) - 1), 2), DEC2BIN(IF(ISBLANK(M24), 0, MATCH(M24, B寄存器选择!$D$2:$D$5, 0) - 1), 2)) -> 0100 | Y24: =_xlfn.CONCAT(DEC2BIN(IF(ISBLANK(N24), 0, MATCH(N24, 单列下拉值!$B$2:$B$3, 0) - 1)), DEC2BIN(IF(ISBLANK(O24), 0, MATCH(O24, 单列下拉值!$C$2:$C$3, 0) - 1)), DEC2BIN(IF(ISBLANK(P24), 0, MATCH(P24, ALU寄存器选择!$D$2:$D$5, 0) - 1), 2)) -> 0001 | Z24: =_xlfn.CONCAT(DEC2BIN(IF(ISBLANK(Q24),0,MATCH(Q24,单列下拉值!$D$2:$D$3,0)-1)), DEC2BIN(IF(ISBLANK(R24), 0, MATCH(R24, CP选择!$E$2:$E$9, 0) - 1), 3)) -> 0000 | AA24: =_xlfn.CONCAT(DEC2BIN(S24), DEC2BIN(IF(ISBLANK(T24), 0, MATCH(T24, 后继微地址形成!$E$2:$E$9, 0) - 1), 3)) -> 0001
C25: 0->B | D25: =DEC2HEX(ROW(D25)-3, 2) -> 16 | E25: =_xlfn.CONCAT(BIN2HEX(V25), BIN2HEX(W25), " ", BIN2HEX(X25), BIN2HEX(Y25), " ", BIN2HEX(Z25), BIN2HEX(AA25)) -> 00 02 01 | M25: B置0 | P25: 存入B寄存器 | T25: μPC加一 | V25: =_xlfn.CONCAT(DEC2BIN(F25), DEC2BIN(G25), DEC2BIN(H25), DEC2BIN(I25)) -> 0000 | W25: =_xlfn.CONCAT(DEC2BIN(IF(ISBLANK(J25), 0, MATCH(J25, 运算选择!$E$2:$E$9, 0) - 1), 3), DEC2BIN(IF(ISBLANK(K25), 0, MATCH(K25, 单列下拉值!$A$2:$A$3, 0) - 1), 1)) -> 0000 | X25: =_xlfn.CONCAT(DEC2BIN(IF(ISBLANK(L25), 0, MATCH(L25, A寄存器选择!$D$2:$D$5, 0) - 1), 2), DEC2BIN(IF(ISBLANK(M25), 0, MATCH(M25, B寄存器选择!$D$2:$D$5, 0) - 1), 2)) -> 0000 | Y25: =_xlfn.CONCAT(DEC2BIN(IF(ISBLANK(N25), 0, MATCH(N25, 单列下拉值!$B$2:$B$3, 0) - 1)), DEC2BIN(IF(ISBLANK(O25), 0, MATCH(O25, 单列下拉值!$C$2:$C$3, 0) - 1)), DEC2BIN(IF(ISBLANK(P25), 0, MATCH(P25, ALU寄存器选择!$D$2:$D$5, 0) - 1), 2)) -> 0010 | Z25: =_xlfn.CONCAT(DEC2BIN(IF(ISBLANK(Q25),0,MATCH(Q25,单列下拉值!$D$2:$D$3,0)-1)), DEC2BIN(IF(ISBLANK(R25), 0, MATCH(R25, CP选择!$E$2:$E$9, 0) - 1), 3)) -> 0000 | AA25: =_xlfn.CONCAT(DEC2BIN(S25), DEC2BIN(IF(ISBLANK(T25), 0, MATCH(T25, 后继微地址形成!$E$2:$E$9, 0) - 1), 3)) -> 0001
C26: A+0->Z | D26: =DEC2HEX(ROW(D26)-3, 2) -> 17 | E26: =_xlfn.CONCAT(BIN2HEX(V26), BIN2HEX(W26), " ", BIN2HEX(X26), BIN2HEX(Y26), " ", BIN2HEX(Z26), BIN2HEX(AA26)) -> 04 03 01 | J26: 无符号加 | P26: 存入Z和PSW | T26: μPC加一 | V26: =_xlfn.CONCAT(DEC2BIN(F26), DEC2BIN(G26), DEC2BIN(H26), DEC2BIN(I26)) -> 0000 | W26: =_xlfn.CONCAT(DEC2BIN(IF(ISBLANK(J26), 0, MATCH(J26, 运算选择!$E$2:$E$9, 0) - 1), 3), DEC2BIN(IF(ISBLANK(K26), 0, MATCH(K26, 单列下拉值!$A$2:$A$3, 0) - 1), 1)) -> 0100 | X26: =_xlfn.CONCAT(DEC2BIN(IF(ISBLANK(L26), 0, MATCH(L26, A寄存器选择!$D$2:$D$5, 0) - 1), 2), DEC2BIN(IF(ISBLANK(M26), 0, MATCH(M26, B寄存器选择!$D$2:$D$5, 0) - 1), 2)) -> 0000 | Y26: =_xlfn.CONCAT(DEC2BIN(IF(ISBLANK(N26), 0, MATCH(N26, 单列下拉值!$B$2:$B$3, 0) - 1)), DEC2BIN(IF(ISBLANK(O26), 0, MATCH(O26, 单列下拉值!$C$2:$C$3, 0) - 1)), DEC2BIN(IF(ISBLANK(P26), 0, MATCH(P26, ALU寄存器选择!$D$2:$D$5, 0) - 1), 2)) -> 0011 | Z26: =_xlfn.CONCAT(DEC2BIN(IF(ISBLANK(Q26),0,MATCH(Q26,单列下拉值!$D$2:$D$3,0)-1)), DEC2BIN(IF(ISBLANK(R26), 0, MATCH(R26, CP选择!$E$2:$E$9, 0) - 1), 3)) -> 0000 | AA26: =_xlfn.CONCAT(DEC2BIN(S26), DEC2BIN(IF(ISBLANK(T26), 0, MATCH(T26, 后继微地址形成!$E$2:$E$9, 0) - 1), 3)) -> 0001
C27: Z->MAR | D27: =DEC2HEX(ROW(D27)-3, 2) -> 18 | E27: =_xlfn.CONCAT(BIN2HEX(V27), BIN2HEX(W27), " ", BIN2HEX(X27), BIN2HEX(Y27), " ", BIN2HEX(Z27), BIN2HEX(AA27)) -> 00 00 41 | R27: CPMAR | T27: μPC加一 | V27: =_xlfn.CONCAT(DEC2BIN(F27), DEC2BIN(G27), DEC2BIN(H27), DEC2BIN(I27)) -> 0000 | W27: =_xlfn.CONCAT(DEC2BIN(IF(ISBLANK(J27), 0, MATCH(J27, 运算选择!$E$2:$E$9, 0) - 1), 3), DEC2BIN(IF(ISBLANK(K27), 0, MATCH(K27, 单列下拉值!$A$2:$A$3, 0) - 1), 1)) -> 0000 | X27: =_xlfn.CONCAT(DEC2BIN(IF(ISBLANK(L27), 0, MATCH(L27, A寄存器选择!$D$2:$D$5, 0) - 1), 2), DEC2BIN(IF(ISBLANK(M27), 0, MATCH(M27, B寄存器选择!$D$2:$D$5, 0) - 1), 2)) -> 0000 | Y27: =_xlfn.CONCAT(DEC2BIN(IF(ISBLANK(N27), 0, MATCH(N27, 单列下拉值!$B$2:$B$3, 0) - 1)), DEC2BIN(IF(ISBLANK(O27), 0, MATCH(O27, 单列下拉值!$C$2:$C$3, 0) - 1)), DEC2BIN(IF(ISBLANK(P27), 0, MATCH(P27, ALU寄存器选择!$D$2:$D$5, 0) - 1), 2)) -> 0000 | Z27: =_xlfn.CONCAT(DEC2BIN(IF(ISBLANK(Q27),0,MATCH(Q27,单列下拉值!$D$2:$D$3,0)-1)), DEC2BIN(IF(ISBLANK(R27), 0, MATCH(R27, CP选择!$E$2:$E$9, 0) - 1), 3)) -> 0100 | AA27: =_xlfn.CONCAT(DEC2BIN(S27), DEC2BIN(IF(ISBLANK(T27), 0, MATCH(T27, 后继微地址形成!$E$2:$E$9, 0) - 1), 3)) -> 0001
B28: Rx->MDR | C28: Rx->B | D28: =DEC2HEX(ROW(D28)-3, 2) -> 19 | E28: =_xlfn.CONCAT(BIN2HEX(V28), BIN2HEX(W28), " ", BIN2HEX(X28), BIN2HEX(Y28), " ", BIN2HEX(Z28), BIN2HEX(AA28)) -> 00 22 01 | M28: B选通用寄存器 | P28: 存入B寄存器 | T28: μPC加一 | V28: =_xlfn.CONCAT(DEC2BIN(F28), DEC2BIN(G28), DEC2BIN(H28), DEC2BIN(I28)) -> 0000 | W28: =_xlfn.CONCAT(DEC2BIN(IF(ISBLANK(J28), 0, MATCH(J28, 运算选择!$E$2:$E$9, 0) - 1), 3), DEC2BIN(IF(ISBLANK(K28), 0, MATCH(K28, 单列下拉值!$A$2:$A$3, 0) - 1), 1)) -> 0000 | X28: =_xlfn.CONCAT(DEC2BIN(IF(ISBLANK(L28), 0, MATCH(L28, A寄存器选择!$D$2:$D$5, 0) - 1), 2), DEC2BIN(IF(ISBLANK(M28), 0, MATCH(M28, B寄存器选择!$D$2:$D$5, 0) - 1), 2)) -> 0010 | Y28: =_xlfn.CONCAT(DEC2BIN(IF(ISBLANK(N28), 0, MATCH(N28, 单列下拉值!$B$2:$B$3, 0) - 1)), DEC2BIN(IF(ISBLANK(O28), 0, MATCH(O28, 单列下拉值!$C$2:$C$3, 0) - 1)), DEC2BIN(IF(ISBLANK(P28), 0, MATCH(P28, ALU寄存器选择!$D$2:$D$5, 0) - 1), 2)) -> 0010 | Z28: =_xlfn.CONCAT(DEC2BIN(IF(ISBLANK(Q28),0,MATCH(Q28,单列下拉值!$D$2:$D$3,0)-1)), DEC2BIN(IF(ISBLANK(R28), 0, MATCH(R28, CP选择!$E$2:$E$9, 0) - 1), 3)) -> 0000 | AA28: =_xlfn.CONCAT(DEC2BIN(S28), DEC2BIN(IF(ISBLANK(T28), 0, MATCH(T28, 后继微地址形成!$E$2:$E$9, 0) - 1), 3)) -> 0001
C29: 0->A | D29: =DEC2HEX(ROW(D29)-3, 2) -> 1A | E29: =_xlfn.CONCAT(BIN2HEX(V29), BIN2HEX(W29), " ", BIN2HEX(X29), BIN2HEX(Y29), " ", BIN2HEX(Z29), BIN2HEX(AA29)) -> 00 01 01 | L29: A置0 | P29: 存入A寄存器 | T29: μPC加一 | V29: =_xlfn.CONCAT(DEC2BIN(F29), DEC2BIN(G29), DEC2BIN(H29), DEC2BIN(I29)) -> 0000 | W29: =_xlfn.CONCAT(DEC2BIN(IF(ISBLANK(J29), 0, MATCH(J29, 运算选择!$E$2:$E$9, 0) - 1), 3), DEC2BIN(IF(ISBLANK(K29), 0, MATCH(K29, 单列下拉值!$A$2:$A$3, 0) - 1), 1)) -> 0000 | X29: =_xlfn.CONCAT(DEC2BIN(IF(ISBLANK(L29), 0, MATCH(L29, A寄存器选择!$D$2:$D$5, 0) - 1), 2), DEC2BIN(IF(ISBLANK(M29), 0, MATCH(M29, B寄存器选择!$D$2:$D$5, 0) - 1), 2)) -> 0000 | Y29: =_xlfn.CONCAT(DEC2BIN(IF(ISBLANK(N29), 0, MATCH(N29, 单列下拉值!$B$2:$B$3, 0) - 1)), DEC2BIN(IF(ISBLANK(O29), 0, MATCH(O29, 单列下拉值!$C$2:$C$3, 0) - 1)), DEC2BIN(IF(ISBLANK(P29), 0, MATCH(P29, ALU寄存器选择!$D$2:$D$5, 0) - 1), 2)) -> 0001 | Z29: =_xlfn.CONCAT(DEC2BIN(IF(ISBLANK(Q29),0,MATCH(Q29,单列下拉值!$D$2:$D$3,0)-1)), DEC2BIN(IF(ISBLANK(R29), 0, MATCH(R29, CP选择!$E$2:$E$9, 0) - 1), 3)) -> 0000 | AA29: =_xlfn.CONCAT(DEC2BIN(S29), DEC2BIN(IF(ISBLANK(T29), 0, MATCH(T29, 后继微地址形成!$E$2:$E$9, 0) - 1), 3)) -> 0001
C30: B+0->Z | D30: =DEC2HEX(ROW(D30)-3, 2) -> 1B | E30: =_xlfn.CONCAT(BIN2HEX(V30), BIN2HEX(W30), " ", BIN2HEX(X30), BIN2HEX(Y30), " ", BIN2HEX(Z30), BIN2HEX(AA30)) -> 04 03 01 | J30: 无符号加 | P30: 存入Z和PSW | T30: μPC加一 | V30: =_xlfn.CONCAT(DEC2BIN(F30), DEC2BIN(G30), DEC2BIN(H30), DEC2BIN(I30)) -> 0000 | W30: =_xlfn.CONCAT(DEC2BIN(IF(ISBLANK(J30), 0, MATCH(J30, 运算选择!$E$2:$E$9, 0) - 1), 3), DEC2BIN(IF(ISBLANK(K30), 0, MATCH(K30, 单列下拉值!$A$2:$A$3, 0) - 1), 1)) -> 0100 | X30: =_xlfn.CONCAT(DEC2BIN(IF(ISBLANK(L30), 0, MATCH(L30, A寄存器选择!$D$2:$D$5, 0) - 1), 2), DEC2BIN(IF(ISBLANK(M30), 0, MATCH(M30, B寄存器选择!$D$2:$D$5, 0) - 1), 2)) -> 0000 | Y30: =_xlfn.CONCAT(DEC2BIN(IF(ISBLANK(N30), 0, MATCH(N30, 单列下拉值!$B$2:$B$3, 0) - 1)), DEC2BIN(IF(ISBLANK(O30), 0, MATCH(O30, 单列下拉值!$C$2:$C$3, 0) - 1)), DEC2BIN(IF(ISBLANK(P30), 0, MATCH(P30, ALU寄存器选择!$D$2:$D$5, 0) - 1), 2)) -> 0011 | Z30: =_xlfn.CONCAT(DEC2BIN(IF(ISBLANK(Q30),0,MATCH(Q30,单列下拉值!$D$2:$D$3,0)-1)), DEC2BIN(IF(ISBLANK(R30), 0, MATCH(R30, CP选择!$E$2:$E$9, 0) - 1), 3)) -> 0000 | AA30: =_xlfn.CONCAT(DEC2BIN(S30), DEC2BIN(IF(ISBLANK(T30), 0, MATCH(T30, 后继微地址形成!$E$2:$E$9, 0) - 1), 3)) -> 0001
C31: Z->MDR | D31: =DEC2HEX(ROW(D31)-3, 2) -> 1C | E31: =_xlfn.CONCAT(BIN2HEX(V31), BIN2HEX(W31), " ", BIN2HEX(X31), BIN2HEX(Y31), " ", BIN2HEX(Z31), BIN2HEX(AA31)) -> 01 00 51 | K31: 总线(Z)→MDR&MDR→内存 | R31: CPMDR | T31: μPC加一 | V31: =_xlfn.CONCAT(DEC2BIN(F31), DEC2BIN(G31), DEC2BIN(H31), DEC2BIN(I31)) -> 0000 | W31: =_xlfn.CONCAT(DEC2BIN(IF(ISBLANK(J31), 0, MATCH(J31, 运算选择!$E$2:$E$9, 0) - 1), 3), DEC2BIN(IF(ISBLANK(K31), 0, MATCH(K31, 单列下拉值!$A$2:$A$3, 0) - 1), 1)) -> 0001 | X31: =_xlfn.CONCAT(DEC2BIN(IF(ISBLANK(L31), 0, MATCH(L31, A寄存器选择!$D$2:$D$5, 0) - 1), 2), DEC2BIN(IF(ISBLANK(M31), 0, MATCH(M31, B寄存器选择!$D$2:$D$5, 0) - 1), 2)) -> 0000 | Y31: =_xlfn.CONCAT(DEC2BIN(IF(ISBLANK(N31), 0, MATCH(N31, 单列下拉值!$B$2:$B$3, 0) - 1)), DEC2BIN(IF(ISBLANK(O31), 0, MATCH(O31, 单列下拉值!$C$2:$C$3, 0) - 1)), DEC2BIN(IF(ISBLANK(P31), 0, MATCH(P31, ALU寄存器选择!$D$2:$D$5, 0) - 1), 2)) -> 0000 | Z31: =_xlfn.CONCAT(DEC2BIN(IF(ISBLANK(Q31),0,MATCH(Q31,单列下拉值!$D$2:$D$3,0)-1)), DEC2BIN(IF(ISBLANK(R31), 0, MATCH(R31, CP选择!$E$2:$E$9, 0) - 1), 3)) -> 0101 | AA31: =_xlfn.CONCAT(DEC2BIN(S31), DEC2BIN(IF(ISBLANK(T31), 0, MATCH(T31, 后继微地址形成!$E$2:$E$9, 0) - 1), 3)) -> 0001
C32: 1->W, MDR->M(MAR) | D32: =DEC2HEX(ROW(D32)-3, 2) -> 1D | E32: =_xlfn.CONCAT(BIN2HEX(V32), BIN2HEX(W32), " ", BIN2HEX(X32), BIN2HEX(Y32), " ", BIN2HEX(Z32), BIN2HEX(AA32)) -> 01 08 01 | K32: 总线(Z)→MDR&MDR→内存 | N32: 写 | T32: μPC加一 | V32: =_xlfn.CONCAT(DEC2BIN(F32), DEC2BIN(G32), DEC2BIN(H32), DEC2BIN(I32)) -> 0000 | W32: =_xlfn.CONCAT(DEC2BIN(IF(ISBLANK(J32), 0, MATCH(J32, 运算选择!$E$2:$E$9, 0) - 1), 3), DEC2BIN(IF(ISBLANK(K32), 0, MATCH(K32, 单列下拉值!$A$2:$A$3, 0) - 1), 1)) -> 0001 | X32: =_xlfn.CONCAT(DEC2BIN(IF(ISBLANK(L32), 0, MATCH(L32, A寄存器选择!$D$2:$D$5, 0) - 1), 2), DEC2BIN(IF(ISBLANK(M32), 0, MATCH(M32, B寄存器选择!$D$2:$D$5, 0) - 1), 2)) -> 0000 | Y32: =_xlfn.CONCAT(DEC2BIN(IF(ISBLANK(N32), 0, MATCH(N32, 单列下拉值!$B$2:$B$3, 0) - 1)), DEC2BIN(IF(ISBLANK(O32), 0, MATCH(O32, 单列下拉值!$C$2:$C$3, 0) - 1)), DEC2BIN(IF(ISBLANK(P32), 0, MATCH(P32, ALU寄存器选择!$D$2:$D$5, 0) - 1), 2)) -> 1000 | Z32: =_xlfn.CONCAT(DEC2BIN(IF(ISBLANK(Q32),0,MATCH(Q32,单列下拉值!$D$2:$D$3,0)-1)), DEC2BIN(IF(ISBLANK(R32), 0, MATCH(R32, CP选择!$E$2:$E$9, 0) - 1), 3)) -> 0000 | AA32: =_xlfn.CONCAT(DEC2BIN(S32), DEC2BIN(IF(ISBLANK(T32), 0, MATCH(T32, 后继微地址形成!$E$2:$E$9, 0) - 1), 3)) -> 0001
C33: END(JP) | D33: =DEC2HEX(ROW(D33)-3, 2) -> 1E | E33: =_xlfn.CONCAT(BIN2HEX(V33), BIN2HEX(W33), " ", BIN2HEX(X33), BIN2HEX(Y33), " ", BIN2HEX(Z33), BIN2HEX(AA33)) -> 00 00 02 | T33: 无条件跳转至00H | V33: =_xlfn.CONCAT(DEC2BIN(F33), DEC2BIN(G33), DEC2BIN(H33), DEC2BIN(I33)) -> 0000 | W33: =_xlfn.CONCAT(DEC2BIN(IF(ISBLANK(J33), 0, MATCH(J33, 运算选择!$E$2:$E$9, 0) - 1), 3), DEC2BIN(IF(ISBLANK(K33), 0, MATCH(K33, 单列下拉值!$A$2:$A$3, 0) - 1), 1)) -> 0000 | X33: =_xlfn.CONCAT(DEC2BIN(IF(ISBLANK(L33), 0, MATCH(L33, A寄存器选择!$D$2:$D$5, 0) - 1), 2), DEC2BIN(IF(ISBLANK(M33), 0, MATCH(M33, B寄存器选择!$D$2:$D$5, 0) - 1), 2)) -> 0000 | Y33: =_xlfn.CONCAT(DEC2BIN(IF(ISBLANK(N33), 0, MATCH(N33, 单列下拉值!$B$2:$B$3, 0) - 1)), DEC2BIN(IF(ISBLANK(O33), 0, MATCH(O33, 单列下拉值!$C$2:$C$3, 0) - 1)), DEC2BIN(IF(ISBLANK(P33), 0, MATCH(P33, ALU寄存器选择!$D$2:$D$5, 0) - 1), 2)) -> 0000 | Z33: =_xlfn.CONCAT(DEC2BIN(IF(ISBLANK(Q33),0,MATCH(Q33,单列下拉值!$D$2:$D$3,0)-1)), DEC2BIN(IF(ISBLANK(R33), 0, MATCH(R33, CP选择!$E$2:$E$9, 0) - 1), 3)) -> 0000 | AA33: =_xlfn.CONCAT(DEC2BIN(S33), DEC2BIN(IF(ISBLANK(T33), 0, MATCH(T33, 后继微地址形成!$E$2:$E$9, 0) - 1), 3)) -> 0010
D34: =DEC2HEX(ROW(D34)-3, 2) -> 1F | E34: =_xlfn.CONCAT(BIN2HEX(V34), BIN2HEX(W34), " ", BIN2HEX(X34), BIN2HEX(Y34), " ", BIN2HEX(Z34), BIN2HEX(AA34)) -> 00 00 00 | V34: =_xlfn.CONCAT(DEC2BIN(F34), DEC2BIN(G34), DEC2BIN(H34), DEC2BIN(I34)) -> 0000 | W34: =_xlfn.CONCAT(DEC2BIN(IF(ISBLANK(J34), 0, MATCH(J34, 运算选择!$E$2:$E$9, 0) - 1), 3), DEC2BIN(IF(ISBLANK(K34), 0, MATCH(K34, 单列下拉值!$A$2:$A$3, 0) - 1), 1)) -> 0000 | X34: =_xlfn.CONCAT(DEC2BIN(IF(ISBLANK(L34), 0, MATCH(L34, A寄存器选择!$D$2:$D$5, 0) - 1), 2), DEC2BIN(IF(ISBLANK(M34), 0, MATCH(M34, B寄存器选择!$D$2:$D$5, 0) - 1), 2)) -> 0000 | Y34: =_xlfn.CONCAT(DEC2BIN(IF(ISBLANK(N34), 0, MATCH(N34, 单列下拉值!$B$2:$B$3, 0) - 1)), DEC2BIN(IF(ISBLANK(O34), 0, MATCH(O34, 单列下拉值!$C$2:$C$3, 0) - 1)), DEC2BIN(IF(ISBLANK(P34), 0, MATCH(P34, ALU寄存器选择!$D$2:$D$5, 0) - 1), 2)) -> 0000 | Z34: =_xlfn.CONCAT(DEC2BIN(IF(ISBLANK(Q34),0,MATCH(Q34,单列下拉值!$D$2:$D$3,0)-1)), DEC2BIN(IF(ISBLANK(R34), 0, MATCH(R34, CP选择!$E$2:$E$9, 0) - 1), 3)) -> 0000 | AA34: =_xlfn.CONCAT(DEC2BIN(S34), DEC2BIN(IF(ISBLANK(T34), 0, MATCH(T34, 后继微地址形成!$E$2:$E$9, 0) - 1), 3)) -> 0000
A35: LD Ri, AD | B35: PC->MAR, PC+1->PC | C35: PC->B | D35: =DEC2HEX(ROW(D35)-3, 2) -> 20 | E35: =_xlfn.CONCAT(BIN2HEX(V35), BIN2HEX(W35), " ", BIN2HEX(X35), BIN2HEX(Y35), " ", BIN2HEX(Z35), BIN2HEX(AA35)) -> 00 12 01 | M35: B选PC | P35: 存入B寄存器 | T35: μPC加一 | V35: =_xlfn.CONCAT(DEC2BIN(F35), DEC2BIN(G35), DEC2BIN(H35), DEC2BIN(I35)) -> 0000 | W35: =_xlfn.CONCAT(DEC2BIN(IF(ISBLANK(J35), 0, MATCH(J35, 运算选择!$E$2:$E$9, 0) - 1), 3), DEC2BIN(IF(ISBLANK(K35), 0, MATCH(K35, 单列下拉值!$A$2:$A$3, 0) - 1), 1)) -> 0000 | X35: =_xlfn.CONCAT(DEC2BIN(IF(ISBLANK(L35), 0, MATCH(L35, A寄存器选择!$D$2:$D$5, 0) - 1), 2), DEC2BIN(IF(ISBLANK(M35), 0, MATCH(M35, B寄存器选择!$D$2:$D$5, 0) - 1), 2)) -> 0001 | Y35: =_xlfn.CONCAT(DEC2BIN(IF(ISBLANK(N35), 0, MATCH(N35, 单列下拉值!$B$2:$B$3, 0) - 1)), DEC2BIN(IF(ISBLANK(O35), 0, MATCH(O35, 单列下拉值!$C$2:$C$3, 0) - 1)), DEC2BIN(IF(ISBLANK(P35), 0, MATCH(P35, ALU寄存器选择!$D$2:$D$5, 0) - 1), 2)) -> 0010 | Z35: =_xlfn.CONCAT(DEC2BIN(IF(ISBLANK(Q35),0,MATCH(Q35,单列下拉值!$D$2:$D$3,0)-1)), DEC2BIN(IF(ISBLANK(R35), 0, MATCH(R35, CP选择!$E$2:$E$9, 0) - 1), 3)) -> 0000 | AA35: =_xlfn.CONCAT(DEC2BIN(S35), DEC2BIN(IF(ISBLANK(T35), 0, MATCH(T35, 后继微地址形成!$E$2:$E$9, 0) - 1), 3)) -> 0001
C36: 0->A, PC+1->PC | D36: =DEC2HEX(ROW(D36)-3, 2) -> 21 | E36: =_xlfn.CONCAT(BIN2HEX(V36), BIN2HEX(W36), " ", BIN2HEX(X36), BIN2HEX(Y36), " ", BIN2HEX(Z36), BIN2HEX(AA36)) -> 00 01 A1 | L36: A置0 | P36: 存入A寄存器 | Q36: 加一 | R36: CPPC | T36: μPC加一 | V36: =_xlfn.CONCAT(DEC2BIN(F36), DEC2BIN(G36), DEC2BIN(H36), DEC2BIN(I36)) -> 0000 | W36: =_xlfn.CONCAT(DEC2BIN(IF(ISBLANK(J36), 0, MATCH(J36, 运算选择!$E$2:$E$9, 0) - 1), 3), DEC2BIN(IF(ISBLANK(K36), 0, MATCH(K36, 单列下拉值!$A$2:$A$3, 0) - 1), 1)) -> 0000 | X36: =_xlfn.CONCAT(DEC2BIN(IF(ISBLANK(L36), 0, MATCH(L36, A寄存器选择!$D$2:$D$5, 0) - 1), 2), DEC2BIN(IF(ISBLANK(M36), 0, MATCH(M36, B寄存器选择!$D$2:$D$5, 0) - 1), 2)) -> 0000 | Y36: =_xlfn.CONCAT(DEC2BIN(IF(ISBLANK(N36), 0, MATCH(N36, 单列下拉值!$B$2:$B$3, 0) - 1)), DEC2BIN(IF(ISBLANK(O36), 0, MATCH(O36, 单列下拉值!$C$2:$C$3, 0) - 1)), DEC2BIN(IF(ISBLANK(P36), 0, MATCH(P36, ALU寄存器选择!$D$2:$D$5, 0) - 1), 2)) -> 0001 | Z36: =_xlfn.CONCAT(DEC2BIN(IF(ISBLANK(Q36),0,MATCH(Q36,单列下拉值!$D$2:$D$3,0)-1)), DEC2BIN(IF(ISBLANK(R36), 0, MATCH(R36, CP选择!$E$2:$E$9, 0) - 1), 3)) -> 1010 | AA36: =_xlfn.CONCAT(DEC2BIN(S36), DEC2BIN(IF(ISBLANK(T36), 0, MATCH(T36, 后继微地址形成!$E$2:$E$9, 0) - 1), 3)) -> 0001
C37: 0+B->Z | D37: =DEC2HEX(ROW(D37)-3, 2) -> 22 | E37: =_xlfn.CONCAT(BIN2HEX(V37), BIN2HEX(W37), " ", BIN2HEX(X37), BIN2HEX(Y37), " ", BIN2HEX(Z37), BIN2HEX(AA37)) -> 04 03 01 | J37: 无符号加 | P37: 存入Z和PSW | T37: μPC加一 | V37: =_xlfn.CONCAT(DEC2BIN(F37), DEC2BIN(G37), DEC2BIN(H37), DEC2BIN(I37)) -> 0000 | W37: =_xlfn.CONCAT(DEC2BIN(IF(ISBLANK(J37), 0, MATCH(J37, 运算选择!$E$2:$E$9, 0) - 1), 3), DEC2BIN(IF(ISBLANK(K37), 0, MATCH(K37, 单列下拉值!$A$2:$A$3, 0) - 1), 1)) -> 0100 | X37: =_xlfn.CONCAT(DEC2BIN(IF(ISBLANK(L37), 0, MATCH(L37, A寄存器选择!$D$2:$D$5, 0) - 1), 2), DEC2BIN(IF(ISBLANK(M37), 0, MATCH(M37, B寄存器选择!$D$2:$D$5, 0) - 1), 2)) -> 0000 | Y37: =_xlfn.CONCAT(DEC2BIN(IF(ISBLANK(N37), 0, MATCH(N37, 单列下拉值!$B$2:$B$3, 0) - 1)), DEC2BIN(IF(ISBLANK(O37), 0, MATCH(O37, 单列下拉值!$C$2:$C$3, 0) - 1)), DEC2BIN(IF(ISBLANK(P37), 0, MATCH(P37, ALU寄存器选择!$D$2:$D$5, 0) - 1), 2)) -> 0011 | Z37: =_xlfn.CONCAT(DEC2BIN(IF(ISBLANK(Q37),0,MATCH(Q37,单列下拉值!$D$2:$D$3,0)-1)), DEC2BIN(IF(ISBLANK(R37), 0, MATCH(R37, CP选择!$E$2:$E$9, 0) - 1), 3)) -> 0000 | AA37: =_xlfn.CONCAT(DEC2BIN(S37), DEC2BIN(IF(ISBLANK(T37), 0, MATCH(T37, 后继微地址形成!$E$2:$E$9, 0) - 1), 3)) -> 0001
C38: Z->MAR | D38: =DEC2HEX(ROW(D38)-3, 2) -> 23 | E38: =_xlfn.CONCAT(BIN2HEX(V38), BIN2HEX(W38), " ", BIN2HEX(X38), BIN2HEX(Y38), " ", BIN2HEX(Z38), BIN2HEX(AA38)) -> 00 00 41 | R38: CPMAR | T38: μPC加一 | V38: =_xlfn.CONCAT(DEC2BIN(F38), DEC2BIN(G38), DEC2BIN(H38), DEC2BIN(I38)) -> 0000 | W38: =_xlfn.CONCAT(DEC2BIN(IF(ISBLANK(J38), 0, MATCH(J38, 运算选择!$E$2:$E$9, 0) - 1), 3), DEC2BIN(IF(ISBLANK(K38), 0, MATCH(K38, 单列下拉值!$A$2:$A$3, 0) - 1), 1)) -> 0000 | X38: =_xlfn.CONCAT(DEC2BIN(IF(ISBLANK(L38), 0, MATCH(L38, A寄存器选择!$D$2:$D$5, 0) - 1), 2), DEC2BIN(IF(ISBLANK(M38), 0, MATCH(M38, B寄存器选择!$D$2:$D$5, 0) - 1), 2)) -> 0000 | Y38: =_xlfn.CONCAT(DEC2BIN(IF(ISBLANK(N38), 0, MATCH(N38, 单列下拉值!$B$2:$B$3, 0) - 1)), DEC2BIN(IF(ISBLANK(O38), 0, MATCH(O38, 单列下拉值!$C$2:$C$3, 0) - 1)), DEC2BIN(IF(ISBLANK(P38), 0, MATCH(P38, ALU寄存器选择!$D$2:$D$5, 0) - 1), 2)) -> 0000 | Z38: =_xlfn.CONCAT(DEC2BIN(IF(ISBLANK(Q38),0,MATCH(Q38,单列下拉值!$D$2:$D$3,0)-1)), DEC2BIN(IF(ISBLANK(R38), 0, MATCH(R38, CP选择!$E$2:$E$9, 0) - 1), 3)) -> 0100 | AA38: =_xlfn.CONCAT(DEC2BIN(S38), DEC2BIN(IF(ISBLANK(T38), 0, MATCH(T38, 后继微地址形成!$E$2:$E$9, 0) - 1), 3)) -> 0001
C39: 1->R, M(MAR)->MDR | D39: =DEC2HEX(ROW(D39)-3, 2) -> 24 | E39: =_xlfn.CONCAT(BIN2HEX(V39), BIN2HEX(W39), " ", BIN2HEX(X39), BIN2HEX(Y39), " ", BIN2HEX(Z39), BIN2HEX(AA39)) -> 00 04 51 | K39: 内存→MDR | O39: 读 | R39: CPMDR | T39: μPC加一 | V39: =_xlfn.CONCAT(DEC2BIN(F39), DEC2BIN(G39), DEC2BIN(H39), DEC2BIN(I39)) -> 0000 | W39: =_xlfn.CONCAT(DEC2BIN(IF(ISBLANK(J39), 0, MATCH(J39, 运算选择!$E$2:$E$9, 0) - 1), 3), DEC2BIN(IF(ISBLANK(K39), 0, MATCH(K39, 单列下拉值!$A$2:$A$3, 0) - 1), 1)) -> 0000 | X39: =_xlfn.CONCAT(DEC2BIN(IF(ISBLANK(L39), 0, MATCH(L39, A寄存器选择!$D$2:$D$5, 0) - 1), 2), DEC2BIN(IF(ISBLANK(M39), 0, MATCH(M39, B寄存器选择!$D$2:$D$5, 0) - 1), 2)) -> 0000 | Y39: =_xlfn.CONCAT(DEC2BIN(IF(ISBLANK(N39), 0, MATCH(N39, 单列下拉值!$B$2:$B$3, 0) - 1)), DEC2BIN(IF(ISBLANK(O39), 0, MATCH(O39, 单列下拉值!$C$2:$C$3, 0) - 1)), DEC2BIN(IF(ISBLANK(P39), 0, MATCH(P39, ALU寄存器选择!$D$2:$D$5, 0) - 1), 2)) -> 0100 | Z39: =_xlfn.CONCAT(DEC2BIN(IF(ISBLANK(Q39),0,MATCH(Q39,单列下拉值!$D$2:$D$3,0)-1)), DEC2BIN(IF(ISBLANK(R39), 0, MATCH(R39, CP选择!$E$2:$E$9, 0) - 1), 3)) -> 0101 | AA39: =_xlfn.CONCAT(DEC2BIN(S39), DEC2BIN(IF(ISBLANK(T39), 0, MATCH(T39, 后继微地址形成!$E$2:$E$9, 0) - 1), 3)) -> 0001
B40: MDR->MAR | C40: MDR->A | D40: =DEC2HEX(ROW(D40)-3, 2) -> 25 | E40: =_xlfn.CONCAT(BIN2HEX(V40), BIN2HEX(W40), " ", BIN2HEX(X40), BIN2HEX(Y40), " ", BIN2HEX(Z40), BIN2HEX(AA40)) -> 00 41 01 | L40: A选MDR | P40: 存入A寄存器 | T40: μPC加一 | V40: =_xlfn.CONCAT(DEC2BIN(F40), DEC2BIN(G40), DEC2BIN(H40), DEC2BIN(I40)) -> 0000 | W40: =_xlfn.CONCAT(DEC2BIN(IF(ISBLANK(J40), 0, MATCH(J40, 运算选择!$E$2:$E$9, 0) - 1), 3), DEC2BIN(IF(ISBLANK(K40), 0, MATCH(K40, 单列下拉值!$A$2:$A$3, 0) - 1), 1)) -> 0000 | X40: =_xlfn.CONCAT(DEC2BIN(IF(ISBLANK(L40), 0, MATCH(L40, A寄存器选择!$D$2:$D$5, 0) - 1), 2), DEC2BIN(IF(ISBLANK(M40), 0, MATCH(M40, B寄存器选择!$D$2:$D$5, 0) - 1), 2)) -> 0100 | Y40: =_xlfn.CONCAT(DEC2BIN(IF(ISBLANK(N40), 0, MATCH(N40, 单列下拉值!$B$2:$B$3, 0) - 1)), DEC2BIN(IF(ISBLANK(O40), 0, MATCH(O40, 单列下拉值!$C$2:$C$3, 0) - 1)), DEC2BIN(IF(ISBLANK(P40), 0, MATCH(P40, ALU寄存器选择!$D$2:$D$5, 0) - 1), 2)) -> 0001 | Z40: =_xlfn.CONCAT(DEC2BIN(IF(ISBLANK(Q40),0,MATCH(Q40,单列下拉值!$D$2:$D$3,0)-1)), DEC2BIN(IF(ISBLANK(R40), 0, MATCH(R40, CP选择!$E$2:$E$9, 0) - 1), 3)) -> 0000 | AA40: =_xlfn.CONCAT(DEC2BIN(S40), DEC2BIN(IF(ISBLANK(T40), 0, MATCH(T40, 后继微地址形成!$E$2:$E$9, 0) - 1), 3)) -> 0001
...

Sheet 指令列表
A1: 指令 | B1: 参数1 | C1: 参数2 | D1: 指令码 | E1: 描述
A2: STA Ri, AD | B2: R0 | C2: 01 | D2: =_xlfn.CONCAT("1", DEC2HEX(IF(ISBLANK(B2), 0, MATCH(B2, 单列下拉值!$H$1:$H$4, 0) - 1))) -> 10
D3: =C2 -> 01
A4: LD Ri, AD | B4: R1 | C4: 1E | D4: =_xlfn.CONCAT("2", DEC2HEX(IF(ISBLANK(B4), 0, MATCH(B4, 单列下拉值!$H$1:$H$4, 0) - 1))) -> 21
D5: =C4 -> 1E
A6: ADD Ri, Rj | B6: R1 | C6: R2 | D6: =_xlfn.CONCAT("3", DEC2HEX(IF(ISBLANK(B6), 0, MATCH(B6, 单列下拉值!$H$1:$H$4, 0) - 1) * 4 + IF(ISBLANK(C6), 0, MATCH(C6, 单列下拉值!$H$1:$H$4, 0) - 1))) -> 36
A7: HALT | B7: 无 | C7: 无 | D7: 40
A8: JX PSW, AD | B8: C进位 | C8: 01 | D8: =_xlfn.CONCAT("5", DEC2HEX(IF(ISBLANK(B8), 0, MATCH(B8, 单列下拉值!$I$1:$I$4, 0) - 1))) -> 50
D9: =C8 -> 01
A10: SHLC *, Ri | B10: R1 | C10: 无 | D10: =_xlfn.CONCAT("6", DEC2HEX(IF(ISBLANK(B10), 0, MATCH(B10, 单列下拉值!$H$1:$H$4, 0) - 1))) -> 61
A11: SHR *, Ri | B11: R2 | C11: 无 | D11: =_xlfn.CONCAT("7", DEC2HEX(IF(ISBLANK(B11), 0, MATCH(B11, 单列下拉值!$H$1:$H$4, 0) - 1))) -> 72
A12: JP AD | B12: A3 | C12: 无 | D12: 80
D13: =B12 -> A3
A14: SHL *, Ri | B14: R1 | C14: 无 | D14: =_xlfn.CONCAT("9", DEC2HEX(IF(ISBLANK(B14), 0, MATCH(B14, 单列下拉值!$H$1:$H$4, 0) - 1))) -> 91
A15: AND Ri, #Num | B15: R2 | C15: 01 | D15: =_xlfn.CONCAT("A", DEC2HEX(IF(ISBLANK(B15), 0, MATCH(B15, 单列下拉值!$H$1:$H$4, 0) - 1))) -> A2
D16: =C15 -> 01

Sheet 所有程序
A1: 指令 | B1: 参数1 | C1: 参数2 | D1: 指令码 | E1: 内存地址 | J1: 数1地址 | K1: 数2地址 | L1: 结果地址
A2: LD Ri, AD | B2: R0 | C2: =$J$2 -> 1D | D2: =_xlfn.CONCAT("2", DEC2HEX(IF(ISBLANK(B2), 0, MATCH(B2, 单列下拉值!$H$1:$H$4, 0) - 1))) -> 20 | E2: =DEC2HEX(ROW(E2)-2, 2) -> 00 | J2: 1D | K2: 1E | L2: 20
D3: =C2 -> 1D | E3: =DEC2HEX(ROW(E3)-2, 2) -> 01
A4: LD Ri, AD | B4: R1 | C4: =$K$2 -> 1E | D4: =_xlfn.CONCAT("2", DEC2HEX(IF(ISBLANK(B4), 0, MATCH(B4, 单列下拉值!$H$1:$H$4, 0) - 1))) -> 21 | E4: =DEC2HEX(ROW(E4)-2, 2) -> 02
D5: =C4 -> 1E | E5: =DEC2HEX(ROW(E5)-2, 2) -> 03
A6: AND Ri, #Num | B6: R1 | C6: 01 | D6: =_xlfn.CONCAT("A", DEC2HEX(IF(ISBLANK(B6), 0, MATCH(B6, 单列下拉值!$H$1:$H$4, 0) - 1))) -> A1 | E6: =DEC2HEX(ROW(E6)-2, 2) -> 04
D7: =C6 -> 01 | E7: =DEC2HEX(ROW(E7)-2, 2) -> 05
A8: JX PSW, AD | B8: Z零值 | C8: 01 | D8: =_xlfn.CONCAT("5", DEC2HEX(IF(ISBLANK(B8), 0, MATCH(B8, 单列下拉值!$I$1:$I$4, 0) - 1))) -> 53 | E8: =DEC2HEX(ROW(E8)-2, 2) -> 06
D9: =C8 -> 01 | E9: =DEC2HEX(ROW(E9)-2, 2) -> 07
A10: ADD Ri, Rj | B10: R0 | C10: R2 | D10: =_xlfn.CONCAT("3", DEC2HEX(IF(ISBLANK(B10), 0, MATCH(B10, 单列下拉值!$H$1:$H$4, 0) - 1) * 4 + IF(ISBLANK(C10), 0, MATCH(C10, 单列下拉值!$H$1:$H$4, 0) - 1))) -> 32 | E10: =DEC2HEX(ROW(E10)-2, 2) -> 08
A11: SHL *, Ri | B11: R0 | C11: 无 | D11: =_xlfn.CONCAT("9", DEC2HEX(IF(ISBLANK(B11), 0, MATCH(B11, 单列下拉值!$H$1:$H$4, 0) - 1))) -> 90 | E11: =DEC2HEX(ROW(E11)-2, 2) -> 09
A12: SHLC *, Ri | B12: R3 | C12: 无 | D12: =_xlfn.CONCAT("6", DEC2HEX(IF(ISBLANK(B12), 0, MATCH(B12, 单列下拉值!$H$1:$H$4, 0) - 1))) -> 63 | E12: =DEC2HEX(ROW(E12)-2, 2) -> 0A
A13: SHR *, Ri | B13: R1 | C13: 无 | D13: =_xlfn.CONCAT("7", DEC2HEX(IF(ISBLANK(B13), 0, MATCH(B13, 单列下拉值!$H$1:$H$4, 0) - 1))) -> 71 | E13: =DEC2HEX(ROW(E13)-2, 2) -> 0B
A14: JX PSW, AD | B14: Z零值 | C14: 02 | D14: =_xlfn.CONCAT("5", DEC2HEX(IF(ISBLANK(B14), 0, MATCH(B14, 单列下拉值!$I$1:$I$4, 0) - 1))) -> 53 | E14: =DEC2HEX(ROW(E14)-2, 2) -> 0C
D15: =C14 -> 02 | E15: =DEC2HEX(ROW(E15)-2, 2) -> 0D
A16: JP AD | B16: 04 | C16: 无 | D16: 80 | E16: =DEC2HEX(ROW(E16)-2, 2) -> 0E
D17: =B16 -> 04 | E17: =DEC2HEX(ROW(E17)-2, 2) -> 0F
A18: STA Ri, AD | B18: R3 | C18: =$L$2 -> 20 | D18: =_xlfn.CONCAT("1", DEC2HEX(IF(ISBLANK(B18), 0, MATCH(B18, 单列下拉值!$H$1:$H$4, 0) - 1))) -> 13 | E18: =DEC2HEX(ROW(E18)-2, 2) -> 10
D19: =C18 -> 20 | E19: =DEC2HEX(ROW(E19)-2, 2) -> 11
A20: STA Ri, AD | B20: R2 | C20: =DEC2HEX(HEX2DEC($L$2)+1) -> 21 | D20: =_xlfn.CONCAT("1", DEC2HEX(IF(ISBLANK(B20), 0, MATCH(B20, 单列下拉值!$H$1:$H$4, 0) - 1))) -> 12 | E20: =DEC2HEX(ROW(E20)-2, 2) -> 12
D21: =C20 -> 21 | E21: =DEC2HEX(ROW(E21)-2, 2) -> 13
A22: HALT | B22: 无 | C22: 无 | D22: 40 | E22: =DEC2HEX(ROW(E22)-2, 2) -> 14
A25: 指令 | B25: 参数1 | C25: 参数2 | D25: 指令码 | E25: 内存地址
A26: LD Ri, AD | B26: R0 | C26: =$J$2 -> 1D | D26: =_xlfn.CONCAT("2", DEC2HEX(IF(ISBLANK(B26), 0, MATCH(B26, 单列下拉值!$H$1:$H$4, 0) - 1))) -> 20 | E26: =DEC2HEX(ROW(E26)-26, 2) -> 00
D27: =C26 -> 1D | E27: =DEC2HEX(ROW(E27)-26, 2) -> 01
A28: LD Ri, AD | B28: R1 | C28: =$K$2 -> 1E | D28: =_xlfn.CONCAT("2", DEC2HEX(IF(ISBLANK(B28), 0, MATCH(B28, 单列下拉值!$H$1:$H$4, 0) - 1))) -> 21 | E28: =DEC2HEX(ROW(E28)-26, 2) -> 02
D29: =C28 -> 1E | E29: =DEC2HEX(ROW(E29)-26, 2) -> 03
A30: ADD Ri, Rj | B30: R0 | C30: R1 | D30: =_xlfn.CONCAT("3", DEC2HEX(IF(ISBLANK(B30), 0, MATCH(B30, 单列下拉值!$H$1:$H$4, 0) - 1) * 4 + IF(ISBLANK(C30), 0, MATCH(C30, 单列下拉值!$H$1:$H$4, 0) - 1))) -> 31 | E30: =DEC2HEX(ROW(E30)-26, 2) -> 04
A31: STA Ri, AD | B31: R1 | C31: =$L$2 -> 20 | D31: =_xlfn.CONCAT("1", DEC2HEX(IF(ISBLANK(B31), 0, MATCH(B31, 单列下拉值!$H$1:$H$4, 0) - 1))) -> 11 | E31: =DEC2HEX(ROW(E31)-26, 2) -> 05
D32: =C31 -> 20 | E32: =DEC2HEX(ROW(E32)-26, 2) -> 06
A33: HALT | B33: 无 | C33: 无 | D33: 40 | E33: =DEC2HEX(ROW(E33)-26, 2) -> 07
A35: 指令 | B35: 参数1 | C35: 参数2 | D35: 指令码 | E35: 内存地址
A36: LD Ri, AD | B36: R0 | C36: =$J$2 -> 1D | D36: =_xlfn.CONCAT("2", DEC2HEX(IF(ISBLANK(B36), 0, MATCH(B36, 单列下拉值!$H$1:$H$4, 0) - 1))) -> 20 | E36: =DEC2HEX(ROW(E36)-36, 2) -> 00
D37: =C36 -> 1D | E37: =DEC2HEX(ROW(E37)-36, 2) -> 01
A38: LD Ri, AD | B38: R1 | C38: =$K$2 -> 1E | D38: =_xlfn.CONCAT("2", DEC2HEX(IF(ISBLANK(B38), 0, MATCH(B38, 单列下拉值!$H$1:$H$4, 0) - 1))) -> 21 | E38: =DEC2HEX(ROW(E38)-36, 2) -> 02
D39: =C38 -> 1E | E39: =DEC2HEX(ROW(E39)-36, 2) -> 03
A40: ADD Ri, Rj | B40: R0 | C40: R1 | D40: =_xlfn.CONCAT("3", DEC2HEX(IF(ISBLANK(B40), 0, MATCH(B40, 单列下拉值!$H$1:$H$4, 0) - 1) * 4 + IF(ISBLANK(C40), 0, MATCH(C40, 单列下拉值!$H$1:$H$4, 0) - 1))) -> 31 | E40: =DEC2HEX(ROW(E40)-36, 2) -> 04
A41: JX PSW, AD | B41: V溢出 | C41: 02 | D41: =_xlfn.CONCAT("5", DEC2HEX(IF(ISBLANK(B41), 0, MATCH(B41, 单列下拉值!$I$1:$I$4, 0) - 1))) -> 51 | E41: =DEC2HEX(ROW(E41)-36, 2) -> 05
D42: =C41 -> 02 | E42: =DEC2HEX(ROW(E42)-36, 2) -> 06
A43: STA Ri, AD | B43: R1 | C43: =$L$2 -> 20 | D43: =_xlfn.CONCAT("1", DEC2HEX(IF(ISBLANK(B43), 0, MATCH(B43, 单列下拉值!$H$1:$H$4, 0) - 1))) -> 11 | E43: =DEC2HEX(ROW(E43)-36, 2) -> 07
...

Sheet ALU寄存器选择
A1: μIR9 | B1: μIR8 | C1: 引脚 | D1: 描述
A2: 0 | B2: 0 | C2: Y0 | D2: 什么都不存
A3: 0 | B3: 1 | C3: Y1 | D3: 存入A寄存器
A4: 1 | B4: 0 | C4: Y2 | D4: 存入B寄存器
A5: 1 | B5: 1 | C5: Y3 | D5: 存入Z和PSW
A12: 返回主表

Sheet 运算选择
A1: μIR19 | B1: μIR18 | C1: μIR17 | D1: 引脚 | E1: 描述 | F1: shifter
A2: 0 | B2: 0 | C2: 0 | D2: Y0 | E2: 什么都不做
A3: 0 | B3: 0 | C3: 1 | D3: Y1 | E3: 加法 | F3: 直传
A4: 0 | B4: 1 | C4: 0 | D4: Y2 | E4: 无符号加
A5: 0 | B5: 1 | C5: 1 | D5: Y3 | E5: 逻辑与
A6: 1 | B6: 0 | C6: 0 | D6: Y4 | E6: 左移一位 | F6: 左移
A7: 1 | B7: 0 | C7: 1 | D7: Y5 | E7: 左移带进位
A8: 1 | B8: 1 | C8: 0 | D8: Y6 | E8: 右移一位 | F8: 右移
A9: 1 | B9: 1 | C9: 1 | D9: Y7 | E9: 右移带进位
A12: 返回主表

Sheet CP选择
A1: μIR6 | B1: μIR5 | C1: μIR4 | D1: 引脚 | E1: 描述
A2: 0 | B2: 0 | C2: 0 | D2: Y0 | E2: 无CP
A3: 0 | B3: 0 | C3: 1 | D3: Y1 | E3: CP4Reg
A4: 0 | B4: 1 | C4: 0 | D4: Y2 | E4: CPPC
A5: 0 | B5: 1 | C5: 1 | D5: Y3 | E5: CPIR
A6: 1 | B6: 0 | C6: 0 | D6: Y4 | E6: CPMAR
A7: 1 | B7: 0 | C7: 1 | D7: Y5 | E7: CPMDR
A8: 1 | B8: 1 | C8: 0 | D8: Y6 | E8: 备用
A9: 1 | B9: 1 | C9: 1 | D9: Y7 | E9: 备用
A12: 返回主表

Sheet 后继微地址形成
A1: μIR2 | B1: μIR1 | C1: μIR0 | D1: 引脚 | E1: 描述 | F1: 备注
A2: 0 | B2: 0 | C2: 0 | D2: Y0 | E2: 备用
A3: 0 | B3: 0 | C3: 1 | D3: Y1 | E3: μPC加一
A4: 0 | B4: 1 | C4: 0 | D4: Y2 | E4: 无条件跳转至00H
A5: 0 | B5: 1 | C5: 1 | D5: Y3 | E5: 无条件跳转至IR7-4 | F5: 高四位IR7-IR4，低四位为0
A6: 1 | B6: 0 | C6: 0 | D6: Y4 | E6: 程序状态字条件跳转
A7: 1 | B7: 0 | C7: 1 | D7: Y5 | E7: 停机
A8: 1 | B8: 1 | C8: 0 | D8: Y6 | E8: 发生什么事了？
A9: 1 | B9: 1 | C9: 1 | D9: Y7 | E9: 发生什么事了？
E10: 変身
E11: 发生什么事了？
A12: 返回主表 | E12: 发生什么事了？
E13: 释放自我
E14: 哼啊啊啊啊啊——
E15: 走→我→的↗路，假↓面↑骑↑士↓
E16: 贞→贞→贞→贞↗德↘↗

Sheet A寄存器选择
A1: μIR15 | B1: μIR14 | C1: 引脚 | D1: 描述
A2: 0 | B2: 0 | C2: Y0 | D2: A置0
A3: 0 | B3: 1 | C3: Y1 | D3: A选MDR
A4: 1 | B4: 0 | C4: Y2 | D4: A选通用寄存器
A5: 1 | B5: 1 | C5: Y3 | D5: 无效
A12: 返回主表

Sheet B寄存器选择
A1: μIR13 | B1: μIR12 | C1: 引脚 | D1: 描述 | E1: 备注
A2: 0 | B2: 0 | C2: Y0 | D2: B置0
A3: 0 | B3: 1 | C3: Y1 | D3: B选PC
A4: 1 | B4: 0 | C4: Y2 | D4: B选通用寄存器
A5: 1 | B5: 1 | C5: Y3 | D5: 无效
A12: 返回主表

Sheet 单列下拉值
A1: MDR_MEM/BUS | B1: \WR | C1: \RD | D1: PC+1 | H1: R0 | I1: C进位
A2: 内存→MDR | B2: 不写 | C2: 不读 | D2: 总线(Z)->PC | H2: R1 | I2: V溢出
A3: 总线(Z)→MDR&MDR→内存 | B3: 写 | C3: 读 | D3: 加一 | H3: R2 | I3: N负数
H4: R3 | I4: Z零值
